BEGIN:VCALENDAR
VERSION:2.0
PRODID:-//Thomson Lodge No. 340 - ECPv6.15.20//NONSGML v1.0//EN
CALSCALE:GREGORIAN
METHOD:PUBLISH
X-WR-CALNAME:Thomson Lodge No. 340
X-ORIGINAL-URL:https://thomsonlodge.com
X-WR-CALDESC:Events for Thomson Lodge No. 340
REFRESH-INTERVAL;VALUE=DURATION:PT1H
X-Robots-Tag:noindex
X-PUBLISHED-TTL:PT1H
BEGIN:VTIMEZONE
TZID:America/New_York
BEGIN:DAYLIGHT
TZOFFSETFROM:-0500
TZOFFSETTO:-0400
TZNAME:EDT
DTSTART:20220313T070000
END:DAYLIGHT
BEGIN:STANDARD
TZOFFSETFROM:-0400
TZOFFSETTO:-0500
TZNAME:EST
DTSTART:20221106T060000
END:STANDARD
BEGIN:DAYLIGHT
TZOFFSETFROM:-0500
TZOFFSETTO:-0400
TZNAME:EDT
DTSTART:20230312T070000
END:DAYLIGHT
BEGIN:STANDARD
TZOFFSETFROM:-0400
TZOFFSETTO:-0500
TZNAME:EST
DTSTART:20231105T060000
END:STANDARD
BEGIN:DAYLIGHT
TZOFFSETFROM:-0500
TZOFFSETTO:-0400
TZNAME:EDT
DTSTART:20240310T070000
END:DAYLIGHT
BEGIN:STANDARD
TZOFFSETFROM:-0400
TZOFFSETTO:-0500
TZNAME:EST
DTSTART:20241103T060000
END:STANDARD
END:VTIMEZONE
BEGIN:VEVENT
DTSTART;TZID=America/New_York:20231116T190000
DTEND;TZID=America/New_York:20231116T210000
DTSTAMP:20260423T171347
CREATED:20230929T203408Z
LAST-MODIFIED:20230929T203450Z
UID:5160-1700161200-1700168400@thomsonlodge.com
SUMMARY:AUTHOR TOM MCMILLAN: ARMISTEAD & HANCOCK TALK
DESCRIPTION:On Thursday\, November 16th at Oxford Lodge No. 353\, author Tom McMillan will be discussing his book Armistead and Hancock. There is no charge for the event and refreshments will be provided after the presentation. The event is open to both Masons and Non-Masons. Tom’s book may be purchased via Amazon and signed by the author at the event. \nReserve your spot here. \n 
URL:https://thomsonlodge.com/event/author-tom-mcmillan-armistead-hancock-talk/
LOCATION:Oxford Lodge No. 353\, 246 N 3rd Street\, Oxford\, PA\, 19363\, United States
ATTACH;FMTTYPE=image/jpeg:https://thomsonlodge.com/wp-content/uploads/2023/09/Armistead-Hancock.jpg
END:VEVENT
END:VCALENDAR