BEGIN:VCALENDAR
VERSION:2.0
PRODID:-//Thomson Lodge No. 340 - ECPv6.15.20//NONSGML v1.0//EN
CALSCALE:GREGORIAN
METHOD:PUBLISH
X-WR-CALNAME:Thomson Lodge No. 340
X-ORIGINAL-URL:https://thomsonlodge.com
X-WR-CALDESC:Events for Thomson Lodge No. 340
REFRESH-INTERVAL;VALUE=DURATION:PT1H
X-Robots-Tag:noindex
X-PUBLISHED-TTL:PT1H
BEGIN:VTIMEZONE
TZID:America/New_York
BEGIN:DAYLIGHT
TZOFFSETFROM:-0500
TZOFFSETTO:-0400
TZNAME:EDT
DTSTART:20220313T070000
END:DAYLIGHT
BEGIN:STANDARD
TZOFFSETFROM:-0400
TZOFFSETTO:-0500
TZNAME:EST
DTSTART:20221106T060000
END:STANDARD
BEGIN:DAYLIGHT
TZOFFSETFROM:-0500
TZOFFSETTO:-0400
TZNAME:EDT
DTSTART:20230312T070000
END:DAYLIGHT
BEGIN:STANDARD
TZOFFSETFROM:-0400
TZOFFSETTO:-0500
TZNAME:EST
DTSTART:20231105T060000
END:STANDARD
BEGIN:DAYLIGHT
TZOFFSETFROM:-0500
TZOFFSETTO:-0400
TZNAME:EDT
DTSTART:20240310T070000
END:DAYLIGHT
BEGIN:STANDARD
TZOFFSETFROM:-0400
TZOFFSETTO:-0500
TZNAME:EST
DTSTART:20241103T060000
END:STANDARD
END:VTIMEZONE
BEGIN:VEVENT
DTSTART;TZID=America/New_York:20230601T100000
DTEND;TZID=America/New_York:20230601T190000
DTSTAMP:20260423T193232
CREATED:20230121T201834Z
LAST-MODIFIED:20230121T202825Z
UID:10000401-1685613600-1685646000@thomsonlodge.com
SUMMARY:BLOOD DRIVE: LULU SHRINE
DESCRIPTION:LuLu Shriners will be hosting blood drives for the Masonic Blood+Organ Donor Program. \nTo schedule an appointment\, please call:\n1 (800) 733-2767\nUse sponsor code: LuLu \nOr schedule online at:\nredcrossblood.org\nUse sponsor code: LuLu \nProceeds benefit Shriners Children’s.
URL:https://thomsonlodge.com/event/blood-drive-lulu-shrine/2023-06-01/
LOCATION:LuLu Shrine\, 5140 Butler Pike\, Plymouth Meeting\, PA\, 19462\, United States
ATTACH;FMTTYPE=image/jpeg:https://thomsonlodge.com/wp-content/uploads/2023/01/Blood-Donation.jpg
END:VEVENT
END:VCALENDAR