BEGIN:VCALENDAR
VERSION:2.0
PRODID:-//Thomson Lodge No. 340 - ECPv6.15.20//NONSGML v1.0//EN
CALSCALE:GREGORIAN
METHOD:PUBLISH
X-WR-CALNAME:Thomson Lodge No. 340
X-ORIGINAL-URL:https://thomsonlodge.com
X-WR-CALDESC:Events for Thomson Lodge No. 340
REFRESH-INTERVAL;VALUE=DURATION:PT1H
X-Robots-Tag:noindex
X-PUBLISHED-TTL:PT1H
BEGIN:VTIMEZONE
TZID:America/New_York
BEGIN:DAYLIGHT
TZOFFSETFROM:-0500
TZOFFSETTO:-0400
TZNAME:EDT
DTSTART:20220313T070000
END:DAYLIGHT
BEGIN:STANDARD
TZOFFSETFROM:-0400
TZOFFSETTO:-0500
TZNAME:EST
DTSTART:20221106T060000
END:STANDARD
BEGIN:DAYLIGHT
TZOFFSETFROM:-0500
TZOFFSETTO:-0400
TZNAME:EDT
DTSTART:20230312T070000
END:DAYLIGHT
BEGIN:STANDARD
TZOFFSETFROM:-0400
TZOFFSETTO:-0500
TZNAME:EST
DTSTART:20231105T060000
END:STANDARD
BEGIN:DAYLIGHT
TZOFFSETFROM:-0500
TZOFFSETTO:-0400
TZNAME:EDT
DTSTART:20240310T070000
END:DAYLIGHT
BEGIN:STANDARD
TZOFFSETFROM:-0400
TZOFFSETTO:-0500
TZNAME:EST
DTSTART:20241103T060000
END:STANDARD
END:VTIMEZONE
BEGIN:VEVENT
DTSTART;TZID=America/New_York:20230624T173000
DTEND;TZID=America/New_York:20230624T203000
DTSTAMP:20260423T183435
CREATED:20230121T194844Z
LAST-MODIFIED:20230121T205741Z
UID:4555-1687627800-1687638600@thomsonlodge.com
SUMMARY:HAWAIIAN NIGHT: LULU SHRINE
DESCRIPTION:Cost is $45 per person or $400 for 10. \nTickets include: \n\nAuthentic Hawaiian luau entertainment\nBeer\, soda and punch (B.Y.O.B)\nHawaiian buffet\n\nDress is Hawaiian casual. \nPlease mail checks payable to LuLu Shriners by June 16\, 2023 to: \n5140 Butler Pike\nPlymouth Meeting\, PA 19462 \nFor information\, call Steve Morrison at (215) 873-5164.
URL:https://thomsonlodge.com/event/hawaiian-night-lulu-shrine/
LOCATION:LuLu Shrine\, 5140 Butler Pike\, Plymouth Meeting\, PA\, 19462\, United States
ATTACH;FMTTYPE=image/jpeg:https://thomsonlodge.com/wp-content/uploads/2023/01/Hawaiian-Night-1.jpg
END:VEVENT
END:VCALENDAR