BEGIN:VCALENDAR
VERSION:2.0
PRODID:-//Thomson Lodge No. 340 - ECPv6.15.20//NONSGML v1.0//EN
CALSCALE:GREGORIAN
METHOD:PUBLISH
X-WR-CALNAME:Thomson Lodge No. 340
X-ORIGINAL-URL:https://thomsonlodge.com
X-WR-CALDESC:Events for Thomson Lodge No. 340
REFRESH-INTERVAL;VALUE=DURATION:PT1H
X-Robots-Tag:noindex
X-PUBLISHED-TTL:PT1H
BEGIN:VTIMEZONE
TZID:America/New_York
BEGIN:DAYLIGHT
TZOFFSETFROM:-0500
TZOFFSETTO:-0400
TZNAME:EDT
DTSTART:20220313T070000
END:DAYLIGHT
BEGIN:STANDARD
TZOFFSETFROM:-0400
TZOFFSETTO:-0500
TZNAME:EST
DTSTART:20221106T060000
END:STANDARD
BEGIN:DAYLIGHT
TZOFFSETFROM:-0500
TZOFFSETTO:-0400
TZNAME:EDT
DTSTART:20230312T070000
END:DAYLIGHT
BEGIN:STANDARD
TZOFFSETFROM:-0400
TZOFFSETTO:-0500
TZNAME:EST
DTSTART:20231105T060000
END:STANDARD
BEGIN:DAYLIGHT
TZOFFSETFROM:-0500
TZOFFSETTO:-0400
TZNAME:EDT
DTSTART:20240310T070000
END:DAYLIGHT
BEGIN:STANDARD
TZOFFSETFROM:-0400
TZOFFSETTO:-0500
TZNAME:EST
DTSTART:20241103T060000
END:STANDARD
END:VTIMEZONE
BEGIN:VEVENT
DTSTART;TZID=America/New_York:20230318T083000
DTEND;TZID=America/New_York:20230318T150000
DTSTAMP:20260423T193156
CREATED:20221213T145631Z
LAST-MODIFIED:20230128T204209Z
UID:2408-1679128200-1679151600@thomsonlodge.com
SUMMARY:SPRING 2023 SYMPOSIUM OF THE ACADEMY OF MASONIC KNOWLEDGE
DESCRIPTION:The Spring 2023 Symposium of the Academy of Masonic Knowledge will be held on Saturday\, March 18\, at the Masonic Temple in Philadelphia. Registration will open at 8:30 a.m.\, with the program beginning at 9:30 a.m. A lunch (for a requested contribution of $10) will be served at noon\, and the program will be completed by 3 p.m. All Masons are welcome to attend. Dress is coat and tie \nPre-register at PaMasonicAcademy.org/meetings or through your lodge secretary. Please recognize that a cost is incurred to the program for your registration. If you pre-register and subsequently determine that you will be unable to attend\, please have the Masonic courtesy to cancel your reservation by emailing amksecretary@pagrandlodge.org. \nUnable to attend in person? A live stream of the symposium will be available on the Grand Lodge of Pennsylvania YouTube channel\, and those viewing remotely may ask questions of the presenters via the live stream chat feature\, the Academy Facebook group and Reddit.
URL:https://thomsonlodge.com/event/spring-2023-symposium-of-the-academy-of-masonic-knowledge/
LOCATION:Grand Lodge of Pennsylvania Masonic Temple\, 1 North Broad Street\, Philadelphia\, PA\, 19107\, United States
ATTACH;FMTTYPE=image/jpeg:https://thomsonlodge.com/wp-content/uploads/2022/12/Academy-of-Masonic-Knowledge.jpg
END:VEVENT
END:VCALENDAR