BEGIN:VCALENDAR
VERSION:2.0
PRODID:-//Thomson Lodge No. 340 - ECPv6.15.20//NONSGML v1.0//EN
CALSCALE:GREGORIAN
METHOD:PUBLISH
X-WR-CALNAME:Thomson Lodge No. 340
X-ORIGINAL-URL:https://thomsonlodge.com
X-WR-CALDESC:Events for Thomson Lodge No. 340
REFRESH-INTERVAL;VALUE=DURATION:PT1H
X-Robots-Tag:noindex
X-PUBLISHED-TTL:PT1H
BEGIN:VTIMEZONE
TZID:America/New_York
BEGIN:DAYLIGHT
TZOFFSETFROM:-0500
TZOFFSETTO:-0400
TZNAME:EDT
DTSTART:20220313T070000
END:DAYLIGHT
BEGIN:STANDARD
TZOFFSETFROM:-0400
TZOFFSETTO:-0500
TZNAME:EST
DTSTART:20221106T060000
END:STANDARD
BEGIN:DAYLIGHT
TZOFFSETFROM:-0500
TZOFFSETTO:-0400
TZNAME:EDT
DTSTART:20230312T070000
END:DAYLIGHT
BEGIN:STANDARD
TZOFFSETFROM:-0400
TZOFFSETTO:-0500
TZNAME:EST
DTSTART:20231105T060000
END:STANDARD
BEGIN:DAYLIGHT
TZOFFSETFROM:-0500
TZOFFSETTO:-0400
TZNAME:EDT
DTSTART:20240310T070000
END:DAYLIGHT
BEGIN:STANDARD
TZOFFSETFROM:-0400
TZOFFSETTO:-0500
TZNAME:EST
DTSTART:20241103T060000
END:STANDARD
END:VTIMEZONE
BEGIN:VEVENT
DTSTART;TZID=America/New_York:20230212T170000
DTEND;TZID=America/New_York:20230212T230000
DTSTAMP:20260423T183435
CREATED:20230121T193036Z
LAST-MODIFIED:20230121T204503Z
UID:4552-1676221200-1676242800@thomsonlodge.com
SUMMARY:SUPER BOWL PARTY: LULU SHRINE
DESCRIPTION:Cost is $30 per person in advance or $35 per person at the door. \nTickets include: \n\nProfessionally catered hot and cold buffet — all you can eat\nBeer\, soda and water — all you can drink\nGigantic new wide screen projection screen\nThere will also be a 50/50 raffle and a squares game\n\nFor information\, call Carl at (215) 723-2806\, or email inraddad@aol.com. \n 
URL:https://thomsonlodge.com/event/super-bowl-party-lulu-shrine/
LOCATION:LuLu Shrine\, 5140 Butler Pike\, Plymouth Meeting\, PA\, 19462\, United States
ATTACH;FMTTYPE=image/jpeg:https://thomsonlodge.com/wp-content/uploads/2023/01/Super-Bowl.jpg
END:VEVENT
END:VCALENDAR