BEGIN:VCALENDAR
VERSION:2.0
PRODID:-//Thomson Lodge No. 340 - ECPv6.15.20//NONSGML v1.0//EN
CALSCALE:GREGORIAN
METHOD:PUBLISH
X-WR-CALNAME:Thomson Lodge No. 340
X-ORIGINAL-URL:https://thomsonlodge.com
X-WR-CALDESC:Events for Thomson Lodge No. 340
REFRESH-INTERVAL;VALUE=DURATION:PT1H
X-Robots-Tag:noindex
X-PUBLISHED-TTL:PT1H
BEGIN:VTIMEZONE
TZID:America/New_York
BEGIN:DAYLIGHT
TZOFFSETFROM:-0500
TZOFFSETTO:-0400
TZNAME:EDT
DTSTART:20220313T070000
END:DAYLIGHT
BEGIN:STANDARD
TZOFFSETFROM:-0400
TZOFFSETTO:-0500
TZNAME:EST
DTSTART:20221106T060000
END:STANDARD
BEGIN:DAYLIGHT
TZOFFSETFROM:-0500
TZOFFSETTO:-0400
TZNAME:EDT
DTSTART:20230312T070000
END:DAYLIGHT
BEGIN:STANDARD
TZOFFSETFROM:-0400
TZOFFSETTO:-0500
TZNAME:EST
DTSTART:20231105T060000
END:STANDARD
BEGIN:DAYLIGHT
TZOFFSETFROM:-0500
TZOFFSETTO:-0400
TZNAME:EDT
DTSTART:20240310T070000
END:DAYLIGHT
BEGIN:STANDARD
TZOFFSETFROM:-0400
TZOFFSETTO:-0500
TZNAME:EST
DTSTART:20241103T060000
END:STANDARD
END:VTIMEZONE
BEGIN:VEVENT
DTSTART;TZID=America/New_York:20230212T170000
DTEND;TZID=America/New_York:20230212T220000
DTSTAMP:20260423T202124
CREATED:20230203T181030Z
LAST-MODIFIED:20230203T181030Z
UID:5074-1676221200-1676239200@thomsonlodge.com
SUMMARY:SUPERBOWL WATCH PARTY: WILLIAMSON LODGE NO. 309
DESCRIPTION:Please join us at Williamson Lodge No. 309 for a Super Bowl watch party. This event is pot luck style. \nPlease comment here with what main dish\, dessert\, side or beverage you are bringing to enjoy.
URL:https://thomsonlodge.com/event/superbowl-watch-party-williamson-lodge-no-309/
LOCATION:Williamson Lodge No. 309\, 210 Manor Avenue\, Downingtown\, PA\, 19335\, United States
ATTACH;FMTTYPE=image/jpeg:https://thomsonlodge.com/wp-content/uploads/2023/02/Superbowl-Party.jpg
END:VEVENT
END:VCALENDAR