BEGIN:VCALENDAR
VERSION:2.0
PRODID:-//Thomson Lodge No. 340 - ECPv6.15.20//NONSGML v1.0//EN
CALSCALE:GREGORIAN
METHOD:PUBLISH
X-WR-CALNAME:Thomson Lodge No. 340
X-ORIGINAL-URL:https://thomsonlodge.com
X-WR-CALDESC:Events for Thomson Lodge No. 340
REFRESH-INTERVAL;VALUE=DURATION:PT1H
X-Robots-Tag:noindex
X-PUBLISHED-TTL:PT1H
BEGIN:VTIMEZONE
TZID:America/New_York
BEGIN:DAYLIGHT
TZOFFSETFROM:-0500
TZOFFSETTO:-0400
TZNAME:EDT
DTSTART:20220313T070000
END:DAYLIGHT
BEGIN:STANDARD
TZOFFSETFROM:-0400
TZOFFSETTO:-0500
TZNAME:EST
DTSTART:20221106T060000
END:STANDARD
BEGIN:DAYLIGHT
TZOFFSETFROM:-0500
TZOFFSETTO:-0400
TZNAME:EDT
DTSTART:20230312T070000
END:DAYLIGHT
BEGIN:STANDARD
TZOFFSETFROM:-0400
TZOFFSETTO:-0500
TZNAME:EST
DTSTART:20231105T060000
END:STANDARD
BEGIN:DAYLIGHT
TZOFFSETFROM:-0500
TZOFFSETTO:-0400
TZNAME:EDT
DTSTART:20240310T070000
END:DAYLIGHT
BEGIN:STANDARD
TZOFFSETFROM:-0400
TZOFFSETTO:-0500
TZNAME:EST
DTSTART:20241103T060000
END:STANDARD
END:VTIMEZONE
BEGIN:VEVENT
DTSTART;TZID=America/New_York:20230211T183000
DTEND;TZID=America/New_York:20230211T213000
DTSTAMP:20260423T173433
CREATED:20230121T191904Z
LAST-MODIFIED:20230121T204546Z
UID:4549-1676140200-1676151000@thomsonlodge.com
SUMMARY:VALENTINE'S PARTY: LULU SHRINE
DESCRIPTION:Cost is $35 per person or $65 per couple. \nTickets include: \n\nPTG Catering buffet\nOpen bar\nMusic\nEntertainment\nInteractive fun\, and\nSweetheart gift\n\nDress is coat and tie. \nIf you have questions\, call Finky at (610) 633-3333. RSVP by February 7th. \nMake checks payable to LuLu Shriners and mail to: \n5140 Butler Pike\nPlymouth Meeting\, PA 19462 \nOr call office at (610) 828-9050 for credit card payments. \n 
URL:https://thomsonlodge.com/event/valentines-party-lulu-shrine/
LOCATION:LuLu Shrine\, 5140 Butler Pike\, Plymouth Meeting\, PA\, 19462\, United States
ATTACH;FMTTYPE=image/jpeg:https://thomsonlodge.com/wp-content/uploads/2023/01/Valentines-Day-Party-1.jpg
END:VEVENT
END:VCALENDAR