BEGIN:VCALENDAR
VERSION:2.0
PRODID:-//Thomson Lodge No. 340 - ECPv6.15.20//NONSGML v1.0//EN
CALSCALE:GREGORIAN
METHOD:PUBLISH
X-WR-CALNAME:Thomson Lodge No. 340
X-ORIGINAL-URL:https://thomsonlodge.com
X-WR-CALDESC:Events for Thomson Lodge No. 340
REFRESH-INTERVAL;VALUE=DURATION:PT1H
X-Robots-Tag:noindex
X-PUBLISHED-TTL:PT1H
BEGIN:VTIMEZONE
TZID:America/New_York
BEGIN:DAYLIGHT
TZOFFSETFROM:-0500
TZOFFSETTO:-0400
TZNAME:EDT
DTSTART:20220313T070000
END:DAYLIGHT
BEGIN:STANDARD
TZOFFSETFROM:-0400
TZOFFSETTO:-0500
TZNAME:EST
DTSTART:20221106T060000
END:STANDARD
BEGIN:DAYLIGHT
TZOFFSETFROM:-0500
TZOFFSETTO:-0400
TZNAME:EDT
DTSTART:20230312T070000
END:DAYLIGHT
BEGIN:STANDARD
TZOFFSETFROM:-0400
TZOFFSETTO:-0500
TZNAME:EST
DTSTART:20231105T060000
END:STANDARD
BEGIN:DAYLIGHT
TZOFFSETFROM:-0500
TZOFFSETTO:-0400
TZNAME:EDT
DTSTART:20240310T070000
END:DAYLIGHT
BEGIN:STANDARD
TZOFFSETFROM:-0400
TZOFFSETTO:-0500
TZNAME:EST
DTSTART:20241103T060000
END:STANDARD
END:VTIMEZONE
BEGIN:VEVENT
DTSTART;TZID=America/New_York:20230408T200000
DTEND;TZID=America/New_York:20230408T220000
DTSTAMP:20260423T172926
CREATED:20230310T203434Z
LAST-MODIFIED:20230310T204307Z
UID:5101-1680984000-1680991200@thomsonlodge.com
SUMMARY:VALLEY OF PHILADELPHIA COMEDY NIGHT — BENEFITING PHILABUNDANCE
DESCRIPTION:You are invited to the “first-ever” Valley of Philadelphia Comedy Night\, featuring the stylings of Joe Conklin\, benefiting Philabundance and recognizing those Brethren who have served the Valley of Philadelphia over the past year and our New Members since 2022. \nTICKETS ARE $50 EACH (plus credit card processing fee of approximately 6%) \nTicket price includes sandwiches\, sides\, iced tea and coffee are included. \nCash bar is available. \nDRESS\nBusiness Casual \nHURRY – RESERVATIONS CLOSE FOR ALL ON MARCH 30\, 2023. \nYOU MUST PRINT OUT AND BRING THE TICKET(S) FROM YOUR CONFIRMATION EMAIL TO BE ADMITTED! \nPurchase tickets here.
URL:https://thomsonlodge.com/event/valley-of-philadelphia-comedy-night-benefiting-philabundance/
LOCATION:Lazzaretto’s Ballroom\, 99 Wanamaker Avenue\, Essington\, PA\, 19029\, United States
ATTACH;FMTTYPE=image/jpeg:https://thomsonlodge.com/wp-content/uploads/2023/03/Joe-Conklin.jpg
END:VEVENT
END:VCALENDAR