BEGIN:VCALENDAR
VERSION:2.0
PRODID:-//Thomson Lodge No. 340 - ECPv6.15.20//NONSGML v1.0//EN
CALSCALE:GREGORIAN
METHOD:PUBLISH
X-WR-CALNAME:Thomson Lodge No. 340
X-ORIGINAL-URL:https://thomsonlodge.com
X-WR-CALDESC:Events for Thomson Lodge No. 340
REFRESH-INTERVAL;VALUE=DURATION:PT1H
X-Robots-Tag:noindex
X-PUBLISHED-TTL:PT1H
BEGIN:VTIMEZONE
TZID:America/New_York
BEGIN:DAYLIGHT
TZOFFSETFROM:-0500
TZOFFSETTO:-0400
TZNAME:EDT
DTSTART:20210314T070000
END:DAYLIGHT
BEGIN:STANDARD
TZOFFSETFROM:-0400
TZOFFSETTO:-0500
TZNAME:EST
DTSTART:20211107T060000
END:STANDARD
BEGIN:DAYLIGHT
TZOFFSETFROM:-0500
TZOFFSETTO:-0400
TZNAME:EDT
DTSTART:20220313T070000
END:DAYLIGHT
BEGIN:STANDARD
TZOFFSETFROM:-0400
TZOFFSETTO:-0500
TZNAME:EST
DTSTART:20221106T060000
END:STANDARD
BEGIN:DAYLIGHT
TZOFFSETFROM:-0500
TZOFFSETTO:-0400
TZNAME:EDT
DTSTART:20230312T070000
END:DAYLIGHT
BEGIN:STANDARD
TZOFFSETFROM:-0400
TZOFFSETTO:-0500
TZNAME:EST
DTSTART:20231105T060000
END:STANDARD
END:VTIMEZONE
BEGIN:VEVENT
DTSTART;TZID=America/New_York:20221213T193000
DTEND;TZID=America/New_York:20221213T213000
DTSTAMP:20260423T173625
CREATED:20221128T053021Z
LAST-MODIFIED:20221231T231721Z
UID:1141-1670959800-1670967000@thomsonlodge.com
SUMMARY:VISITATION: LAFAYETTE LODGE NO. 14
DESCRIPTION:If you’d like to attend\, please contact Eric Downs\, DDGM to RSVP.
URL:https://thomsonlodge.com/event/visitation-lafayette-lodge-no-14/
LOCATION:Lafayette Lodge No. 14\, 2016 Faulk Road\, Wilmington\, DE\, 19810\, United States
ATTACH;FMTTYPE=image/jpeg:https://thomsonlodge.com/wp-content/uploads/2022/11/IMG_0071.jpg
END:VEVENT
END:VCALENDAR