BEGIN:VCALENDAR
VERSION:2.0
PRODID:-//Thomson Lodge No. 340 - ECPv6.15.20//NONSGML v1.0//EN
CALSCALE:GREGORIAN
METHOD:PUBLISH
X-WR-CALNAME:Thomson Lodge No. 340
X-ORIGINAL-URL:https://thomsonlodge.com
X-WR-CALDESC:Events for Thomson Lodge No. 340
REFRESH-INTERVAL;VALUE=DURATION:PT1H
X-Robots-Tag:noindex
X-PUBLISHED-TTL:PT1H
BEGIN:VTIMEZONE
TZID:America/New_York
BEGIN:DAYLIGHT
TZOFFSETFROM:-0500
TZOFFSETTO:-0400
TZNAME:EDT
DTSTART:20250309T070000
END:DAYLIGHT
BEGIN:STANDARD
TZOFFSETFROM:-0400
TZOFFSETTO:-0500
TZNAME:EST
DTSTART:20251102T060000
END:STANDARD
BEGIN:DAYLIGHT
TZOFFSETFROM:-0500
TZOFFSETTO:-0400
TZNAME:EDT
DTSTART:20260308T070000
END:DAYLIGHT
BEGIN:STANDARD
TZOFFSETFROM:-0400
TZOFFSETTO:-0500
TZNAME:EST
DTSTART:20261101T060000
END:STANDARD
BEGIN:DAYLIGHT
TZOFFSETFROM:-0500
TZOFFSETTO:-0400
TZNAME:EDT
DTSTART:20270314T070000
END:DAYLIGHT
BEGIN:STANDARD
TZOFFSETFROM:-0400
TZOFFSETTO:-0500
TZNAME:EST
DTSTART:20271107T060000
END:STANDARD
END:VTIMEZONE
BEGIN:VEVENT
DTSTART;TZID=America/New_York:20260425T083000
DTEND;TZID=America/New_York:20260425T100000
DTSTAMP:20260423T064616
CREATED:20230119T152014Z
LAST-MODIFIED:20240115T210344Z
UID:10000303-1777105800-1777111200@thomsonlodge.com
SUMMARY:LODGE OF INSTRUCTION
DESCRIPTION:Please join us for coffee\, donuts and study. We will practice and review the Work\, including Degrees and Business of the Lodge. \nThis is open to any Brother within the district. \n 
URL:https://thomsonlodge.com/event/masonic-instruction-degrees-ceremonies-and-business/2026-04-25/
LOCATION:Thomson Lodge No. 340\, 19 South Valley Road\, Paoli\, PA\, 19301\, United States
ATTACH;FMTTYPE=image/jpeg:https://thomsonlodge.com/wp-content/uploads/2023/01/Masonic-Instruction-3.jpg
END:VEVENT
BEGIN:VEVENT
DTSTART;TZID=America/New_York:20260502T083000
DTEND;TZID=America/New_York:20260502T100000
DTSTAMP:20260423T064616
CREATED:20230119T152014Z
LAST-MODIFIED:20240115T210344Z
UID:10000304-1777710600-1777716000@thomsonlodge.com
SUMMARY:LODGE OF INSTRUCTION
DESCRIPTION:Please join us for coffee\, donuts and study. We will practice and review the Work\, including Degrees and Business of the Lodge. \nThis is open to any Brother within the district. \n 
URL:https://thomsonlodge.com/event/masonic-instruction-degrees-ceremonies-and-business/2026-05-02/
LOCATION:Thomson Lodge No. 340\, 19 South Valley Road\, Paoli\, PA\, 19301\, United States
ATTACH;FMTTYPE=image/jpeg:https://thomsonlodge.com/wp-content/uploads/2023/01/Masonic-Instruction-3.jpg
END:VEVENT
BEGIN:VEVENT
DTSTART;TZID=America/New_York:20260506T190000
DTEND;TZID=America/New_York:20260506T203000
DTSTAMP:20260423T064616
CREATED:20240209T200901Z
LAST-MODIFIED:20240209T200901Z
UID:10000609-1778094000-1778099400@thomsonlodge.com
SUMMARY:ESOTERIC KNOWLEDGE DISCUSSION
DESCRIPTION:
URL:https://thomsonlodge.com/event/esoteric-knowledge-discussion-3/2026-05-06/
LOCATION:Thomson Lodge No. 340\, 19 South Valley Road\, Paoli\, PA\, 19301\, United States
ATTACH;FMTTYPE=image/jpeg:https://thomsonlodge.com/wp-content/uploads/2023/12/Esoteric-Discussion.jpg
END:VEVENT
BEGIN:VEVENT
DTSTART;TZID=America/New_York:20260509T083000
DTEND;TZID=America/New_York:20260509T100000
DTSTAMP:20260423T064616
CREATED:20230119T152014Z
LAST-MODIFIED:20240115T210344Z
UID:10000305-1778315400-1778320800@thomsonlodge.com
SUMMARY:LODGE OF INSTRUCTION
DESCRIPTION:Please join us for coffee\, donuts and study. We will practice and review the Work\, including Degrees and Business of the Lodge. \nThis is open to any Brother within the district. \n 
URL:https://thomsonlodge.com/event/masonic-instruction-degrees-ceremonies-and-business/2026-05-09/
LOCATION:Thomson Lodge No. 340\, 19 South Valley Road\, Paoli\, PA\, 19301\, United States
ATTACH;FMTTYPE=image/jpeg:https://thomsonlodge.com/wp-content/uploads/2023/01/Masonic-Instruction-3.jpg
END:VEVENT
BEGIN:VEVENT
DTSTART;TZID=America/New_York:20260516T083000
DTEND;TZID=America/New_York:20260516T100000
DTSTAMP:20260423T064616
CREATED:20230119T152014Z
LAST-MODIFIED:20240115T210344Z
UID:10000306-1778920200-1778925600@thomsonlodge.com
SUMMARY:LODGE OF INSTRUCTION
DESCRIPTION:Please join us for coffee\, donuts and study. We will practice and review the Work\, including Degrees and Business of the Lodge. \nThis is open to any Brother within the district. \n 
URL:https://thomsonlodge.com/event/masonic-instruction-degrees-ceremonies-and-business/2026-05-16/
LOCATION:Thomson Lodge No. 340\, 19 South Valley Road\, Paoli\, PA\, 19301\, United States
ATTACH;FMTTYPE=image/jpeg:https://thomsonlodge.com/wp-content/uploads/2023/01/Masonic-Instruction-3.jpg
END:VEVENT
BEGIN:VEVENT
DTSTART;TZID=America/New_York:20260523T083000
DTEND;TZID=America/New_York:20260523T100000
DTSTAMP:20260423T064616
CREATED:20230119T152014Z
LAST-MODIFIED:20240115T210344Z
UID:10000307-1779525000-1779530400@thomsonlodge.com
SUMMARY:LODGE OF INSTRUCTION
DESCRIPTION:Please join us for coffee\, donuts and study. We will practice and review the Work\, including Degrees and Business of the Lodge. \nThis is open to any Brother within the district. \n 
URL:https://thomsonlodge.com/event/masonic-instruction-degrees-ceremonies-and-business/2026-05-23/
LOCATION:Thomson Lodge No. 340\, 19 South Valley Road\, Paoli\, PA\, 19301\, United States
ATTACH;FMTTYPE=image/jpeg:https://thomsonlodge.com/wp-content/uploads/2023/01/Masonic-Instruction-3.jpg
END:VEVENT
BEGIN:VEVENT
DTSTART;TZID=America/New_York:20260530T083000
DTEND;TZID=America/New_York:20260530T100000
DTSTAMP:20260423T064616
CREATED:20230119T152014Z
LAST-MODIFIED:20240115T210344Z
UID:10000308-1780129800-1780135200@thomsonlodge.com
SUMMARY:LODGE OF INSTRUCTION
DESCRIPTION:Please join us for coffee\, donuts and study. We will practice and review the Work\, including Degrees and Business of the Lodge. \nThis is open to any Brother within the district. \n 
URL:https://thomsonlodge.com/event/masonic-instruction-degrees-ceremonies-and-business/2026-05-30/
LOCATION:Thomson Lodge No. 340\, 19 South Valley Road\, Paoli\, PA\, 19301\, United States
ATTACH;FMTTYPE=image/jpeg:https://thomsonlodge.com/wp-content/uploads/2023/01/Masonic-Instruction-3.jpg
END:VEVENT
BEGIN:VEVENT
DTSTART;TZID=America/New_York:20260603T190000
DTEND;TZID=America/New_York:20260603T203000
DTSTAMP:20260423T064616
CREATED:20240209T200901Z
LAST-MODIFIED:20240209T200901Z
UID:10000610-1780513200-1780518600@thomsonlodge.com
SUMMARY:ESOTERIC KNOWLEDGE DISCUSSION
DESCRIPTION:
URL:https://thomsonlodge.com/event/esoteric-knowledge-discussion-3/2026-06-03/
LOCATION:Thomson Lodge No. 340\, 19 South Valley Road\, Paoli\, PA\, 19301\, United States
ATTACH;FMTTYPE=image/jpeg:https://thomsonlodge.com/wp-content/uploads/2023/12/Esoteric-Discussion.jpg
END:VEVENT
BEGIN:VEVENT
DTSTART;TZID=America/New_York:20260606T083000
DTEND;TZID=America/New_York:20260606T100000
DTSTAMP:20260423T064616
CREATED:20230119T152014Z
LAST-MODIFIED:20240115T210344Z
UID:10000309-1780734600-1780740000@thomsonlodge.com
SUMMARY:LODGE OF INSTRUCTION
DESCRIPTION:Please join us for coffee\, donuts and study. We will practice and review the Work\, including Degrees and Business of the Lodge. \nThis is open to any Brother within the district. \n 
URL:https://thomsonlodge.com/event/masonic-instruction-degrees-ceremonies-and-business/2026-06-06/
LOCATION:Thomson Lodge No. 340\, 19 South Valley Road\, Paoli\, PA\, 19301\, United States
ATTACH;FMTTYPE=image/jpeg:https://thomsonlodge.com/wp-content/uploads/2023/01/Masonic-Instruction-3.jpg
END:VEVENT
BEGIN:VEVENT
DTSTART;TZID=America/New_York:20260613T083000
DTEND;TZID=America/New_York:20260613T100000
DTSTAMP:20260423T064616
CREATED:20230119T152014Z
LAST-MODIFIED:20240115T210344Z
UID:10000310-1781339400-1781344800@thomsonlodge.com
SUMMARY:LODGE OF INSTRUCTION
DESCRIPTION:Please join us for coffee\, donuts and study. We will practice and review the Work\, including Degrees and Business of the Lodge. \nThis is open to any Brother within the district. \n 
URL:https://thomsonlodge.com/event/masonic-instruction-degrees-ceremonies-and-business/2026-06-13/
LOCATION:Thomson Lodge No. 340\, 19 South Valley Road\, Paoli\, PA\, 19301\, United States
ATTACH;FMTTYPE=image/jpeg:https://thomsonlodge.com/wp-content/uploads/2023/01/Masonic-Instruction-3.jpg
END:VEVENT
BEGIN:VEVENT
DTSTART;TZID=America/New_York:20260620T083000
DTEND;TZID=America/New_York:20260620T100000
DTSTAMP:20260423T064616
CREATED:20230119T152014Z
LAST-MODIFIED:20240115T210344Z
UID:10000311-1781944200-1781949600@thomsonlodge.com
SUMMARY:LODGE OF INSTRUCTION
DESCRIPTION:Please join us for coffee\, donuts and study. We will practice and review the Work\, including Degrees and Business of the Lodge. \nThis is open to any Brother within the district. \n 
URL:https://thomsonlodge.com/event/masonic-instruction-degrees-ceremonies-and-business/2026-06-20/
LOCATION:Thomson Lodge No. 340\, 19 South Valley Road\, Paoli\, PA\, 19301\, United States
ATTACH;FMTTYPE=image/jpeg:https://thomsonlodge.com/wp-content/uploads/2023/01/Masonic-Instruction-3.jpg
END:VEVENT
BEGIN:VEVENT
DTSTART;TZID=America/New_York:20260627T083000
DTEND;TZID=America/New_York:20260627T100000
DTSTAMP:20260423T064616
CREATED:20230119T152014Z
LAST-MODIFIED:20240115T210344Z
UID:10000312-1782549000-1782554400@thomsonlodge.com
SUMMARY:LODGE OF INSTRUCTION
DESCRIPTION:Please join us for coffee\, donuts and study. We will practice and review the Work\, including Degrees and Business of the Lodge. \nThis is open to any Brother within the district. \n 
URL:https://thomsonlodge.com/event/masonic-instruction-degrees-ceremonies-and-business/2026-06-27/
LOCATION:Thomson Lodge No. 340\, 19 South Valley Road\, Paoli\, PA\, 19301\, United States
ATTACH;FMTTYPE=image/jpeg:https://thomsonlodge.com/wp-content/uploads/2023/01/Masonic-Instruction-3.jpg
END:VEVENT
BEGIN:VEVENT
DTSTART;TZID=America/New_York:20260701T190000
DTEND;TZID=America/New_York:20260701T203000
DTSTAMP:20260423T064616
CREATED:20240209T200901Z
LAST-MODIFIED:20240209T200901Z
UID:10000611-1782932400-1782937800@thomsonlodge.com
SUMMARY:ESOTERIC KNOWLEDGE DISCUSSION
DESCRIPTION:
URL:https://thomsonlodge.com/event/esoteric-knowledge-discussion-3/2026-07-01/
LOCATION:Thomson Lodge No. 340\, 19 South Valley Road\, Paoli\, PA\, 19301\, United States
ATTACH;FMTTYPE=image/jpeg:https://thomsonlodge.com/wp-content/uploads/2023/12/Esoteric-Discussion.jpg
END:VEVENT
BEGIN:VEVENT
DTSTART;TZID=America/New_York:20260704T083000
DTEND;TZID=America/New_York:20260704T100000
DTSTAMP:20260423T064616
CREATED:20230119T152014Z
LAST-MODIFIED:20240115T210344Z
UID:10000313-1783153800-1783159200@thomsonlodge.com
SUMMARY:LODGE OF INSTRUCTION
DESCRIPTION:Please join us for coffee\, donuts and study. We will practice and review the Work\, including Degrees and Business of the Lodge. \nThis is open to any Brother within the district. \n 
URL:https://thomsonlodge.com/event/masonic-instruction-degrees-ceremonies-and-business/2026-07-04/
LOCATION:Thomson Lodge No. 340\, 19 South Valley Road\, Paoli\, PA\, 19301\, United States
ATTACH;FMTTYPE=image/jpeg:https://thomsonlodge.com/wp-content/uploads/2023/01/Masonic-Instruction-3.jpg
END:VEVENT
BEGIN:VEVENT
DTSTART;TZID=America/New_York:20260711T083000
DTEND;TZID=America/New_York:20260711T100000
DTSTAMP:20260423T064616
CREATED:20230119T152014Z
LAST-MODIFIED:20240115T210344Z
UID:10000314-1783758600-1783764000@thomsonlodge.com
SUMMARY:LODGE OF INSTRUCTION
DESCRIPTION:Please join us for coffee\, donuts and study. We will practice and review the Work\, including Degrees and Business of the Lodge. \nThis is open to any Brother within the district. \n 
URL:https://thomsonlodge.com/event/masonic-instruction-degrees-ceremonies-and-business/2026-07-11/
LOCATION:Thomson Lodge No. 340\, 19 South Valley Road\, Paoli\, PA\, 19301\, United States
ATTACH;FMTTYPE=image/jpeg:https://thomsonlodge.com/wp-content/uploads/2023/01/Masonic-Instruction-3.jpg
END:VEVENT
BEGIN:VEVENT
DTSTART;TZID=America/New_York:20260718T083000
DTEND;TZID=America/New_York:20260718T100000
DTSTAMP:20260423T064616
CREATED:20230119T152014Z
LAST-MODIFIED:20240115T210344Z
UID:10000315-1784363400-1784368800@thomsonlodge.com
SUMMARY:LODGE OF INSTRUCTION
DESCRIPTION:Please join us for coffee\, donuts and study. We will practice and review the Work\, including Degrees and Business of the Lodge. \nThis is open to any Brother within the district. \n 
URL:https://thomsonlodge.com/event/masonic-instruction-degrees-ceremonies-and-business/2026-07-18/
LOCATION:Thomson Lodge No. 340\, 19 South Valley Road\, Paoli\, PA\, 19301\, United States
ATTACH;FMTTYPE=image/jpeg:https://thomsonlodge.com/wp-content/uploads/2023/01/Masonic-Instruction-3.jpg
END:VEVENT
BEGIN:VEVENT
DTSTART;TZID=America/New_York:20260725T083000
DTEND;TZID=America/New_York:20260725T100000
DTSTAMP:20260423T064616
CREATED:20230119T152014Z
LAST-MODIFIED:20240115T210344Z
UID:10000316-1784968200-1784973600@thomsonlodge.com
SUMMARY:LODGE OF INSTRUCTION
DESCRIPTION:Please join us for coffee\, donuts and study. We will practice and review the Work\, including Degrees and Business of the Lodge. \nThis is open to any Brother within the district. \n 
URL:https://thomsonlodge.com/event/masonic-instruction-degrees-ceremonies-and-business/2026-07-25/
LOCATION:Thomson Lodge No. 340\, 19 South Valley Road\, Paoli\, PA\, 19301\, United States
ATTACH;FMTTYPE=image/jpeg:https://thomsonlodge.com/wp-content/uploads/2023/01/Masonic-Instruction-3.jpg
END:VEVENT
BEGIN:VEVENT
DTSTART;TZID=America/New_York:20260801T083000
DTEND;TZID=America/New_York:20260801T100000
DTSTAMP:20260423T064616
CREATED:20230119T152014Z
LAST-MODIFIED:20240115T210344Z
UID:10000317-1785573000-1785578400@thomsonlodge.com
SUMMARY:LODGE OF INSTRUCTION
DESCRIPTION:Please join us for coffee\, donuts and study. We will practice and review the Work\, including Degrees and Business of the Lodge. \nThis is open to any Brother within the district. \n 
URL:https://thomsonlodge.com/event/masonic-instruction-degrees-ceremonies-and-business/2026-08-01/
LOCATION:Thomson Lodge No. 340\, 19 South Valley Road\, Paoli\, PA\, 19301\, United States
ATTACH;FMTTYPE=image/jpeg:https://thomsonlodge.com/wp-content/uploads/2023/01/Masonic-Instruction-3.jpg
END:VEVENT
BEGIN:VEVENT
DTSTART;TZID=America/New_York:20260805T190000
DTEND;TZID=America/New_York:20260805T203000
DTSTAMP:20260423T064616
CREATED:20240209T200901Z
LAST-MODIFIED:20240209T200901Z
UID:10000612-1785956400-1785961800@thomsonlodge.com
SUMMARY:ESOTERIC KNOWLEDGE DISCUSSION
DESCRIPTION:
URL:https://thomsonlodge.com/event/esoteric-knowledge-discussion-3/2026-08-05/
LOCATION:Thomson Lodge No. 340\, 19 South Valley Road\, Paoli\, PA\, 19301\, United States
ATTACH;FMTTYPE=image/jpeg:https://thomsonlodge.com/wp-content/uploads/2023/12/Esoteric-Discussion.jpg
END:VEVENT
BEGIN:VEVENT
DTSTART;TZID=America/New_York:20260808T083000
DTEND;TZID=America/New_York:20260808T100000
DTSTAMP:20260423T064616
CREATED:20230119T152014Z
LAST-MODIFIED:20240115T210344Z
UID:10000318-1786177800-1786183200@thomsonlodge.com
SUMMARY:LODGE OF INSTRUCTION
DESCRIPTION:Please join us for coffee\, donuts and study. We will practice and review the Work\, including Degrees and Business of the Lodge. \nThis is open to any Brother within the district. \n 
URL:https://thomsonlodge.com/event/masonic-instruction-degrees-ceremonies-and-business/2026-08-08/
LOCATION:Thomson Lodge No. 340\, 19 South Valley Road\, Paoli\, PA\, 19301\, United States
ATTACH;FMTTYPE=image/jpeg:https://thomsonlodge.com/wp-content/uploads/2023/01/Masonic-Instruction-3.jpg
END:VEVENT
BEGIN:VEVENT
DTSTART;TZID=America/New_York:20260815T083000
DTEND;TZID=America/New_York:20260815T100000
DTSTAMP:20260423T064616
CREATED:20230119T152014Z
LAST-MODIFIED:20240115T210344Z
UID:10000319-1786782600-1786788000@thomsonlodge.com
SUMMARY:LODGE OF INSTRUCTION
DESCRIPTION:Please join us for coffee\, donuts and study. We will practice and review the Work\, including Degrees and Business of the Lodge. \nThis is open to any Brother within the district. \n 
URL:https://thomsonlodge.com/event/masonic-instruction-degrees-ceremonies-and-business/2026-08-15/
LOCATION:Thomson Lodge No. 340\, 19 South Valley Road\, Paoli\, PA\, 19301\, United States
ATTACH;FMTTYPE=image/jpeg:https://thomsonlodge.com/wp-content/uploads/2023/01/Masonic-Instruction-3.jpg
END:VEVENT
BEGIN:VEVENT
DTSTART;TZID=America/New_York:20260822T083000
DTEND;TZID=America/New_York:20260822T100000
DTSTAMP:20260423T064616
CREATED:20230119T152014Z
LAST-MODIFIED:20240115T210344Z
UID:10000320-1787387400-1787392800@thomsonlodge.com
SUMMARY:LODGE OF INSTRUCTION
DESCRIPTION:Please join us for coffee\, donuts and study. We will practice and review the Work\, including Degrees and Business of the Lodge. \nThis is open to any Brother within the district. \n 
URL:https://thomsonlodge.com/event/masonic-instruction-degrees-ceremonies-and-business/2026-08-22/
LOCATION:Thomson Lodge No. 340\, 19 South Valley Road\, Paoli\, PA\, 19301\, United States
ATTACH;FMTTYPE=image/jpeg:https://thomsonlodge.com/wp-content/uploads/2023/01/Masonic-Instruction-3.jpg
END:VEVENT
BEGIN:VEVENT
DTSTART;TZID=America/New_York:20260829T083000
DTEND;TZID=America/New_York:20260829T100000
DTSTAMP:20260423T064616
CREATED:20230119T152014Z
LAST-MODIFIED:20240115T210344Z
UID:10000321-1787992200-1787997600@thomsonlodge.com
SUMMARY:LODGE OF INSTRUCTION
DESCRIPTION:Please join us for coffee\, donuts and study. We will practice and review the Work\, including Degrees and Business of the Lodge. \nThis is open to any Brother within the district. \n 
URL:https://thomsonlodge.com/event/masonic-instruction-degrees-ceremonies-and-business/2026-08-29/
LOCATION:Thomson Lodge No. 340\, 19 South Valley Road\, Paoli\, PA\, 19301\, United States
ATTACH;FMTTYPE=image/jpeg:https://thomsonlodge.com/wp-content/uploads/2023/01/Masonic-Instruction-3.jpg
END:VEVENT
BEGIN:VEVENT
DTSTART;TZID=America/New_York:20260902T190000
DTEND;TZID=America/New_York:20260902T203000
DTSTAMP:20260423T064616
CREATED:20240209T200901Z
LAST-MODIFIED:20240209T200901Z
UID:10000613-1788375600-1788381000@thomsonlodge.com
SUMMARY:ESOTERIC KNOWLEDGE DISCUSSION
DESCRIPTION:
URL:https://thomsonlodge.com/event/esoteric-knowledge-discussion-3/2026-09-02/
LOCATION:Thomson Lodge No. 340\, 19 South Valley Road\, Paoli\, PA\, 19301\, United States
ATTACH;FMTTYPE=image/jpeg:https://thomsonlodge.com/wp-content/uploads/2023/12/Esoteric-Discussion.jpg
END:VEVENT
BEGIN:VEVENT
DTSTART;TZID=America/New_York:20260905T083000
DTEND;TZID=America/New_York:20260905T100000
DTSTAMP:20260423T064616
CREATED:20230119T152014Z
LAST-MODIFIED:20240115T210344Z
UID:10000322-1788597000-1788602400@thomsonlodge.com
SUMMARY:LODGE OF INSTRUCTION
DESCRIPTION:Please join us for coffee\, donuts and study. We will practice and review the Work\, including Degrees and Business of the Lodge. \nThis is open to any Brother within the district. \n 
URL:https://thomsonlodge.com/event/masonic-instruction-degrees-ceremonies-and-business/2026-09-05/
LOCATION:Thomson Lodge No. 340\, 19 South Valley Road\, Paoli\, PA\, 19301\, United States
ATTACH;FMTTYPE=image/jpeg:https://thomsonlodge.com/wp-content/uploads/2023/01/Masonic-Instruction-3.jpg
END:VEVENT
BEGIN:VEVENT
DTSTART;TZID=America/New_York:20260912T083000
DTEND;TZID=America/New_York:20260912T100000
DTSTAMP:20260423T064616
CREATED:20230119T152014Z
LAST-MODIFIED:20240115T210344Z
UID:10000323-1789201800-1789207200@thomsonlodge.com
SUMMARY:LODGE OF INSTRUCTION
DESCRIPTION:Please join us for coffee\, donuts and study. We will practice and review the Work\, including Degrees and Business of the Lodge. \nThis is open to any Brother within the district. \n 
URL:https://thomsonlodge.com/event/masonic-instruction-degrees-ceremonies-and-business/2026-09-12/
LOCATION:Thomson Lodge No. 340\, 19 South Valley Road\, Paoli\, PA\, 19301\, United States
ATTACH;FMTTYPE=image/jpeg:https://thomsonlodge.com/wp-content/uploads/2023/01/Masonic-Instruction-3.jpg
END:VEVENT
BEGIN:VEVENT
DTSTART;TZID=America/New_York:20260919T083000
DTEND;TZID=America/New_York:20260919T100000
DTSTAMP:20260423T064616
CREATED:20230119T152014Z
LAST-MODIFIED:20240115T210344Z
UID:10000324-1789806600-1789812000@thomsonlodge.com
SUMMARY:LODGE OF INSTRUCTION
DESCRIPTION:Please join us for coffee\, donuts and study. We will practice and review the Work\, including Degrees and Business of the Lodge. \nThis is open to any Brother within the district. \n 
URL:https://thomsonlodge.com/event/masonic-instruction-degrees-ceremonies-and-business/2026-09-19/
LOCATION:Thomson Lodge No. 340\, 19 South Valley Road\, Paoli\, PA\, 19301\, United States
ATTACH;FMTTYPE=image/jpeg:https://thomsonlodge.com/wp-content/uploads/2023/01/Masonic-Instruction-3.jpg
END:VEVENT
BEGIN:VEVENT
DTSTART;TZID=America/New_York:20260926T083000
DTEND;TZID=America/New_York:20260926T100000
DTSTAMP:20260423T064616
CREATED:20230119T152014Z
LAST-MODIFIED:20240115T210344Z
UID:10000325-1790411400-1790416800@thomsonlodge.com
SUMMARY:LODGE OF INSTRUCTION
DESCRIPTION:Please join us for coffee\, donuts and study. We will practice and review the Work\, including Degrees and Business of the Lodge. \nThis is open to any Brother within the district. \n 
URL:https://thomsonlodge.com/event/masonic-instruction-degrees-ceremonies-and-business/2026-09-26/
LOCATION:Thomson Lodge No. 340\, 19 South Valley Road\, Paoli\, PA\, 19301\, United States
ATTACH;FMTTYPE=image/jpeg:https://thomsonlodge.com/wp-content/uploads/2023/01/Masonic-Instruction-3.jpg
END:VEVENT
BEGIN:VEVENT
DTSTART;TZID=America/New_York:20261003T083000
DTEND;TZID=America/New_York:20261003T100000
DTSTAMP:20260423T064616
CREATED:20230119T152014Z
LAST-MODIFIED:20240115T210344Z
UID:10000326-1791016200-1791021600@thomsonlodge.com
SUMMARY:LODGE OF INSTRUCTION
DESCRIPTION:Please join us for coffee\, donuts and study. We will practice and review the Work\, including Degrees and Business of the Lodge. \nThis is open to any Brother within the district. \n 
URL:https://thomsonlodge.com/event/masonic-instruction-degrees-ceremonies-and-business/2026-10-03/
LOCATION:Thomson Lodge No. 340\, 19 South Valley Road\, Paoli\, PA\, 19301\, United States
ATTACH;FMTTYPE=image/jpeg:https://thomsonlodge.com/wp-content/uploads/2023/01/Masonic-Instruction-3.jpg
END:VEVENT
BEGIN:VEVENT
DTSTART;TZID=America/New_York:20261007T190000
DTEND;TZID=America/New_York:20261007T203000
DTSTAMP:20260423T064616
CREATED:20240209T200901Z
LAST-MODIFIED:20240209T200901Z
UID:10000614-1791399600-1791405000@thomsonlodge.com
SUMMARY:ESOTERIC KNOWLEDGE DISCUSSION
DESCRIPTION:
URL:https://thomsonlodge.com/event/esoteric-knowledge-discussion-3/2026-10-07/
LOCATION:Thomson Lodge No. 340\, 19 South Valley Road\, Paoli\, PA\, 19301\, United States
ATTACH;FMTTYPE=image/jpeg:https://thomsonlodge.com/wp-content/uploads/2023/12/Esoteric-Discussion.jpg
END:VEVENT
END:VCALENDAR