BEGIN:VCALENDAR
VERSION:2.0
PRODID:-//Thomson Lodge No. 340 - ECPv6.15.20//NONSGML v1.0//EN
CALSCALE:GREGORIAN
METHOD:PUBLISH
X-WR-CALNAME:Thomson Lodge No. 340
X-ORIGINAL-URL:https://thomsonlodge.com
X-WR-CALDESC:Events for Thomson Lodge No. 340
REFRESH-INTERVAL;VALUE=DURATION:PT1H
X-Robots-Tag:noindex
X-PUBLISHED-TTL:PT1H
BEGIN:VTIMEZONE
TZID:America/New_York
BEGIN:DAYLIGHT
TZOFFSETFROM:-0500
TZOFFSETTO:-0400
TZNAME:EDT
DTSTART:20230312T070000
END:DAYLIGHT
BEGIN:STANDARD
TZOFFSETFROM:-0400
TZOFFSETTO:-0500
TZNAME:EST
DTSTART:20231105T060000
END:STANDARD
BEGIN:DAYLIGHT
TZOFFSETFROM:-0500
TZOFFSETTO:-0400
TZNAME:EDT
DTSTART:20240310T070000
END:DAYLIGHT
BEGIN:STANDARD
TZOFFSETFROM:-0400
TZOFFSETTO:-0500
TZNAME:EST
DTSTART:20241103T060000
END:STANDARD
BEGIN:DAYLIGHT
TZOFFSETFROM:-0500
TZOFFSETTO:-0400
TZNAME:EDT
DTSTART:20250309T070000
END:DAYLIGHT
BEGIN:STANDARD
TZOFFSETFROM:-0400
TZOFFSETTO:-0500
TZNAME:EST
DTSTART:20251102T060000
END:STANDARD
END:VTIMEZONE
BEGIN:VEVENT
DTSTART;TZID=America/New_York:20240914T083000
DTEND;TZID=America/New_York:20240914T100000
DTSTAMP:20260424T163024
CREATED:20230119T152014Z
LAST-MODIFIED:20240115T210344Z
UID:10000219-1726302600-1726308000@thomsonlodge.com
SUMMARY:LODGE OF INSTRUCTION
DESCRIPTION:Please join us for coffee\, donuts and study. We will practice and review the Work\, including Degrees and Business of the Lodge. \nThis is open to any Brother within the district. \n 
URL:https://thomsonlodge.com/event/masonic-instruction-degrees-ceremonies-and-business/2024-09-14/
LOCATION:Thomson Lodge No. 340\, 19 South Valley Road\, Paoli\, PA\, 19301\, United States
ATTACH;FMTTYPE=image/jpeg:https://thomsonlodge.com/wp-content/uploads/2023/01/Masonic-Instruction-3.jpg
END:VEVENT
BEGIN:VEVENT
DTSTART;TZID=America/New_York:20240911T183000
DTEND;TZID=America/New_York:20240911T210000
DTSTAMP:20260424T163024
CREATED:20231229T191158Z
LAST-MODIFIED:20231229T231308Z
UID:10000442-1726079400-1726088400@thomsonlodge.com
SUMMARY:STATED MEETING: GEOMETRY IN MASONRY
DESCRIPTION:Dinner will be served at 6:30 pm in the Social Hall at the Thomson Masonic Temple. \nStated meeting immediately following.
URL:https://thomsonlodge.com/event/stated-meeting-september-2024/
LOCATION:Thomson Lodge No. 340\, 19 South Valley Road\, Paoli\, PA\, 19301\, United States
ATTACH;FMTTYPE=image/jpeg:https://thomsonlodge.com/wp-content/uploads/2022/11/Stated-Meeting.jpg
END:VEVENT
BEGIN:VEVENT
DTSTART;TZID=America/New_York:20240909T183000
DTEND;TZID=America/New_York:20240909T200000
DTSTAMP:20260424T163024
CREATED:20231230T015000Z
LAST-MODIFIED:20231230T015000Z
UID:10000464-1725906600-1725912000@thomsonlodge.com
SUMMARY:DISTRICT SCHOOL OF INSTRUCTION
DESCRIPTION:
URL:https://thomsonlodge.com/event/district-school-of-instruction-16/
LOCATION:Brandywine-Goddard Lodge No. 383\, 360 East Lincoln Highway\, Coatesville\, PA\, 19320\, United States
ATTACH;FMTTYPE=image/jpeg:https://thomsonlodge.com/wp-content/uploads/2022/11/IMG_0070.jpg
END:VEVENT
BEGIN:VEVENT
DTSTART;TZID=America/New_York:20240907T083000
DTEND;TZID=America/New_York:20240907T100000
DTSTAMP:20260424T163024
CREATED:20230119T152014Z
LAST-MODIFIED:20240115T210344Z
UID:10000218-1725697800-1725703200@thomsonlodge.com
SUMMARY:LODGE OF INSTRUCTION
DESCRIPTION:Please join us for coffee\, donuts and study. We will practice and review the Work\, including Degrees and Business of the Lodge. \nThis is open to any Brother within the district. \n 
URL:https://thomsonlodge.com/event/masonic-instruction-degrees-ceremonies-and-business/2024-09-07/
LOCATION:Thomson Lodge No. 340\, 19 South Valley Road\, Paoli\, PA\, 19301\, United States
ATTACH;FMTTYPE=image/jpeg:https://thomsonlodge.com/wp-content/uploads/2023/01/Masonic-Instruction-3.jpg
END:VEVENT
BEGIN:VEVENT
DTSTART;TZID=America/New_York:20240904T190000
DTEND;TZID=America/New_York:20240904T203000
DTSTAMP:20260424T163024
CREATED:20240209T200901Z
LAST-MODIFIED:20240209T200901Z
UID:10000589-1725476400-1725481800@thomsonlodge.com
SUMMARY:ESOTERIC KNOWLEDGE DISCUSSION
DESCRIPTION:
URL:https://thomsonlodge.com/event/esoteric-knowledge-discussion-3/2024-09-04/
LOCATION:Thomson Lodge No. 340\, 19 South Valley Road\, Paoli\, PA\, 19301\, United States
ATTACH;FMTTYPE=image/jpeg:https://thomsonlodge.com/wp-content/uploads/2023/12/Esoteric-Discussion.jpg
END:VEVENT
BEGIN:VEVENT
DTSTART;TZID=America/New_York:20240903T190000
DTEND;TZID=America/New_York:20240903T210000
DTSTAMP:20260424T163024
CREATED:20231218T194524Z
LAST-MODIFIED:20231218T194524Z
UID:10000426-1725390000-1725397200@thomsonlodge.com
SUMMARY:DISTRICT VISITATION: BRANDYWINE-GODDARD LODGE NO. 383
DESCRIPTION:
URL:https://thomsonlodge.com/event/district-visitation-brandywine-goddard-lodge-no-383-2/
LOCATION:Brandywine-Goddard Lodge No. 383\, 360 East Lincoln Highway\, Coatesville\, PA\, 19320\, United States
ATTACH;FMTTYPE=image/jpeg:https://thomsonlodge.com/wp-content/uploads/2022/11/IMG_0070.jpg
END:VEVENT
BEGIN:VEVENT
DTSTART;TZID=America/New_York:20240831T083000
DTEND;TZID=America/New_York:20240831T100000
DTSTAMP:20260424T163024
CREATED:20230119T152014Z
LAST-MODIFIED:20240115T210344Z
UID:10000217-1725093000-1725098400@thomsonlodge.com
SUMMARY:LODGE OF INSTRUCTION
DESCRIPTION:Please join us for coffee\, donuts and study. We will practice and review the Work\, including Degrees and Business of the Lodge. \nThis is open to any Brother within the district. \n 
URL:https://thomsonlodge.com/event/masonic-instruction-degrees-ceremonies-and-business/2024-08-31/
LOCATION:Thomson Lodge No. 340\, 19 South Valley Road\, Paoli\, PA\, 19301\, United States
ATTACH;FMTTYPE=image/jpeg:https://thomsonlodge.com/wp-content/uploads/2023/01/Masonic-Instruction-3.jpg
END:VEVENT
BEGIN:VEVENT
DTSTART;TZID=America/New_York:20240824T083000
DTEND;TZID=America/New_York:20240824T100000
DTSTAMP:20260424T163024
CREATED:20230119T152014Z
LAST-MODIFIED:20240115T210344Z
UID:10000216-1724488200-1724493600@thomsonlodge.com
SUMMARY:LODGE OF INSTRUCTION
DESCRIPTION:Please join us for coffee\, donuts and study. We will practice and review the Work\, including Degrees and Business of the Lodge. \nThis is open to any Brother within the district. \n 
URL:https://thomsonlodge.com/event/masonic-instruction-degrees-ceremonies-and-business/2024-08-24/
LOCATION:Thomson Lodge No. 340\, 19 South Valley Road\, Paoli\, PA\, 19301\, United States
ATTACH;FMTTYPE=image/jpeg:https://thomsonlodge.com/wp-content/uploads/2023/01/Masonic-Instruction-3.jpg
END:VEVENT
BEGIN:VEVENT
DTSTART;TZID=America/New_York:20240817T083000
DTEND;TZID=America/New_York:20240817T100000
DTSTAMP:20260424T163024
CREATED:20230119T152014Z
LAST-MODIFIED:20240115T210344Z
UID:10000215-1723883400-1723888800@thomsonlodge.com
SUMMARY:LODGE OF INSTRUCTION
DESCRIPTION:Please join us for coffee\, donuts and study. We will practice and review the Work\, including Degrees and Business of the Lodge. \nThis is open to any Brother within the district. \n 
URL:https://thomsonlodge.com/event/masonic-instruction-degrees-ceremonies-and-business/2024-08-17/
LOCATION:Thomson Lodge No. 340\, 19 South Valley Road\, Paoli\, PA\, 19301\, United States
ATTACH;FMTTYPE=image/jpeg:https://thomsonlodge.com/wp-content/uploads/2023/01/Masonic-Instruction-3.jpg
END:VEVENT
BEGIN:VEVENT
DTSTART;TZID=America/New_York:20240811T130000
DTEND;TZID=America/New_York:20240811T180000
DTSTAMP:20260424T163024
CREATED:20231230T001615Z
LAST-MODIFIED:20231230T001615Z
UID:10000448-1723381200-1723399200@thomsonlodge.com
SUMMARY:5TH MASONIC DISTRICT PICNIC
DESCRIPTION:
URL:https://thomsonlodge.com/event/5th-masonic-district-picnic/
LOCATION:DDGM’s House\, 1 Rockford Crossing Drive\, Kennett Square\, PA\, 19348\, United States
ATTACH;FMTTYPE=image/jpeg:https://thomsonlodge.com/wp-content/uploads/2022/12/Picnic.jpg
END:VEVENT
BEGIN:VEVENT
DTSTART;TZID=America/New_York:20240810T083000
DTEND;TZID=America/New_York:20240810T100000
DTSTAMP:20260424T163024
CREATED:20230119T152014Z
LAST-MODIFIED:20240115T210344Z
UID:10000214-1723278600-1723284000@thomsonlodge.com
SUMMARY:LODGE OF INSTRUCTION
DESCRIPTION:Please join us for coffee\, donuts and study. We will practice and review the Work\, including Degrees and Business of the Lodge. \nThis is open to any Brother within the district. \n 
URL:https://thomsonlodge.com/event/masonic-instruction-degrees-ceremonies-and-business/2024-08-10/
LOCATION:Thomson Lodge No. 340\, 19 South Valley Road\, Paoli\, PA\, 19301\, United States
ATTACH;FMTTYPE=image/jpeg:https://thomsonlodge.com/wp-content/uploads/2023/01/Masonic-Instruction-3.jpg
END:VEVENT
BEGIN:VEVENT
DTSTART;TZID=America/New_York:20240807T190000
DTEND;TZID=America/New_York:20240807T203000
DTSTAMP:20260424T163024
CREATED:20240209T200901Z
LAST-MODIFIED:20240209T200901Z
UID:10000588-1723057200-1723062600@thomsonlodge.com
SUMMARY:ESOTERIC KNOWLEDGE DISCUSSION
DESCRIPTION:
URL:https://thomsonlodge.com/event/esoteric-knowledge-discussion-3/2024-08-07/
LOCATION:Thomson Lodge No. 340\, 19 South Valley Road\, Paoli\, PA\, 19301\, United States
ATTACH;FMTTYPE=image/jpeg:https://thomsonlodge.com/wp-content/uploads/2023/12/Esoteric-Discussion.jpg
END:VEVENT
BEGIN:VEVENT
DTSTART;TZID=America/New_York:20240803T083000
DTEND;TZID=America/New_York:20240803T100000
DTSTAMP:20260424T163024
CREATED:20230119T152014Z
LAST-MODIFIED:20240115T210344Z
UID:10000213-1722673800-1722679200@thomsonlodge.com
SUMMARY:LODGE OF INSTRUCTION
DESCRIPTION:Please join us for coffee\, donuts and study. We will practice and review the Work\, including Degrees and Business of the Lodge. \nThis is open to any Brother within the district. \n 
URL:https://thomsonlodge.com/event/masonic-instruction-degrees-ceremonies-and-business/2024-08-03/
LOCATION:Thomson Lodge No. 340\, 19 South Valley Road\, Paoli\, PA\, 19301\, United States
ATTACH;FMTTYPE=image/jpeg:https://thomsonlodge.com/wp-content/uploads/2023/01/Masonic-Instruction-3.jpg
END:VEVENT
BEGIN:VEVENT
DTSTART;TZID=America/New_York:20240727T083000
DTEND;TZID=America/New_York:20240727T100000
DTSTAMP:20260424T163024
CREATED:20230119T152014Z
LAST-MODIFIED:20240115T210344Z
UID:10000212-1722069000-1722074400@thomsonlodge.com
SUMMARY:LODGE OF INSTRUCTION
DESCRIPTION:Please join us for coffee\, donuts and study. We will practice and review the Work\, including Degrees and Business of the Lodge. \nThis is open to any Brother within the district. \n 
URL:https://thomsonlodge.com/event/masonic-instruction-degrees-ceremonies-and-business/2024-07-27/
LOCATION:Thomson Lodge No. 340\, 19 South Valley Road\, Paoli\, PA\, 19301\, United States
ATTACH;FMTTYPE=image/jpeg:https://thomsonlodge.com/wp-content/uploads/2023/01/Masonic-Instruction-3.jpg
END:VEVENT
BEGIN:VEVENT
DTSTART;TZID=America/New_York:20240720T083000
DTEND;TZID=America/New_York:20240720T100000
DTSTAMP:20260424T163024
CREATED:20230119T152014Z
LAST-MODIFIED:20240115T210344Z
UID:10000211-1721464200-1721469600@thomsonlodge.com
SUMMARY:LODGE OF INSTRUCTION
DESCRIPTION:Please join us for coffee\, donuts and study. We will practice and review the Work\, including Degrees and Business of the Lodge. \nThis is open to any Brother within the district. \n 
URL:https://thomsonlodge.com/event/masonic-instruction-degrees-ceremonies-and-business/2024-07-20/
LOCATION:Thomson Lodge No. 340\, 19 South Valley Road\, Paoli\, PA\, 19301\, United States
ATTACH;FMTTYPE=image/jpeg:https://thomsonlodge.com/wp-content/uploads/2023/01/Masonic-Instruction-3.jpg
END:VEVENT
BEGIN:VEVENT
DTSTART;TZID=America/New_York:20240713T083000
DTEND;TZID=America/New_York:20240713T100000
DTSTAMP:20260424T163024
CREATED:20230119T152014Z
LAST-MODIFIED:20240115T210344Z
UID:10000210-1720859400-1720864800@thomsonlodge.com
SUMMARY:LODGE OF INSTRUCTION
DESCRIPTION:Please join us for coffee\, donuts and study. We will practice and review the Work\, including Degrees and Business of the Lodge. \nThis is open to any Brother within the district. \n 
URL:https://thomsonlodge.com/event/masonic-instruction-degrees-ceremonies-and-business/2024-07-13/
LOCATION:Thomson Lodge No. 340\, 19 South Valley Road\, Paoli\, PA\, 19301\, United States
ATTACH;FMTTYPE=image/jpeg:https://thomsonlodge.com/wp-content/uploads/2023/01/Masonic-Instruction-3.jpg
END:VEVENT
BEGIN:VEVENT
DTSTART;TZID=America/New_York:20240706T083000
DTEND;TZID=America/New_York:20240706T100000
DTSTAMP:20260424T163024
CREATED:20230119T152014Z
LAST-MODIFIED:20240115T210344Z
UID:10000209-1720254600-1720260000@thomsonlodge.com
SUMMARY:LODGE OF INSTRUCTION
DESCRIPTION:Please join us for coffee\, donuts and study. We will practice and review the Work\, including Degrees and Business of the Lodge. \nThis is open to any Brother within the district. \n 
URL:https://thomsonlodge.com/event/masonic-instruction-degrees-ceremonies-and-business/2024-07-06/
LOCATION:Thomson Lodge No. 340\, 19 South Valley Road\, Paoli\, PA\, 19301\, United States
ATTACH;FMTTYPE=image/jpeg:https://thomsonlodge.com/wp-content/uploads/2023/01/Masonic-Instruction-3.jpg
END:VEVENT
BEGIN:VEVENT
DTSTART;TZID=America/New_York:20240703T190000
DTEND;TZID=America/New_York:20240703T203000
DTSTAMP:20260424T163024
CREATED:20240209T200901Z
LAST-MODIFIED:20240209T200901Z
UID:10000587-1720033200-1720038600@thomsonlodge.com
SUMMARY:ESOTERIC KNOWLEDGE DISCUSSION
DESCRIPTION:
URL:https://thomsonlodge.com/event/esoteric-knowledge-discussion-3/2024-07-03/
LOCATION:Thomson Lodge No. 340\, 19 South Valley Road\, Paoli\, PA\, 19301\, United States
ATTACH;FMTTYPE=image/jpeg:https://thomsonlodge.com/wp-content/uploads/2023/12/Esoteric-Discussion.jpg
END:VEVENT
BEGIN:VEVENT
DTSTART;TZID=America/New_York:20240629T083000
DTEND;TZID=America/New_York:20240629T100000
DTSTAMP:20260424T163024
CREATED:20230119T152014Z
LAST-MODIFIED:20240115T210344Z
UID:10000208-1719649800-1719655200@thomsonlodge.com
SUMMARY:LODGE OF INSTRUCTION
DESCRIPTION:Please join us for coffee\, donuts and study. We will practice and review the Work\, including Degrees and Business of the Lodge. \nThis is open to any Brother within the district. \n 
URL:https://thomsonlodge.com/event/masonic-instruction-degrees-ceremonies-and-business/2024-06-29/
LOCATION:Thomson Lodge No. 340\, 19 South Valley Road\, Paoli\, PA\, 19301\, United States
ATTACH;FMTTYPE=image/jpeg:https://thomsonlodge.com/wp-content/uploads/2023/01/Masonic-Instruction-3.jpg
END:VEVENT
BEGIN:VEVENT
DTSTART;TZID=America/New_York:20240622T083000
DTEND;TZID=America/New_York:20240622T100000
DTSTAMP:20260424T163024
CREATED:20230119T152014Z
LAST-MODIFIED:20240115T210344Z
UID:10000207-1719045000-1719050400@thomsonlodge.com
SUMMARY:LODGE OF INSTRUCTION
DESCRIPTION:Please join us for coffee\, donuts and study. We will practice and review the Work\, including Degrees and Business of the Lodge. \nThis is open to any Brother within the district. \n 
URL:https://thomsonlodge.com/event/masonic-instruction-degrees-ceremonies-and-business/2024-06-22/
LOCATION:Thomson Lodge No. 340\, 19 South Valley Road\, Paoli\, PA\, 19301\, United States
ATTACH;FMTTYPE=image/jpeg:https://thomsonlodge.com/wp-content/uploads/2023/01/Masonic-Instruction-3.jpg
END:VEVENT
BEGIN:VEVENT
DTSTART;TZID=America/New_York:20240615T083000
DTEND;TZID=America/New_York:20240615T100000
DTSTAMP:20260424T163024
CREATED:20230119T152014Z
LAST-MODIFIED:20240115T210344Z
UID:10000206-1718440200-1718445600@thomsonlodge.com
SUMMARY:LODGE OF INSTRUCTION
DESCRIPTION:Please join us for coffee\, donuts and study. We will practice and review the Work\, including Degrees and Business of the Lodge. \nThis is open to any Brother within the district. \n 
URL:https://thomsonlodge.com/event/masonic-instruction-degrees-ceremonies-and-business/2024-06-15/
LOCATION:Thomson Lodge No. 340\, 19 South Valley Road\, Paoli\, PA\, 19301\, United States
ATTACH;FMTTYPE=image/jpeg:https://thomsonlodge.com/wp-content/uploads/2023/01/Masonic-Instruction-3.jpg
END:VEVENT
BEGIN:VEVENT
DTSTART;TZID=America/New_York:20240612T183000
DTEND;TZID=America/New_York:20240612T210000
DTSTAMP:20260424T163024
CREATED:20231229T191057Z
LAST-MODIFIED:20231229T231222Z
UID:10000441-1718217000-1718226000@thomsonlodge.com
SUMMARY:STATED MEETING: CANDLE LIGHT TABLE LODGE
DESCRIPTION:Dinner will be served at 6:30 pm in the Social Hall at the Thomson Masonic Temple. \nStated meeting immediately following.
URL:https://thomsonlodge.com/event/stated-meeting-june-2024/
LOCATION:Thomson Lodge No. 340\, 19 South Valley Road\, Paoli\, PA\, 19301\, United States
ATTACH;FMTTYPE=image/jpeg:https://thomsonlodge.com/wp-content/uploads/2022/11/Stated-Meeting.jpg
END:VEVENT
BEGIN:VEVENT
DTSTART;TZID=America/New_York:20240610T183000
DTEND;TZID=America/New_York:20240610T200000
DTSTAMP:20260424T163024
CREATED:20231230T014843Z
LAST-MODIFIED:20231230T014843Z
UID:10000463-1718044200-1718049600@thomsonlodge.com
SUMMARY:DISTRICT SCHOOL OF INSTRUCTION
DESCRIPTION:
URL:https://thomsonlodge.com/event/district-school-of-instruction-15/
LOCATION:Brandywine-Goddard Lodge No. 383\, 360 East Lincoln Highway\, Coatesville\, PA\, 19320\, United States
ATTACH;FMTTYPE=image/jpeg:https://thomsonlodge.com/wp-content/uploads/2022/11/IMG_0070.jpg
END:VEVENT
BEGIN:VEVENT
DTSTART;TZID=America/New_York:20240608T083000
DTEND;TZID=America/New_York:20240608T100000
DTSTAMP:20260424T163024
CREATED:20230119T152014Z
LAST-MODIFIED:20240115T210344Z
UID:10000205-1717835400-1717840800@thomsonlodge.com
SUMMARY:LODGE OF INSTRUCTION
DESCRIPTION:Please join us for coffee\, donuts and study. We will practice and review the Work\, including Degrees and Business of the Lodge. \nThis is open to any Brother within the district. \n 
URL:https://thomsonlodge.com/event/masonic-instruction-degrees-ceremonies-and-business/2024-06-08/
LOCATION:Thomson Lodge No. 340\, 19 South Valley Road\, Paoli\, PA\, 19301\, United States
ATTACH;FMTTYPE=image/jpeg:https://thomsonlodge.com/wp-content/uploads/2023/01/Masonic-Instruction-3.jpg
END:VEVENT
BEGIN:VEVENT
DTSTART;TZID=America/New_York:20240607T180000
DTEND;TZID=America/New_York:20240607T220000
DTSTAMP:20260424T163024
CREATED:20231230T000715Z
LAST-MODIFIED:20231230T000715Z
UID:10000447-1717783200-1717797600@thomsonlodge.com
SUMMARY:LADIES APPRECIATION NIGHT
DESCRIPTION:
URL:https://thomsonlodge.com/event/ladies-appreciation-night-2/
LOCATION:Paradocx Vineyard\, 1833 Flint Hill Road\, Landenberg\, PA\, 19350\, United States
ATTACH;FMTTYPE=image/jpeg:https://thomsonlodge.com/wp-content/uploads/2022/11/PDX.jpg
END:VEVENT
BEGIN:VEVENT
DTSTART;TZID=America/New_York:20240605T190000
DTEND;TZID=America/New_York:20240605T210000
DTSTAMP:20260424T163024
CREATED:20231218T194354Z
LAST-MODIFIED:20231218T194354Z
UID:10000425-1717614000-1717621200@thomsonlodge.com
SUMMARY:DISTRICT VISITATION: OXFORD LODGE NO. 353
DESCRIPTION:
URL:https://thomsonlodge.com/event/district-visitation-oxford-lodge-no-353-2/
LOCATION:Oxford Lodge No. 353\, 246 N 3rd Street\, Oxford\, PA\, 19363\, United States
ATTACH;FMTTYPE=image/jpeg:https://thomsonlodge.com/wp-content/uploads/2022/11/Oxford-Lodge.jpg
END:VEVENT
BEGIN:VEVENT
DTSTART;TZID=America/New_York:20240605T190000
DTEND;TZID=America/New_York:20240605T203000
DTSTAMP:20260424T163024
CREATED:20240209T200901Z
LAST-MODIFIED:20240209T200901Z
UID:10000586-1717614000-1717619400@thomsonlodge.com
SUMMARY:ESOTERIC KNOWLEDGE DISCUSSION
DESCRIPTION:
URL:https://thomsonlodge.com/event/esoteric-knowledge-discussion-3/2024-06-05/
LOCATION:Thomson Lodge No. 340\, 19 South Valley Road\, Paoli\, PA\, 19301\, United States
ATTACH;FMTTYPE=image/jpeg:https://thomsonlodge.com/wp-content/uploads/2023/12/Esoteric-Discussion.jpg
END:VEVENT
BEGIN:VEVENT
DTSTART;TZID=America/New_York:20240601T100000
DTEND;TZID=America/New_York:20240601T130000
DTSTAMP:20260424T163024
CREATED:20231230T013540Z
LAST-MODIFIED:20231230T013540Z
UID:10000456-1717236000-1717246800@thomsonlodge.com
SUMMARY:GRAND LODGE: JUNE QUARTERLY COMMUNICATION
DESCRIPTION:
URL:https://thomsonlodge.com/event/grand-lodge-june-quarterly-communication-2/
LOCATION:The Masonic Temple of Erie\, 32 W 8th Street\, Erie\, PA\, 16501\, United States
ATTACH;FMTTYPE=image/jpeg:https://thomsonlodge.com/wp-content/uploads/2022/11/GrandLodge-1.jpg
END:VEVENT
BEGIN:VEVENT
DTSTART;TZID=America/New_York:20240601T083000
DTEND;TZID=America/New_York:20240601T100000
DTSTAMP:20260424T163024
CREATED:20230119T152014Z
LAST-MODIFIED:20240115T210344Z
UID:10000204-1717230600-1717236000@thomsonlodge.com
SUMMARY:LODGE OF INSTRUCTION
DESCRIPTION:Please join us for coffee\, donuts and study. We will practice and review the Work\, including Degrees and Business of the Lodge. \nThis is open to any Brother within the district. \n 
URL:https://thomsonlodge.com/event/masonic-instruction-degrees-ceremonies-and-business/2024-06-01/
LOCATION:Thomson Lodge No. 340\, 19 South Valley Road\, Paoli\, PA\, 19301\, United States
ATTACH;FMTTYPE=image/jpeg:https://thomsonlodge.com/wp-content/uploads/2023/01/Masonic-Instruction-3.jpg
END:VEVENT
BEGIN:VEVENT
DTSTART;TZID=America/New_York:20240527T090000
DTEND;TZID=America/New_York:20240527T130000
DTSTAMP:20260424T163024
CREATED:20231229T235313Z
LAST-MODIFIED:20231229T235313Z
UID:10000446-1716800400-1716814800@thomsonlodge.com
SUMMARY:KENNETT MEMORIAL DAY PARADE
DESCRIPTION:
URL:https://thomsonlodge.com/event/kennett-memorial-day-parade/
LOCATION:Kennett Square\, Kennett Square\, PA\, 19348\, United States
ATTACH;FMTTYPE=image/jpeg:https://thomsonlodge.com/wp-content/uploads/2023/12/Memorial-Day-Parade.jpg
END:VEVENT
END:VCALENDAR