BEGIN:VCALENDAR
VERSION:2.0
PRODID:-//Thomson Lodge No. 340 - ECPv6.15.20//NONSGML v1.0//EN
CALSCALE:GREGORIAN
METHOD:PUBLISH
X-WR-CALNAME:Thomson Lodge No. 340
X-ORIGINAL-URL:https://thomsonlodge.com
X-WR-CALDESC:Events for Thomson Lodge No. 340
REFRESH-INTERVAL;VALUE=DURATION:PT1H
X-Robots-Tag:noindex
X-PUBLISHED-TTL:PT1H
BEGIN:VTIMEZONE
TZID:America/New_York
BEGIN:DAYLIGHT
TZOFFSETFROM:-0500
TZOFFSETTO:-0400
TZNAME:EDT
DTSTART:20210314T070000
END:DAYLIGHT
BEGIN:STANDARD
TZOFFSETFROM:-0400
TZOFFSETTO:-0500
TZNAME:EST
DTSTART:20211107T060000
END:STANDARD
BEGIN:DAYLIGHT
TZOFFSETFROM:-0500
TZOFFSETTO:-0400
TZNAME:EDT
DTSTART:20220313T070000
END:DAYLIGHT
BEGIN:STANDARD
TZOFFSETFROM:-0400
TZOFFSETTO:-0500
TZNAME:EST
DTSTART:20221106T060000
END:STANDARD
BEGIN:DAYLIGHT
TZOFFSETFROM:-0500
TZOFFSETTO:-0400
TZNAME:EDT
DTSTART:20230312T070000
END:DAYLIGHT
BEGIN:STANDARD
TZOFFSETFROM:-0400
TZOFFSETTO:-0500
TZNAME:EST
DTSTART:20231105T060000
END:STANDARD
BEGIN:DAYLIGHT
TZOFFSETFROM:-0500
TZOFFSETTO:-0400
TZNAME:EDT
DTSTART:20240310T070000
END:DAYLIGHT
BEGIN:STANDARD
TZOFFSETFROM:-0400
TZOFFSETTO:-0500
TZNAME:EST
DTSTART:20241103T060000
END:STANDARD
BEGIN:DAYLIGHT
TZOFFSETFROM:-0500
TZOFFSETTO:-0400
TZNAME:EDT
DTSTART:20250309T070000
END:DAYLIGHT
BEGIN:STANDARD
TZOFFSETFROM:-0400
TZOFFSETTO:-0500
TZNAME:EST
DTSTART:20251102T060000
END:STANDARD
END:VTIMEZONE
BEGIN:VEVENT
DTSTART;TZID=America/New_York:20240110T183000
DTEND;TZID=America/New_York:20240110T210000
DTSTAMP:20260423T123741
CREATED:20231229T183434Z
LAST-MODIFIED:20231229T183434Z
UID:10000437-1704911400-1704920400@thomsonlodge.com
SUMMARY:STATED MEETING: INTRODUCTION OF OFFICERS\, REVIEW 2024 PROGRAMS
DESCRIPTION:Dinner will be served at 6:30 pm in the Social Hall at the Thomson Masonic Temple. \nStated meeting immediately following.
URL:https://thomsonlodge.com/event/stated-meeting-introduction-of-officers-review-2024-programs/
LOCATION:Thomson Lodge No. 340\, 19 South Valley Road\, Paoli\, PA\, 19301\, United States
ATTACH;FMTTYPE=image/jpeg:https://thomsonlodge.com/wp-content/uploads/2022/11/Stated-Meeting.jpg
END:VEVENT
BEGIN:VEVENT
DTSTART;TZID=America/New_York:20231213T183000
DTEND;TZID=America/New_York:20231213T210000
DTSTAMP:20260423T123741
CREATED:20221201T225631Z
LAST-MODIFIED:20221231T222121Z
UID:10000100-1702492200-1702501200@thomsonlodge.com
SUMMARY:STATED MEETING: ANNUAL ELECTION OF OFFICERS AND OPEN INSTALLATION OF 2024 LODGE OFFICERS
DESCRIPTION:Dinner will be served at 6:30 pm in the Social Hall at the Thomson Masonic Temple. \nStated meeting immediately following.
URL:https://thomsonlodge.com/event/stated-meeting-annual-election-of-officers-and-open-installation-of-2024-lodge-officers/
LOCATION:Thomson Lodge No. 340\, 19 South Valley Road\, Paoli\, PA\, 19301\, United States
ATTACH;FMTTYPE=image/jpeg:https://thomsonlodge.com/wp-content/uploads/2022/11/Stated-Meeting.jpg
END:VEVENT
BEGIN:VEVENT
DTSTART;TZID=America/New_York:20231108T183000
DTEND;TZID=America/New_York:20231108T210000
DTSTAMP:20260423T123741
CREATED:20221201T225343Z
LAST-MODIFIED:20230112T163251Z
UID:10000099-1699468200-1699477200@thomsonlodge.com
SUMMARY:STATED MEETING: 5TH MASONIC DISTRICT OFFICIAL VISITATION
DESCRIPTION:Dinner will be served at 6:30 pm in the Social Hall at the Thomson Masonic Temple. \nStated meeting immediately following.
URL:https://thomsonlodge.com/event/stated-meeting-and-district-visitation-november-2023/
LOCATION:Thomson Lodge No. 340\, 19 South Valley Road\, Paoli\, PA\, 19301\, United States
ATTACH;FMTTYPE=image/jpeg:https://thomsonlodge.com/wp-content/uploads/2022/11/Stated-Meeting.jpg
END:VEVENT
BEGIN:VEVENT
DTSTART;TZID=America/New_York:20231011T183000
DTEND;TZID=America/New_York:20231011T210000
DTSTAMP:20260423T123741
CREATED:20221201T224943Z
LAST-MODIFIED:20230112T162652Z
UID:10000098-1697049000-1697058000@thomsonlodge.com
SUMMARY:STATED MEETING: THE HISTORY OF THOMSON LODGE
DESCRIPTION:Dinner will be served at 6:30 pm in the Social Hall at the Thomson Masonic Temple. \nStated meeting immediately following.
URL:https://thomsonlodge.com/event/stated-meeting-october-2023/
LOCATION:Thomson Lodge No. 340\, 19 South Valley Road\, Paoli\, PA\, 19301\, United States
ATTACH;FMTTYPE=image/jpeg:https://thomsonlodge.com/wp-content/uploads/2022/11/Stated-Meeting.jpg
END:VEVENT
BEGIN:VEVENT
DTSTART;TZID=America/New_York:20230913T183000
DTEND;TZID=America/New_York:20230913T210000
DTSTAMP:20260423T123741
CREATED:20221201T224903Z
LAST-MODIFIED:20230112T162621Z
UID:10000097-1694629800-1694638800@thomsonlodge.com
SUMMARY:STATED MEETING: SHEDDING LIGHT ON ANNO LUCAS (A.L.) AND OTHER TIME STAMPS
DESCRIPTION:Dinner will be served at 6:30 pm in the Social Hall at the Thomson Masonic Temple. \nStated meeting immediately following.
URL:https://thomsonlodge.com/event/stated-meeting-september-2023/
LOCATION:Thomson Lodge No. 340\, 19 South Valley Road\, Paoli\, PA\, 19301\, United States
ATTACH;FMTTYPE=image/jpeg:https://thomsonlodge.com/wp-content/uploads/2022/11/Stated-Meeting.jpg
END:VEVENT
BEGIN:VEVENT
DTSTART;TZID=America/New_York:20230614T183000
DTEND;TZID=America/New_York:20230614T210000
DTSTAMP:20260423T123741
CREATED:20221201T224459Z
LAST-MODIFIED:20230112T162526Z
UID:10000096-1686767400-1686776400@thomsonlodge.com
SUMMARY:STATED MEETING: THE FIVE PRINCIPLE ORDERS OF ARCHITECTURE
DESCRIPTION:Dinner will be served at 6:30 pm in the Social Hall at the Thomson Masonic Temple. \nStated meeting immediately following.
URL:https://thomsonlodge.com/event/stated-meeting-june-2023/
LOCATION:Thomson Lodge No. 340\, 19 South Valley Road\, Paoli\, PA\, 19301\, United States
ATTACH;FMTTYPE=image/jpeg:https://thomsonlodge.com/wp-content/uploads/2022/11/Stated-Meeting.jpg
END:VEVENT
BEGIN:VEVENT
DTSTART;TZID=America/New_York:20230510T183000
DTEND;TZID=America/New_York:20230510T210000
DTSTAMP:20260423T123741
CREATED:20221201T224426Z
LAST-MODIFIED:20230112T162029Z
UID:10000095-1683743400-1683752400@thomsonlodge.com
SUMMARY:STATED MEETING: THE PAST MASTER'S JEWEL - EUCLID'S 47TH POSTULATE (PYTHAGOREAN THEOREM)
DESCRIPTION:Dinner will be served at 6:30 pm in the Social Hall at the Thomson Masonic Temple. \nStated meeting immediately following.
URL:https://thomsonlodge.com/event/stated-meeting-may-2023/
LOCATION:Thomson Lodge No. 340\, 19 South Valley Road\, Paoli\, PA\, 19301\, United States
ATTACH;FMTTYPE=image/jpeg:https://thomsonlodge.com/wp-content/uploads/2022/11/Stated-Meeting.jpg
END:VEVENT
BEGIN:VEVENT
DTSTART;TZID=America/New_York:20230412T183000
DTEND;TZID=America/New_York:20230412T210000
DTSTAMP:20260423T123741
CREATED:20221201T224352Z
LAST-MODIFIED:20230112T162208Z
UID:10000094-1681324200-1681333200@thomsonlodge.com
SUMMARY:STATED MEETING: THE TRIVIDIUM - DR. MICHAEL WEISBERG
DESCRIPTION:Dinner will be served at 6:30 pm in the Social Hall at the Thomson Masonic Temple. \nStated meeting immediately following.
URL:https://thomsonlodge.com/event/stated-meeting-april-2023/
LOCATION:Thomson Lodge No. 340\, 19 South Valley Road\, Paoli\, PA\, 19301\, United States
ATTACH;FMTTYPE=image/jpeg:https://thomsonlodge.com/wp-content/uploads/2022/11/Stated-Meeting.jpg
END:VEVENT
BEGIN:VEVENT
DTSTART;TZID=America/New_York:20230308T183000
DTEND;TZID=America/New_York:20230308T210000
DTSTAMP:20260423T123741
CREATED:20221130T000246Z
LAST-MODIFIED:20230112T161749Z
UID:10000075-1678300200-1678309200@thomsonlodge.com
SUMMARY:STATED MEETING: EXAMINATION OF A VISITOR
DESCRIPTION:Dinner will be served at 6:30 pm in the Social Hall at the Thomson Masonic Temple. \nStated meeting immediately following.
URL:https://thomsonlodge.com/event/stated-meeting-march-2023/
LOCATION:Thomson Lodge No. 340\, 19 South Valley Road\, Paoli\, PA\, 19301\, United States
ATTACH;FMTTYPE=image/jpeg:https://thomsonlodge.com/wp-content/uploads/2022/11/Stated-Meeting.jpg
END:VEVENT
BEGIN:VEVENT
DTSTART;TZID=America/New_York:20230208T183000
DTEND;TZID=America/New_York:20230208T210000
DTSTAMP:20260423T123741
CREATED:20221130T000140Z
LAST-MODIFIED:20230112T162315Z
UID:10000074-1675881000-1675890000@thomsonlodge.com
SUMMARY:STATED MEETING: TOMB OF THE UNKNOWN SOLDIER - TOMB GUARD GEORGE MARCH
DESCRIPTION:Dinner will be served at 6:30 pm in the Social Hall at the Thomson Masonic Temple. \nStated meeting immediately following.
URL:https://thomsonlodge.com/event/stated-meeting-february-2023/
LOCATION:Thomson Lodge No. 340\, 19 South Valley Road\, Paoli\, PA\, 19301\, United States
ATTACH;FMTTYPE=image/jpeg:https://thomsonlodge.com/wp-content/uploads/2022/11/Stated-Meeting.jpg
END:VEVENT
BEGIN:VEVENT
DTSTART;TZID=America/New_York:20230121T100000
DTEND;TZID=America/New_York:20230121T123000
DTSTAMP:20260423T123741
CREATED:20221128T035929Z
LAST-MODIFIED:20230108T015224Z
UID:10000071-1674295200-1674304200@thomsonlodge.com
SUMMARY:MASONIC BREAKFAST: LULU SHRINE
DESCRIPTION:We have reserved a table for 10 for Thomson Lodge. \nCost is $15 per person. \nPlease RSVP with Rick Karr by January 11\, 2023. This can be done at the January Stated Meeting. \nRick can be contacted at (484) 756-5897 or email worshipful@thomsonlodge.com.
URL:https://thomsonlodge.com/event/masonic-breakfast-lulu-shrine/
LOCATION:LuLu Shrine\, 5140 Butler Pike\, Plymouth Meeting\, PA\, 19462\, United States
ATTACH;FMTTYPE=image/jpeg:https://thomsonlodge.com/wp-content/uploads/2022/11/Shrine.jpg
END:VEVENT
BEGIN:VEVENT
DTSTART;TZID=America/New_York:20230111T183000
DTEND;TZID=America/New_York:20230111T210000
DTSTAMP:20260423T123741
CREATED:20221128T054414Z
LAST-MODIFIED:20221231T231343Z
UID:10000070-1673461800-1673470800@thomsonlodge.com
SUMMARY:STATED MEETING: INTRODUCTION OF OFFICERS AND REVIEW OF 2023 PROGRAMS
DESCRIPTION:Dinner will be served at 6:30 pm in the Social Hall at the Thomson Masonic Temple. \nStated meeting immediately following.
URL:https://thomsonlodge.com/event/stated-meeting-january-2023/
LOCATION:Thomson Lodge No. 340\, 19 South Valley Road\, Paoli\, PA\, 19301\, United States
ATTACH;FMTTYPE=image/jpeg:https://thomsonlodge.com/wp-content/uploads/2022/11/Stated-Meeting.jpg
END:VEVENT
BEGIN:VEVENT
DTSTART;TZID=America/New_York:20230111T170000
DTEND;TZID=America/New_York:20230111T191500
DTSTAMP:20260423T123741
CREATED:20221231T182343Z
LAST-MODIFIED:20230108T015503Z
UID:10000129-1673456400-1673464500@thomsonlodge.com
SUMMARY:HEADSHOTS FOR OFFICERS AND MEMBERS
DESCRIPTION:Business headshots will be available to be taken for all members of the lodge prior to the January 2023 stated meeting. \nBrother Mark Clark will also be taking headshots of all officers of the lodge (elective and appointed) to be included on the website. Photos will be provided to those who wish to participate in digital format. If you elect to have personal business headshots taken\, please be sure to bring a donation of $20. \nDoors will open at 5:00PM on January 11. \nAll moneys collected will be used for the Kerri’s Kitchen Fund. \nPlease RSVP here.
URL:https://thomsonlodge.com/event/headshots-for-officers-and-members/
LOCATION:Thomson Lodge No. 340\, 19 South Valley Road\, Paoli\, PA\, 19301\, United States
ATTACH;FMTTYPE=image/jpeg:https://thomsonlodge.com/wp-content/uploads/2022/12/Photos.jpg
END:VEVENT
BEGIN:VEVENT
DTSTART;TZID=America/New_York:20230103T180000
DTEND;TZID=America/New_York:20230103T210000
DTSTAMP:20260423T123741
CREATED:20221217T012000Z
LAST-MODIFIED:20221231T232059Z
UID:10000128-1672768800-1672779600@thomsonlodge.com
SUMMARY:GEORGE WASHINGTON VISIT: LODGE NO. 2
DESCRIPTION:Please join us as our own George Washington gives a presentation at Lodge No. 2 in the Masonic Temple in Philadelphia. \nDinner will be served at 6:00 pm with the Stated Meeting to follow.
URL:https://thomsonlodge.com/event/george-washington-visit-lodge-no-2/
LOCATION:Grand Lodge of Pennsylvania Masonic Temple\, 1 North Broad Street\, Philadelphia\, PA\, 19107\, United States
ATTACH;FMTTYPE=image/jpeg:https://thomsonlodge.com/wp-content/uploads/2022/12/George-Washington.jpg
END:VEVENT
BEGIN:VEVENT
DTSTART;TZID=America/New_York:20221214T183000
DTEND;TZID=America/New_York:20221214T210000
DTSTAMP:20260423T123741
CREATED:20221126T131600Z
LAST-MODIFIED:20221231T231706Z
UID:10000065-1671042600-1671051600@thomsonlodge.com
SUMMARY:STATED MEETING: ANNUAL ELECTION OF OFFICERS AND OPEN INSTALLATION OF 2023 LODGE OFFICERS
DESCRIPTION:Dinner will be served at 6:30 pm in the Social Hall at the Thomson Masonic Temple. \nStated meeting immediately following.
URL:https://thomsonlodge.com/event/stated-meeting-annual-election-of-officers-and-open-installation-of-2023-lodge-officers/
LOCATION:Thomson Lodge No. 340\, 19 South Valley Road\, Paoli\, PA\, 19301\, United States
ATTACH;FMTTYPE=image/jpeg:https://thomsonlodge.com/wp-content/uploads/2022/11/Stated-Meeting.jpg
END:VEVENT
END:VCALENDAR