BEGIN:VCALENDAR
VERSION:2.0
PRODID:-//Thomson Lodge No. 340 - ECPv6.15.20//NONSGML v1.0//EN
CALSCALE:GREGORIAN
METHOD:PUBLISH
X-WR-CALNAME:Thomson Lodge No. 340
X-ORIGINAL-URL:https://thomsonlodge.com
X-WR-CALDESC:Events for Thomson Lodge No. 340
REFRESH-INTERVAL;VALUE=DURATION:PT1H
X-Robots-Tag:noindex
X-PUBLISHED-TTL:PT1H
BEGIN:VTIMEZONE
TZID:America/New_York
BEGIN:DAYLIGHT
TZOFFSETFROM:-0500
TZOFFSETTO:-0400
TZNAME:EDT
DTSTART:20220313T070000
END:DAYLIGHT
BEGIN:STANDARD
TZOFFSETFROM:-0400
TZOFFSETTO:-0500
TZNAME:EST
DTSTART:20221106T060000
END:STANDARD
BEGIN:DAYLIGHT
TZOFFSETFROM:-0500
TZOFFSETTO:-0400
TZNAME:EDT
DTSTART:20230312T070000
END:DAYLIGHT
BEGIN:STANDARD
TZOFFSETFROM:-0400
TZOFFSETTO:-0500
TZNAME:EST
DTSTART:20231105T060000
END:STANDARD
BEGIN:DAYLIGHT
TZOFFSETFROM:-0500
TZOFFSETTO:-0400
TZNAME:EDT
DTSTART:20240310T070000
END:DAYLIGHT
BEGIN:STANDARD
TZOFFSETFROM:-0400
TZOFFSETTO:-0500
TZNAME:EST
DTSTART:20241103T060000
END:STANDARD
BEGIN:DAYLIGHT
TZOFFSETFROM:-0500
TZOFFSETTO:-0400
TZNAME:EDT
DTSTART:20250309T070000
END:DAYLIGHT
BEGIN:STANDARD
TZOFFSETFROM:-0400
TZOFFSETTO:-0500
TZNAME:EST
DTSTART:20251102T060000
END:STANDARD
END:VTIMEZONE
BEGIN:VEVENT
DTSTART;TZID=America/New_York:20240207T190000
DTEND;TZID=America/New_York:20240207T203000
DTSTAMP:20260425T112856
CREATED:20240203T182941Z
LAST-MODIFIED:20240203T182941Z
UID:10000580-1707332400-1707337800@thomsonlodge.com
SUMMARY:ESOTERIC KNOWLEDGE DISCUSSION
DESCRIPTION:
URL:https://thomsonlodge.com/event/esoteric-knowledge-discussion-2/
LOCATION:Thomson Lodge No. 340\, 19 South Valley Road\, Paoli\, PA\, 19301\, United States
ATTACH;FMTTYPE=image/jpeg:https://thomsonlodge.com/wp-content/uploads/2023/12/Esoteric-Discussion.jpg
END:VEVENT
BEGIN:VEVENT
DTSTART;TZID=America/New_York:20240203T083000
DTEND;TZID=America/New_York:20240203T100000
DTSTAMP:20260425T112856
CREATED:20230119T152014Z
LAST-MODIFIED:20240115T210344Z
UID:10000187-1706949000-1706954400@thomsonlodge.com
SUMMARY:LODGE OF INSTRUCTION
DESCRIPTION:Please join us for coffee\, donuts and study. We will practice and review the Work\, including Degrees and Business of the Lodge. \nThis is open to any Brother within the district. \n 
URL:https://thomsonlodge.com/event/masonic-instruction-degrees-ceremonies-and-business/2024-02-03/
LOCATION:Thomson Lodge No. 340\, 19 South Valley Road\, Paoli\, PA\, 19301\, United States
ATTACH;FMTTYPE=image/jpeg:https://thomsonlodge.com/wp-content/uploads/2023/01/Masonic-Instruction-3.jpg
END:VEVENT
BEGIN:VEVENT
DTSTART;TZID=America/New_York:20240127T083000
DTEND;TZID=America/New_York:20240127T100000
DTSTAMP:20260425T112856
CREATED:20230119T152014Z
LAST-MODIFIED:20240115T210344Z
UID:10000186-1706344200-1706349600@thomsonlodge.com
SUMMARY:LODGE OF INSTRUCTION
DESCRIPTION:Please join us for coffee\, donuts and study. We will practice and review the Work\, including Degrees and Business of the Lodge. \nThis is open to any Brother within the district. \n 
URL:https://thomsonlodge.com/event/masonic-instruction-degrees-ceremonies-and-business/2024-01-27/
LOCATION:Thomson Lodge No. 340\, 19 South Valley Road\, Paoli\, PA\, 19301\, United States
ATTACH;FMTTYPE=image/jpeg:https://thomsonlodge.com/wp-content/uploads/2023/01/Masonic-Instruction-3.jpg
END:VEVENT
BEGIN:VEVENT
DTSTART;TZID=America/New_York:20240120T100000
DTEND;TZID=America/New_York:20240120T123000
DTSTAMP:20260425T112856
CREATED:20240113T194702Z
LAST-MODIFIED:20240113T194702Z
UID:10000527-1705744800-1705753800@thomsonlodge.com
SUMMARY:MASONIC BREAKFAST: LULU SHRINE
DESCRIPTION:We have reserved a table for 10 for Thomson Lodge. \nPlease RSVP with Rob Deming to join Thomson table. First come\, first served. \nRob can be contacted at SECY0340@pagrandlodge.org.
URL:https://thomsonlodge.com/event/masonic-breakfast-lulu-shrine-2/
LOCATION:LuLu Shrine\, 5140 Butler Pike\, Plymouth Meeting\, PA\, 19462\, United States
ATTACH;FMTTYPE=image/jpeg:https://thomsonlodge.com/wp-content/uploads/2022/11/Shrine.jpg
END:VEVENT
BEGIN:VEVENT
DTSTART;TZID=America/New_York:20240120T083000
DTEND;TZID=America/New_York:20240120T100000
DTSTAMP:20260425T112856
CREATED:20230119T152014Z
LAST-MODIFIED:20240115T210344Z
UID:10000185-1705739400-1705744800@thomsonlodge.com
SUMMARY:LODGE OF INSTRUCTION
DESCRIPTION:Please join us for coffee\, donuts and study. We will practice and review the Work\, including Degrees and Business of the Lodge. \nThis is open to any Brother within the district. \n 
URL:https://thomsonlodge.com/event/masonic-instruction-degrees-ceremonies-and-business/2024-01-20/
LOCATION:Thomson Lodge No. 340\, 19 South Valley Road\, Paoli\, PA\, 19301\, United States
ATTACH;FMTTYPE=image/jpeg:https://thomsonlodge.com/wp-content/uploads/2023/01/Masonic-Instruction-3.jpg
END:VEVENT
BEGIN:VEVENT
DTSTART;TZID=America/New_York:20240120T080000
DTEND;TZID=America/New_York:20240120T090000
DTSTAMP:20260425T112856
CREATED:20231216T165439Z
LAST-MODIFIED:20240113T210714Z
UID:10000419-1705737600-1705741200@thomsonlodge.com
SUMMARY:EXTRA MEETING: FELLOWCRAFT DEGREE
DESCRIPTION:
URL:https://thomsonlodge.com/event/extra-meeting-entered-apprentice-degree/
LOCATION:Thomson Lodge No. 340\, 19 South Valley Road\, Paoli\, PA\, 19301\, United States
ATTACH;FMTTYPE=image/jpeg:https://thomsonlodge.com/wp-content/uploads/2022/11/Fellowcraft.jpg
END:VEVENT
BEGIN:VEVENT
DTSTART;TZID=America/New_York:20240117T190000
DTEND;TZID=America/New_York:20240117T203000
DTSTAMP:20260425T112856
CREATED:20231230T040556Z
LAST-MODIFIED:20240104T012438Z
UID:10000467-1705518000-1705523400@thomsonlodge.com
SUMMARY:ESOTERIC KNOWLEDGE DISCUSSION
DESCRIPTION:
URL:https://thomsonlodge.com/event/esoteric-knowledge-discussion/
LOCATION:Thomson Lodge No. 340\, 19 South Valley Road\, Paoli\, PA\, 19301\, United States
ATTACH;FMTTYPE=image/jpeg:https://thomsonlodge.com/wp-content/uploads/2023/12/Esoteric-Discussion.jpg
END:VEVENT
BEGIN:VEVENT
DTSTART;TZID=America/New_York:20240113T170000
DTEND;TZID=America/New_York:20240113T210000
DTSTAMP:20260425T112856
CREATED:20231218T195238Z
LAST-MODIFIED:20231218T195238Z
UID:10000431-1705165200-1705179600@thomsonlodge.com
SUMMARY:ST. JOHN'S DAY DINNER: PAST MASTERS
DESCRIPTION:BY INVITATION ONLY \nPlease join us as we honor our incoming Worshipful Masters and the Past Masters within our District. \nCocktail hour will begin at 5:00 pm (cash bar)\, with the meal to follow at 6:00 pm. \nThe cost remains at $55 per person and includes appetizers\, salad\, vegetables\, pasta\, bread\, main dish and dessert.
URL:https://thomsonlodge.com/event/st-johns-day-dinner-past-masters-2/
LOCATION:By Invitation Only
ATTACH;FMTTYPE=image/jpeg:https://thomsonlodge.com/wp-content/uploads/2022/11/IMG_0072.jpg
END:VEVENT
BEGIN:VEVENT
DTSTART;TZID=America/New_York:20240113T083000
DTEND;TZID=America/New_York:20240113T100000
DTSTAMP:20260425T112856
CREATED:20230119T152014Z
LAST-MODIFIED:20240115T210344Z
UID:10000184-1705134600-1705140000@thomsonlodge.com
SUMMARY:LODGE OF INSTRUCTION
DESCRIPTION:Please join us for coffee\, donuts and study. We will practice and review the Work\, including Degrees and Business of the Lodge. \nThis is open to any Brother within the district. \n 
URL:https://thomsonlodge.com/event/masonic-instruction-degrees-ceremonies-and-business/2024-01-13/
LOCATION:Thomson Lodge No. 340\, 19 South Valley Road\, Paoli\, PA\, 19301\, United States
ATTACH;FMTTYPE=image/jpeg:https://thomsonlodge.com/wp-content/uploads/2023/01/Masonic-Instruction-3.jpg
END:VEVENT
BEGIN:VEVENT
DTSTART;TZID=America/New_York:20240110T183000
DTEND;TZID=America/New_York:20240110T210000
DTSTAMP:20260425T112856
CREATED:20231229T183434Z
LAST-MODIFIED:20231229T183434Z
UID:10000437-1704911400-1704920400@thomsonlodge.com
SUMMARY:STATED MEETING: INTRODUCTION OF OFFICERS\, REVIEW 2024 PROGRAMS
DESCRIPTION:Dinner will be served at 6:30 pm in the Social Hall at the Thomson Masonic Temple. \nStated meeting immediately following.
URL:https://thomsonlodge.com/event/stated-meeting-introduction-of-officers-review-2024-programs/
LOCATION:Thomson Lodge No. 340\, 19 South Valley Road\, Paoli\, PA\, 19301\, United States
ATTACH;FMTTYPE=image/jpeg:https://thomsonlodge.com/wp-content/uploads/2022/11/Stated-Meeting.jpg
END:VEVENT
BEGIN:VEVENT
DTSTART;TZID=America/New_York:20240108T183000
DTEND;TZID=America/New_York:20240108T200000
DTSTAMP:20260425T112856
CREATED:20231230T014240Z
LAST-MODIFIED:20231230T014347Z
UID:10000458-1704738600-1704744000@thomsonlodge.com
SUMMARY:DISTRICT SCHOOL OF INSTRUCTION
DESCRIPTION:
URL:https://thomsonlodge.com/event/district-school-of-instruction-10/
LOCATION:Brandywine-Goddard Lodge No. 383\, 360 East Lincoln Highway\, Coatesville\, PA\, 19320\, United States
ATTACH;FMTTYPE=image/jpeg:https://thomsonlodge.com/wp-content/uploads/2022/11/IMG_0070.jpg
END:VEVENT
BEGIN:VEVENT
DTSTART;TZID=America/New_York:20240106T083000
DTEND;TZID=America/New_York:20240106T100000
DTSTAMP:20260425T112856
CREATED:20230119T152014Z
LAST-MODIFIED:20240115T210344Z
UID:10000183-1704529800-1704535200@thomsonlodge.com
SUMMARY:LODGE OF INSTRUCTION
DESCRIPTION:Please join us for coffee\, donuts and study. We will practice and review the Work\, including Degrees and Business of the Lodge. \nThis is open to any Brother within the district. \n 
URL:https://thomsonlodge.com/event/masonic-instruction-degrees-ceremonies-and-business/2024-01-06/
LOCATION:Thomson Lodge No. 340\, 19 South Valley Road\, Paoli\, PA\, 19301\, United States
ATTACH;FMTTYPE=image/jpeg:https://thomsonlodge.com/wp-content/uploads/2023/01/Masonic-Instruction-3.jpg
END:VEVENT
BEGIN:VEVENT
DTSTART;TZID=America/New_York:20240104T190000
DTEND;TZID=America/New_York:20240104T210000
DTSTAMP:20260425T112856
CREATED:20231218T193255Z
LAST-MODIFIED:20231218T193738Z
UID:10000420-1704394800-1704402000@thomsonlodge.com
SUMMARY:DISTRICT VISITATION: CHRISTIANA LODGE NO. 417
DESCRIPTION:
URL:https://thomsonlodge.com/event/district-visitation-christiana-lodge-no-417-2/
LOCATION:Christiana Lodge No. 417\, 115 E Slokom Avenue\, Christiana\, PA\, 17509\, United States
ATTACH;FMTTYPE=image/jpeg:https://thomsonlodge.com/wp-content/uploads/2022/12/Christiana-Lodge.jpg
END:VEVENT
BEGIN:VEVENT
DTSTART;TZID=America/New_York:20231230T083000
DTEND;TZID=America/New_York:20231230T100000
DTSTAMP:20260425T112856
CREATED:20230119T152014Z
LAST-MODIFIED:20240115T210344Z
UID:10000182-1703925000-1703930400@thomsonlodge.com
SUMMARY:LODGE OF INSTRUCTION
DESCRIPTION:Please join us for coffee\, donuts and study. We will practice and review the Work\, including Degrees and Business of the Lodge. \nThis is open to any Brother within the district. \n 
URL:https://thomsonlodge.com/event/masonic-instruction-degrees-ceremonies-and-business/2023-12-30/
LOCATION:Thomson Lodge No. 340\, 19 South Valley Road\, Paoli\, PA\, 19301\, United States
ATTACH;FMTTYPE=image/jpeg:https://thomsonlodge.com/wp-content/uploads/2023/01/Masonic-Instruction-3.jpg
END:VEVENT
BEGIN:VEVENT
DTSTART;TZID=America/New_York:20231227T100000
DTEND;TZID=America/New_York:20231227T130000
DTSTAMP:20260425T112856
CREATED:20221213T154751Z
LAST-MODIFIED:20221231T222047Z
UID:10000117-1703671200-1703682000@thomsonlodge.com
SUMMARY:GRAND LODGE: 2023 ANNUAL COMMUNICATION
DESCRIPTION:
URL:https://thomsonlodge.com/event/grand-lodge-2023-annual-communication/
LOCATION:Lancaster Masonic Center\, 213 W Chestnut Street\, Lancaster\, PA\, 17603\, United States
ATTACH;FMTTYPE=image/jpeg:https://thomsonlodge.com/wp-content/uploads/2022/11/GrandLodge-1.jpg
END:VEVENT
BEGIN:VEVENT
DTSTART;TZID=America/New_York:20231223T083000
DTEND;TZID=America/New_York:20231223T100000
DTSTAMP:20260425T112856
CREATED:20230119T152014Z
LAST-MODIFIED:20240115T210344Z
UID:10000181-1703320200-1703325600@thomsonlodge.com
SUMMARY:LODGE OF INSTRUCTION
DESCRIPTION:Please join us for coffee\, donuts and study. We will practice and review the Work\, including Degrees and Business of the Lodge. \nThis is open to any Brother within the district. \n 
URL:https://thomsonlodge.com/event/masonic-instruction-degrees-ceremonies-and-business/2023-12-23/
LOCATION:Thomson Lodge No. 340\, 19 South Valley Road\, Paoli\, PA\, 19301\, United States
ATTACH;FMTTYPE=image/jpeg:https://thomsonlodge.com/wp-content/uploads/2023/01/Masonic-Instruction-3.jpg
END:VEVENT
BEGIN:VEVENT
DTSTART;TZID=America/New_York:20231216T083000
DTEND;TZID=America/New_York:20231216T100000
DTSTAMP:20260425T112856
CREATED:20230119T152014Z
LAST-MODIFIED:20240115T210344Z
UID:10000180-1702715400-1702720800@thomsonlodge.com
SUMMARY:LODGE OF INSTRUCTION
DESCRIPTION:Please join us for coffee\, donuts and study. We will practice and review the Work\, including Degrees and Business of the Lodge. \nThis is open to any Brother within the district. \n 
URL:https://thomsonlodge.com/event/masonic-instruction-degrees-ceremonies-and-business/2023-12-16/
LOCATION:Thomson Lodge No. 340\, 19 South Valley Road\, Paoli\, PA\, 19301\, United States
ATTACH;FMTTYPE=image/jpeg:https://thomsonlodge.com/wp-content/uploads/2023/01/Masonic-Instruction-3.jpg
END:VEVENT
BEGIN:VEVENT
DTSTART;TZID=America/New_York:20231213T183000
DTEND;TZID=America/New_York:20231213T210000
DTSTAMP:20260425T112856
CREATED:20221201T225631Z
LAST-MODIFIED:20221231T222121Z
UID:10000100-1702492200-1702501200@thomsonlodge.com
SUMMARY:STATED MEETING: ANNUAL ELECTION OF OFFICERS AND OPEN INSTALLATION OF 2024 LODGE OFFICERS
DESCRIPTION:Dinner will be served at 6:30 pm in the Social Hall at the Thomson Masonic Temple. \nStated meeting immediately following.
URL:https://thomsonlodge.com/event/stated-meeting-annual-election-of-officers-and-open-installation-of-2024-lodge-officers/
LOCATION:Thomson Lodge No. 340\, 19 South Valley Road\, Paoli\, PA\, 19301\, United States
ATTACH;FMTTYPE=image/jpeg:https://thomsonlodge.com/wp-content/uploads/2022/11/Stated-Meeting.jpg
END:VEVENT
BEGIN:VEVENT
DTSTART;TZID=America/New_York:20231211T190000
DTEND;TZID=America/New_York:20231211T210000
DTSTAMP:20260425T112856
CREATED:20221216T215824Z
LAST-MODIFIED:20221231T222131Z
UID:10000127-1702321200-1702328400@thomsonlodge.com
SUMMARY:DISTRICT SCHOOL OF INSTRUCTION
DESCRIPTION:
URL:https://thomsonlodge.com/event/district-school-of-instruction-9/
LOCATION:Brandywine-Goddard Lodge No. 383\, 360 East Lincoln Highway\, Coatesville\, PA\, 19320\, United States
ATTACH;FMTTYPE=image/jpeg:https://thomsonlodge.com/wp-content/uploads/2022/11/IMG_0070.jpg
END:VEVENT
BEGIN:VEVENT
DTSTART;TZID=America/New_York:20231209T083000
DTEND;TZID=America/New_York:20231209T100000
DTSTAMP:20260425T112856
CREATED:20230119T152014Z
LAST-MODIFIED:20240115T210344Z
UID:10000179-1702110600-1702116000@thomsonlodge.com
SUMMARY:LODGE OF INSTRUCTION
DESCRIPTION:Please join us for coffee\, donuts and study. We will practice and review the Work\, including Degrees and Business of the Lodge. \nThis is open to any Brother within the district. \n 
URL:https://thomsonlodge.com/event/masonic-instruction-degrees-ceremonies-and-business/2023-12-09/
LOCATION:Thomson Lodge No. 340\, 19 South Valley Road\, Paoli\, PA\, 19301\, United States
ATTACH;FMTTYPE=image/jpeg:https://thomsonlodge.com/wp-content/uploads/2023/01/Masonic-Instruction-3.jpg
END:VEVENT
BEGIN:VEVENT
DTSTART;TZID=America/New_York:20231202T083000
DTEND;TZID=America/New_York:20231202T100000
DTSTAMP:20260425T112856
CREATED:20230119T152014Z
LAST-MODIFIED:20240115T210344Z
UID:10000178-1701505800-1701511200@thomsonlodge.com
SUMMARY:LODGE OF INSTRUCTION
DESCRIPTION:Please join us for coffee\, donuts and study. We will practice and review the Work\, including Degrees and Business of the Lodge. \nThis is open to any Brother within the district. \n 
URL:https://thomsonlodge.com/event/masonic-instruction-degrees-ceremonies-and-business/2023-12-02/
LOCATION:Thomson Lodge No. 340\, 19 South Valley Road\, Paoli\, PA\, 19301\, United States
ATTACH;FMTTYPE=image/jpeg:https://thomsonlodge.com/wp-content/uploads/2023/01/Masonic-Instruction-3.jpg
END:VEVENT
BEGIN:VEVENT
DTSTART;TZID=America/New_York:20231201T100000
DTEND;TZID=America/New_York:20231201T190000
DTSTAMP:20260425T112856
CREATED:20230121T201834Z
LAST-MODIFIED:20230121T202825Z
UID:10000408-1701424800-1701457200@thomsonlodge.com
SUMMARY:BLOOD DRIVE: LULU SHRINE
DESCRIPTION:LuLu Shriners will be hosting blood drives for the Masonic Blood+Organ Donor Program. \nTo schedule an appointment\, please call:\n1 (800) 733-2767\nUse sponsor code: LuLu \nOr schedule online at:\nredcrossblood.org\nUse sponsor code: LuLu \nProceeds benefit Shriners Children’s.
URL:https://thomsonlodge.com/event/blood-drive-lulu-shrine/2023-12-01/
LOCATION:LuLu Shrine\, 5140 Butler Pike\, Plymouth Meeting\, PA\, 19462\, United States
ATTACH;FMTTYPE=image/jpeg:https://thomsonlodge.com/wp-content/uploads/2023/01/Blood-Donation.jpg
END:VEVENT
BEGIN:VEVENT
DTSTART;TZID=America/New_York:20231130T100000
DTEND;TZID=America/New_York:20231130T190000
DTSTAMP:20260425T112856
CREATED:20230121T201834Z
LAST-MODIFIED:20230121T202825Z
UID:10000407-1701338400-1701370800@thomsonlodge.com
SUMMARY:BLOOD DRIVE: LULU SHRINE
DESCRIPTION:LuLu Shriners will be hosting blood drives for the Masonic Blood+Organ Donor Program. \nTo schedule an appointment\, please call:\n1 (800) 733-2767\nUse sponsor code: LuLu \nOr schedule online at:\nredcrossblood.org\nUse sponsor code: LuLu \nProceeds benefit Shriners Children’s.
URL:https://thomsonlodge.com/event/blood-drive-lulu-shrine/2023-11-30/
LOCATION:LuLu Shrine\, 5140 Butler Pike\, Plymouth Meeting\, PA\, 19462\, United States
ATTACH;FMTTYPE=image/jpeg:https://thomsonlodge.com/wp-content/uploads/2023/01/Blood-Donation.jpg
END:VEVENT
BEGIN:VEVENT
DTSTART;TZID=America/New_York:20231125T083000
DTEND;TZID=America/New_York:20231125T100000
DTSTAMP:20260425T112856
CREATED:20230119T152014Z
LAST-MODIFIED:20240115T210344Z
UID:10000177-1700901000-1700906400@thomsonlodge.com
SUMMARY:LODGE OF INSTRUCTION
DESCRIPTION:Please join us for coffee\, donuts and study. We will practice and review the Work\, including Degrees and Business of the Lodge. \nThis is open to any Brother within the district. \n 
URL:https://thomsonlodge.com/event/masonic-instruction-degrees-ceremonies-and-business/2023-11-25/
LOCATION:Thomson Lodge No. 340\, 19 South Valley Road\, Paoli\, PA\, 19301\, United States
ATTACH;FMTTYPE=image/jpeg:https://thomsonlodge.com/wp-content/uploads/2023/01/Masonic-Instruction-3.jpg
END:VEVENT
BEGIN:VEVENT
DTSTART;TZID=America/New_York:20231118T083000
DTEND;TZID=America/New_York:20231118T100000
DTSTAMP:20260425T112856
CREATED:20230119T152014Z
LAST-MODIFIED:20240115T210344Z
UID:10000176-1700296200-1700301600@thomsonlodge.com
SUMMARY:LODGE OF INSTRUCTION
DESCRIPTION:Please join us for coffee\, donuts and study. We will practice and review the Work\, including Degrees and Business of the Lodge. \nThis is open to any Brother within the district. \n 
URL:https://thomsonlodge.com/event/masonic-instruction-degrees-ceremonies-and-business/2023-11-18/
LOCATION:Thomson Lodge No. 340\, 19 South Valley Road\, Paoli\, PA\, 19301\, United States
ATTACH;FMTTYPE=image/jpeg:https://thomsonlodge.com/wp-content/uploads/2023/01/Masonic-Instruction-3.jpg
END:VEVENT
BEGIN:VEVENT
DTSTART;TZID=America/New_York:20231116T190000
DTEND;TZID=America/New_York:20231116T210000
DTSTAMP:20260425T112856
CREATED:20230929T203408Z
LAST-MODIFIED:20230929T203450Z
UID:10000418-1700161200-1700168400@thomsonlodge.com
SUMMARY:AUTHOR TOM MCMILLAN: ARMISTEAD & HANCOCK TALK
DESCRIPTION:On Thursday\, November 16th at Oxford Lodge No. 353\, author Tom McMillan will be discussing his book Armistead and Hancock. There is no charge for the event and refreshments will be provided after the presentation. The event is open to both Masons and Non-Masons. Tom’s book may be purchased via Amazon and signed by the author at the event. \nReserve your spot here. \n 
URL:https://thomsonlodge.com/event/author-tom-mcmillan-armistead-hancock-talk/
LOCATION:Oxford Lodge No. 353\, 246 N 3rd Street\, Oxford\, PA\, 19363\, United States
ATTACH;FMTTYPE=image/jpeg:https://thomsonlodge.com/wp-content/uploads/2023/09/Armistead-Hancock.jpg
END:VEVENT
BEGIN:VEVENT
DTSTART;TZID=America/New_York:20231113T183000
DTEND;TZID=America/New_York:20231113T200000
DTSTAMP:20260425T112856
CREATED:20221213T154438Z
LAST-MODIFIED:20221231T222142Z
UID:10000116-1699900200-1699905600@thomsonlodge.com
SUMMARY:DSOI: OFFICER TRAINING
DESCRIPTION:
URL:https://thomsonlodge.com/event/dsoi-officer-training/
LOCATION:Brandywine-Goddard Lodge No. 383\, 360 East Lincoln Highway\, Coatesville\, PA\, 19320\, United States
ATTACH;FMTTYPE=image/jpeg:https://thomsonlodge.com/wp-content/uploads/2022/11/IMG_0070.jpg
END:VEVENT
BEGIN:VEVENT
DTSTART;TZID=America/New_York:20231111T083000
DTEND;TZID=America/New_York:20231111T100000
DTSTAMP:20260425T112856
CREATED:20230119T152014Z
LAST-MODIFIED:20240115T210344Z
UID:10000175-1699691400-1699696800@thomsonlodge.com
SUMMARY:LODGE OF INSTRUCTION
DESCRIPTION:Please join us for coffee\, donuts and study. We will practice and review the Work\, including Degrees and Business of the Lodge. \nThis is open to any Brother within the district. \n 
URL:https://thomsonlodge.com/event/masonic-instruction-degrees-ceremonies-and-business/2023-11-11/
LOCATION:Thomson Lodge No. 340\, 19 South Valley Road\, Paoli\, PA\, 19301\, United States
ATTACH;FMTTYPE=image/jpeg:https://thomsonlodge.com/wp-content/uploads/2023/01/Masonic-Instruction-3.jpg
END:VEVENT
BEGIN:VEVENT
DTSTART;TZID=America/New_York:20231108T183000
DTEND;TZID=America/New_York:20231108T210000
DTSTAMP:20260425T112856
CREATED:20221201T225343Z
LAST-MODIFIED:20230112T163251Z
UID:10000099-1699468200-1699477200@thomsonlodge.com
SUMMARY:STATED MEETING: 5TH MASONIC DISTRICT OFFICIAL VISITATION
DESCRIPTION:Dinner will be served at 6:30 pm in the Social Hall at the Thomson Masonic Temple. \nStated meeting immediately following.
URL:https://thomsonlodge.com/event/stated-meeting-and-district-visitation-november-2023/
LOCATION:Thomson Lodge No. 340\, 19 South Valley Road\, Paoli\, PA\, 19301\, United States
ATTACH;FMTTYPE=image/jpeg:https://thomsonlodge.com/wp-content/uploads/2022/11/Stated-Meeting.jpg
END:VEVENT
BEGIN:VEVENT
DTSTART;TZID=America/New_York:20231104T083000
DTEND;TZID=America/New_York:20231104T100000
DTSTAMP:20260425T112856
CREATED:20230119T152014Z
LAST-MODIFIED:20240115T210344Z
UID:10000174-1699086600-1699092000@thomsonlodge.com
SUMMARY:LODGE OF INSTRUCTION
DESCRIPTION:Please join us for coffee\, donuts and study. We will practice and review the Work\, including Degrees and Business of the Lodge. \nThis is open to any Brother within the district. \n 
URL:https://thomsonlodge.com/event/masonic-instruction-degrees-ceremonies-and-business/2023-11-04/
LOCATION:Thomson Lodge No. 340\, 19 South Valley Road\, Paoli\, PA\, 19301\, United States
ATTACH;FMTTYPE=image/jpeg:https://thomsonlodge.com/wp-content/uploads/2023/01/Masonic-Instruction-3.jpg
END:VEVENT
END:VCALENDAR