BEGIN:VCALENDAR
VERSION:2.0
PRODID:-//Thomson Lodge No. 340 - ECPv6.15.20//NONSGML v1.0//EN
CALSCALE:GREGORIAN
METHOD:PUBLISH
X-ORIGINAL-URL:https://thomsonlodge.com
X-WR-CALDESC:Events for Thomson Lodge No. 340
REFRESH-INTERVAL;VALUE=DURATION:PT1H
X-Robots-Tag:noindex
X-PUBLISHED-TTL:PT1H
BEGIN:VTIMEZONE
TZID:America/New_York
BEGIN:DAYLIGHT
TZOFFSETFROM:-0500
TZOFFSETTO:-0400
TZNAME:EDT
DTSTART:20220313T070000
END:DAYLIGHT
BEGIN:STANDARD
TZOFFSETFROM:-0400
TZOFFSETTO:-0500
TZNAME:EST
DTSTART:20221106T060000
END:STANDARD
BEGIN:DAYLIGHT
TZOFFSETFROM:-0500
TZOFFSETTO:-0400
TZNAME:EDT
DTSTART:20230312T070000
END:DAYLIGHT
BEGIN:STANDARD
TZOFFSETFROM:-0400
TZOFFSETTO:-0500
TZNAME:EST
DTSTART:20231105T060000
END:STANDARD
BEGIN:DAYLIGHT
TZOFFSETFROM:-0500
TZOFFSETTO:-0400
TZNAME:EDT
DTSTART:20240310T070000
END:DAYLIGHT
BEGIN:STANDARD
TZOFFSETFROM:-0400
TZOFFSETTO:-0500
TZNAME:EST
DTSTART:20241103T060000
END:STANDARD
END:VTIMEZONE
BEGIN:VEVENT
DTSTART;TZID=America/New_York:20231202T083000
DTEND;TZID=America/New_York:20231202T100000
DTSTAMP:20260425T164258
CREATED:20230119T152014Z
LAST-MODIFIED:20240115T210344Z
UID:10000178-1701505800-1701511200@thomsonlodge.com
SUMMARY:LODGE OF INSTRUCTION
DESCRIPTION:Please join us for coffee\, donuts and study. We will practice and review the Work\, including Degrees and Business of the Lodge. \nThis is open to any Brother within the district. \n 
URL:https://thomsonlodge.com/event/masonic-instruction-degrees-ceremonies-and-business/2023-12-02/
LOCATION:Thomson Lodge No. 340\, 19 South Valley Road\, Paoli\, PA\, 19301\, United States
ATTACH;FMTTYPE=image/jpeg:https://thomsonlodge.com/wp-content/uploads/2023/01/Masonic-Instruction-3.jpg
END:VEVENT
BEGIN:VEVENT
DTSTART;TZID=America/New_York:20231201T100000
DTEND;TZID=America/New_York:20231201T190000
DTSTAMP:20260425T164258
CREATED:20230121T201834Z
LAST-MODIFIED:20230121T202825Z
UID:10000408-1701424800-1701457200@thomsonlodge.com
SUMMARY:BLOOD DRIVE: LULU SHRINE
DESCRIPTION:LuLu Shriners will be hosting blood drives for the Masonic Blood+Organ Donor Program. \nTo schedule an appointment\, please call:\n1 (800) 733-2767\nUse sponsor code: LuLu \nOr schedule online at:\nredcrossblood.org\nUse sponsor code: LuLu \nProceeds benefit Shriners Children’s.
URL:https://thomsonlodge.com/event/blood-drive-lulu-shrine/2023-12-01/
LOCATION:LuLu Shrine\, 5140 Butler Pike\, Plymouth Meeting\, PA\, 19462\, United States
ATTACH;FMTTYPE=image/jpeg:https://thomsonlodge.com/wp-content/uploads/2023/01/Blood-Donation.jpg
END:VEVENT
BEGIN:VEVENT
DTSTART;TZID=America/New_York:20231130T100000
DTEND;TZID=America/New_York:20231130T190000
DTSTAMP:20260425T164258
CREATED:20230121T201834Z
LAST-MODIFIED:20230121T202825Z
UID:10000407-1701338400-1701370800@thomsonlodge.com
SUMMARY:BLOOD DRIVE: LULU SHRINE
DESCRIPTION:LuLu Shriners will be hosting blood drives for the Masonic Blood+Organ Donor Program. \nTo schedule an appointment\, please call:\n1 (800) 733-2767\nUse sponsor code: LuLu \nOr schedule online at:\nredcrossblood.org\nUse sponsor code: LuLu \nProceeds benefit Shriners Children’s.
URL:https://thomsonlodge.com/event/blood-drive-lulu-shrine/2023-11-30/
LOCATION:LuLu Shrine\, 5140 Butler Pike\, Plymouth Meeting\, PA\, 19462\, United States
ATTACH;FMTTYPE=image/jpeg:https://thomsonlodge.com/wp-content/uploads/2023/01/Blood-Donation.jpg
END:VEVENT
BEGIN:VEVENT
DTSTART;TZID=America/New_York:20231125T083000
DTEND;TZID=America/New_York:20231125T100000
DTSTAMP:20260425T164258
CREATED:20230119T152014Z
LAST-MODIFIED:20240115T210344Z
UID:10000177-1700901000-1700906400@thomsonlodge.com
SUMMARY:LODGE OF INSTRUCTION
DESCRIPTION:Please join us for coffee\, donuts and study. We will practice and review the Work\, including Degrees and Business of the Lodge. \nThis is open to any Brother within the district. \n 
URL:https://thomsonlodge.com/event/masonic-instruction-degrees-ceremonies-and-business/2023-11-25/
LOCATION:Thomson Lodge No. 340\, 19 South Valley Road\, Paoli\, PA\, 19301\, United States
ATTACH;FMTTYPE=image/jpeg:https://thomsonlodge.com/wp-content/uploads/2023/01/Masonic-Instruction-3.jpg
END:VEVENT
BEGIN:VEVENT
DTSTART;TZID=America/New_York:20231118T083000
DTEND;TZID=America/New_York:20231118T100000
DTSTAMP:20260425T164258
CREATED:20230119T152014Z
LAST-MODIFIED:20240115T210344Z
UID:10000176-1700296200-1700301600@thomsonlodge.com
SUMMARY:LODGE OF INSTRUCTION
DESCRIPTION:Please join us for coffee\, donuts and study. We will practice and review the Work\, including Degrees and Business of the Lodge. \nThis is open to any Brother within the district. \n 
URL:https://thomsonlodge.com/event/masonic-instruction-degrees-ceremonies-and-business/2023-11-18/
LOCATION:Thomson Lodge No. 340\, 19 South Valley Road\, Paoli\, PA\, 19301\, United States
ATTACH;FMTTYPE=image/jpeg:https://thomsonlodge.com/wp-content/uploads/2023/01/Masonic-Instruction-3.jpg
END:VEVENT
BEGIN:VEVENT
DTSTART;TZID=America/New_York:20231116T190000
DTEND;TZID=America/New_York:20231116T210000
DTSTAMP:20260425T164258
CREATED:20230929T203408Z
LAST-MODIFIED:20230929T203450Z
UID:10000418-1700161200-1700168400@thomsonlodge.com
SUMMARY:AUTHOR TOM MCMILLAN: ARMISTEAD & HANCOCK TALK
DESCRIPTION:On Thursday\, November 16th at Oxford Lodge No. 353\, author Tom McMillan will be discussing his book Armistead and Hancock. There is no charge for the event and refreshments will be provided after the presentation. The event is open to both Masons and Non-Masons. Tom’s book may be purchased via Amazon and signed by the author at the event. \nReserve your spot here. \n 
URL:https://thomsonlodge.com/event/author-tom-mcmillan-armistead-hancock-talk/
LOCATION:Oxford Lodge No. 353\, 246 N 3rd Street\, Oxford\, PA\, 19363\, United States
ATTACH;FMTTYPE=image/jpeg:https://thomsonlodge.com/wp-content/uploads/2023/09/Armistead-Hancock.jpg
END:VEVENT
BEGIN:VEVENT
DTSTART;TZID=America/New_York:20231113T183000
DTEND;TZID=America/New_York:20231113T200000
DTSTAMP:20260425T164258
CREATED:20221213T154438Z
LAST-MODIFIED:20221231T222142Z
UID:10000116-1699900200-1699905600@thomsonlodge.com
SUMMARY:DSOI: OFFICER TRAINING
DESCRIPTION:
URL:https://thomsonlodge.com/event/dsoi-officer-training/
LOCATION:Brandywine-Goddard Lodge No. 383\, 360 East Lincoln Highway\, Coatesville\, PA\, 19320\, United States
ATTACH;FMTTYPE=image/jpeg:https://thomsonlodge.com/wp-content/uploads/2022/11/IMG_0070.jpg
END:VEVENT
BEGIN:VEVENT
DTSTART;TZID=America/New_York:20231111T083000
DTEND;TZID=America/New_York:20231111T100000
DTSTAMP:20260425T164258
CREATED:20230119T152014Z
LAST-MODIFIED:20240115T210344Z
UID:10000175-1699691400-1699696800@thomsonlodge.com
SUMMARY:LODGE OF INSTRUCTION
DESCRIPTION:Please join us for coffee\, donuts and study. We will practice and review the Work\, including Degrees and Business of the Lodge. \nThis is open to any Brother within the district. \n 
URL:https://thomsonlodge.com/event/masonic-instruction-degrees-ceremonies-and-business/2023-11-11/
LOCATION:Thomson Lodge No. 340\, 19 South Valley Road\, Paoli\, PA\, 19301\, United States
ATTACH;FMTTYPE=image/jpeg:https://thomsonlodge.com/wp-content/uploads/2023/01/Masonic-Instruction-3.jpg
END:VEVENT
BEGIN:VEVENT
DTSTART;TZID=America/New_York:20231108T183000
DTEND;TZID=America/New_York:20231108T210000
DTSTAMP:20260425T164258
CREATED:20221201T225343Z
LAST-MODIFIED:20230112T163251Z
UID:10000099-1699468200-1699477200@thomsonlodge.com
SUMMARY:STATED MEETING: 5TH MASONIC DISTRICT OFFICIAL VISITATION
DESCRIPTION:Dinner will be served at 6:30 pm in the Social Hall at the Thomson Masonic Temple. \nStated meeting immediately following.
URL:https://thomsonlodge.com/event/stated-meeting-and-district-visitation-november-2023/
LOCATION:Thomson Lodge No. 340\, 19 South Valley Road\, Paoli\, PA\, 19301\, United States
ATTACH;FMTTYPE=image/jpeg:https://thomsonlodge.com/wp-content/uploads/2022/11/Stated-Meeting.jpg
END:VEVENT
BEGIN:VEVENT
DTSTART;TZID=America/New_York:20231104T083000
DTEND;TZID=America/New_York:20231104T100000
DTSTAMP:20260425T164258
CREATED:20230119T152014Z
LAST-MODIFIED:20240115T210344Z
UID:10000174-1699086600-1699092000@thomsonlodge.com
SUMMARY:LODGE OF INSTRUCTION
DESCRIPTION:Please join us for coffee\, donuts and study. We will practice and review the Work\, including Degrees and Business of the Lodge. \nThis is open to any Brother within the district. \n 
URL:https://thomsonlodge.com/event/masonic-instruction-degrees-ceremonies-and-business/2023-11-04/
LOCATION:Thomson Lodge No. 340\, 19 South Valley Road\, Paoli\, PA\, 19301\, United States
ATTACH;FMTTYPE=image/jpeg:https://thomsonlodge.com/wp-content/uploads/2023/01/Masonic-Instruction-3.jpg
END:VEVENT
BEGIN:VEVENT
DTSTART;TZID=America/New_York:20231028T083000
DTEND;TZID=America/New_York:20231028T100000
DTSTAMP:20260425T164258
CREATED:20230119T152014Z
LAST-MODIFIED:20240115T210344Z
UID:10000173-1698481800-1698487200@thomsonlodge.com
SUMMARY:LODGE OF INSTRUCTION
DESCRIPTION:Please join us for coffee\, donuts and study. We will practice and review the Work\, including Degrees and Business of the Lodge. \nThis is open to any Brother within the district. \n 
URL:https://thomsonlodge.com/event/masonic-instruction-degrees-ceremonies-and-business/2023-10-28/
LOCATION:Thomson Lodge No. 340\, 19 South Valley Road\, Paoli\, PA\, 19301\, United States
ATTACH;FMTTYPE=image/jpeg:https://thomsonlodge.com/wp-content/uploads/2023/01/Masonic-Instruction-3.jpg
END:VEVENT
BEGIN:VEVENT
DTSTART;TZID=America/New_York:20231028T080000
DTEND;TZID=America/New_York:20231028T150000
DTSTAMP:20260425T164258
CREATED:20221213T154132Z
LAST-MODIFIED:20221231T222204Z
UID:10000115-1698480000-1698505200@thomsonlodge.com
SUMMARY:FALL 2023 SYMPOSIUM OF THE ACADEMY OF MASONIC KNOWLEDGE
DESCRIPTION:
URL:https://thomsonlodge.com/event/fall-2023-symposium-of-the-academy-of-masonic-knowledge/
LOCATION:Freemason Cultural Center\, 1 Freemason Drive\, Elizabethtown\, PA\, 17022\, United States
ATTACH;FMTTYPE=image/jpeg:https://thomsonlodge.com/wp-content/uploads/2022/12/Academy-of-Masonic-Knowledge.jpg
END:VEVENT
BEGIN:VEVENT
DTSTART;TZID=America/New_York:20231021T083000
DTEND;TZID=America/New_York:20231021T100000
DTSTAMP:20260425T164258
CREATED:20230119T152014Z
LAST-MODIFIED:20240115T210344Z
UID:10000172-1697877000-1697882400@thomsonlodge.com
SUMMARY:LODGE OF INSTRUCTION
DESCRIPTION:Please join us for coffee\, donuts and study. We will practice and review the Work\, including Degrees and Business of the Lodge. \nThis is open to any Brother within the district. \n 
URL:https://thomsonlodge.com/event/masonic-instruction-degrees-ceremonies-and-business/2023-10-21/
LOCATION:Thomson Lodge No. 340\, 19 South Valley Road\, Paoli\, PA\, 19301\, United States
ATTACH;FMTTYPE=image/jpeg:https://thomsonlodge.com/wp-content/uploads/2023/01/Masonic-Instruction-3.jpg
END:VEVENT
BEGIN:VEVENT
DTSTART;TZID=America/New_York:20231014T083000
DTEND;TZID=America/New_York:20231014T100000
DTSTAMP:20260425T164258
CREATED:20230119T152014Z
LAST-MODIFIED:20240115T210344Z
UID:10000171-1697272200-1697277600@thomsonlodge.com
SUMMARY:LODGE OF INSTRUCTION
DESCRIPTION:Please join us for coffee\, donuts and study. We will practice and review the Work\, including Degrees and Business of the Lodge. \nThis is open to any Brother within the district. \n 
URL:https://thomsonlodge.com/event/masonic-instruction-degrees-ceremonies-and-business/2023-10-14/
LOCATION:Thomson Lodge No. 340\, 19 South Valley Road\, Paoli\, PA\, 19301\, United States
ATTACH;FMTTYPE=image/jpeg:https://thomsonlodge.com/wp-content/uploads/2023/01/Masonic-Instruction-3.jpg
END:VEVENT
BEGIN:VEVENT
DTSTART;TZID=America/New_York:20231011T183000
DTEND;TZID=America/New_York:20231011T210000
DTSTAMP:20260425T164258
CREATED:20221201T224943Z
LAST-MODIFIED:20230112T162652Z
UID:10000098-1697049000-1697058000@thomsonlodge.com
SUMMARY:STATED MEETING: THE HISTORY OF THOMSON LODGE
DESCRIPTION:Dinner will be served at 6:30 pm in the Social Hall at the Thomson Masonic Temple. \nStated meeting immediately following.
URL:https://thomsonlodge.com/event/stated-meeting-october-2023/
LOCATION:Thomson Lodge No. 340\, 19 South Valley Road\, Paoli\, PA\, 19301\, United States
ATTACH;FMTTYPE=image/jpeg:https://thomsonlodge.com/wp-content/uploads/2022/11/Stated-Meeting.jpg
END:VEVENT
BEGIN:VEVENT
DTSTART;TZID=America/New_York:20231009T190000
DTEND;TZID=America/New_York:20231009T210000
DTSTAMP:20260425T164258
CREATED:20221216T215732Z
LAST-MODIFIED:20230928T201641Z
UID:10000126-1696878000-1696885200@thomsonlodge.com
SUMMARY:DSOI: ELECTION & INSTALLATION (OPEN)
DESCRIPTION:
URL:https://thomsonlodge.com/event/district-school-of-instruction-8/
LOCATION:Brandywine-Goddard Lodge No. 383\, 360 East Lincoln Highway\, Coatesville\, PA\, 19320\, United States
ATTACH;FMTTYPE=image/jpeg:https://thomsonlodge.com/wp-content/uploads/2022/11/IMG_0070.jpg
END:VEVENT
BEGIN:VEVENT
DTSTART;TZID=America/New_York:20231007T160000
DTEND;TZID=America/New_York:20231007T220000
DTSTAMP:20260425T164258
CREATED:20221201T155323Z
LAST-MODIFIED:20221231T222235Z
UID:10000087-1696694400-1696716000@thomsonlodge.com
SUMMARY:BRANDYWINE BATTLEFIELD DEGREE
DESCRIPTION:
URL:https://thomsonlodge.com/event/brandywine-battlefield-degree/
LOCATION:Brandywine Battlefield\, 1491 Baltimore Pike\, Chadds Ford\, PA\, 19317\, United States
ATTACH;FMTTYPE=image/jpeg:https://thomsonlodge.com/wp-content/uploads/2022/11/Brandwine-Battlefield.jpg
END:VEVENT
BEGIN:VEVENT
DTSTART;TZID=America/New_York:20231007T083000
DTEND;TZID=America/New_York:20231007T100000
DTSTAMP:20260425T164258
CREATED:20230119T152014Z
LAST-MODIFIED:20240115T210344Z
UID:10000170-1696667400-1696672800@thomsonlodge.com
SUMMARY:LODGE OF INSTRUCTION
DESCRIPTION:Please join us for coffee\, donuts and study. We will practice and review the Work\, including Degrees and Business of the Lodge. \nThis is open to any Brother within the district. \n 
URL:https://thomsonlodge.com/event/masonic-instruction-degrees-ceremonies-and-business/2023-10-07/
LOCATION:Thomson Lodge No. 340\, 19 South Valley Road\, Paoli\, PA\, 19301\, United States
ATTACH;FMTTYPE=image/jpeg:https://thomsonlodge.com/wp-content/uploads/2023/01/Masonic-Instruction-3.jpg
END:VEVENT
BEGIN:VEVENT
DTSTART;TZID=America/New_York:20231006T100000
DTEND;TZID=America/New_York:20231006T190000
DTSTAMP:20260425T164258
CREATED:20230121T201834Z
LAST-MODIFIED:20230121T202825Z
UID:10000406-1696586400-1696618800@thomsonlodge.com
SUMMARY:BLOOD DRIVE: LULU SHRINE
DESCRIPTION:LuLu Shriners will be hosting blood drives for the Masonic Blood+Organ Donor Program. \nTo schedule an appointment\, please call:\n1 (800) 733-2767\nUse sponsor code: LuLu \nOr schedule online at:\nredcrossblood.org\nUse sponsor code: LuLu \nProceeds benefit Shriners Children’s.
URL:https://thomsonlodge.com/event/blood-drive-lulu-shrine/2023-10-06/
LOCATION:LuLu Shrine\, 5140 Butler Pike\, Plymouth Meeting\, PA\, 19462\, United States
ATTACH;FMTTYPE=image/jpeg:https://thomsonlodge.com/wp-content/uploads/2023/01/Blood-Donation.jpg
END:VEVENT
BEGIN:VEVENT
DTSTART;TZID=America/New_York:20231005T190000
DTEND;TZID=America/New_York:20231005T210000
DTSTAMP:20260425T164258
CREATED:20221201T152223Z
LAST-MODIFIED:20221231T222244Z
UID:10000088-1696532400-1696539600@thomsonlodge.com
SUMMARY:DISTRICT VISITATION: KENNETT LODGE NO. 475
DESCRIPTION:
URL:https://thomsonlodge.com/event/district-visitation-kennett-lodge-no-475/
LOCATION:Kennett Lodge No. 475\, 121 Center Street\, Kennett Square\, PA\, 19348\, United States
ATTACH;FMTTYPE=image/jpeg:https://thomsonlodge.com/wp-content/uploads/2022/12/Kennett-Lodge.jpg
END:VEVENT
BEGIN:VEVENT
DTSTART;TZID=America/New_York:20231005T100000
DTEND;TZID=America/New_York:20231005T190000
DTSTAMP:20260425T164258
CREATED:20230121T201834Z
LAST-MODIFIED:20230121T202825Z
UID:10000405-1696500000-1696532400@thomsonlodge.com
SUMMARY:BLOOD DRIVE: LULU SHRINE
DESCRIPTION:LuLu Shriners will be hosting blood drives for the Masonic Blood+Organ Donor Program. \nTo schedule an appointment\, please call:\n1 (800) 733-2767\nUse sponsor code: LuLu \nOr schedule online at:\nredcrossblood.org\nUse sponsor code: LuLu \nProceeds benefit Shriners Children’s.
URL:https://thomsonlodge.com/event/blood-drive-lulu-shrine/2023-10-05/
LOCATION:LuLu Shrine\, 5140 Butler Pike\, Plymouth Meeting\, PA\, 19462\, United States
ATTACH;FMTTYPE=image/jpeg:https://thomsonlodge.com/wp-content/uploads/2023/01/Blood-Donation.jpg
END:VEVENT
BEGIN:VEVENT
DTSTART;TZID=America/New_York:20230930T083000
DTEND;TZID=America/New_York:20230930T100000
DTSTAMP:20260425T164258
CREATED:20230119T152014Z
LAST-MODIFIED:20240115T210344Z
UID:10000169-1696062600-1696068000@thomsonlodge.com
SUMMARY:LODGE OF INSTRUCTION
DESCRIPTION:Please join us for coffee\, donuts and study. We will practice and review the Work\, including Degrees and Business of the Lodge. \nThis is open to any Brother within the district. \n 
URL:https://thomsonlodge.com/event/masonic-instruction-degrees-ceremonies-and-business/2023-09-30/
LOCATION:Thomson Lodge No. 340\, 19 South Valley Road\, Paoli\, PA\, 19301\, United States
ATTACH;FMTTYPE=image/jpeg:https://thomsonlodge.com/wp-content/uploads/2023/01/Masonic-Instruction-3.jpg
END:VEVENT
BEGIN:VEVENT
DTSTART;TZID=America/New_York:20230923T083000
DTEND;TZID=America/New_York:20230923T100000
DTSTAMP:20260425T164258
CREATED:20230119T152014Z
LAST-MODIFIED:20240115T210344Z
UID:10000168-1695457800-1695463200@thomsonlodge.com
SUMMARY:LODGE OF INSTRUCTION
DESCRIPTION:Please join us for coffee\, donuts and study. We will practice and review the Work\, including Degrees and Business of the Lodge. \nThis is open to any Brother within the district. \n 
URL:https://thomsonlodge.com/event/masonic-instruction-degrees-ceremonies-and-business/2023-09-23/
LOCATION:Thomson Lodge No. 340\, 19 South Valley Road\, Paoli\, PA\, 19301\, United States
ATTACH;FMTTYPE=image/jpeg:https://thomsonlodge.com/wp-content/uploads/2023/01/Masonic-Instruction-3.jpg
END:VEVENT
BEGIN:VEVENT
DTSTART;TZID=America/New_York:20230918T190000
DTEND;TZID=America/New_York:20230918T210000
DTSTAMP:20260425T164258
CREATED:20221201T151743Z
LAST-MODIFIED:20221231T222254Z
UID:10000089-1695063600-1695070800@thomsonlodge.com
SUMMARY:DISTRICT VISITATION: NEW LONDON LODGE NO. 545
DESCRIPTION:
URL:https://thomsonlodge.com/event/district-visitation-new-london-lodge-no-545/
LOCATION:New London Lodge No. 545\, 902 State Road\, West Grove\, PA\, 19390\, United States
ATTACH;FMTTYPE=image/jpeg:https://thomsonlodge.com/wp-content/uploads/2022/12/New-London-Lodge.jpg
END:VEVENT
BEGIN:VEVENT
DTSTART;TZID=America/New_York:20230916T083000
DTEND;TZID=America/New_York:20230916T100000
DTSTAMP:20260425T164258
CREATED:20230119T152014Z
LAST-MODIFIED:20240115T210344Z
UID:10000167-1694853000-1694858400@thomsonlodge.com
SUMMARY:LODGE OF INSTRUCTION
DESCRIPTION:Please join us for coffee\, donuts and study. We will practice and review the Work\, including Degrees and Business of the Lodge. \nThis is open to any Brother within the district. \n 
URL:https://thomsonlodge.com/event/masonic-instruction-degrees-ceremonies-and-business/2023-09-16/
LOCATION:Thomson Lodge No. 340\, 19 South Valley Road\, Paoli\, PA\, 19301\, United States
ATTACH;FMTTYPE=image/jpeg:https://thomsonlodge.com/wp-content/uploads/2023/01/Masonic-Instruction-3.jpg
END:VEVENT
BEGIN:VEVENT
DTSTART;TZID=America/New_York:20230913T183000
DTEND;TZID=America/New_York:20230913T210000
DTSTAMP:20260425T164258
CREATED:20221201T224903Z
LAST-MODIFIED:20230112T162621Z
UID:10000097-1694629800-1694638800@thomsonlodge.com
SUMMARY:STATED MEETING: SHEDDING LIGHT ON ANNO LUCAS (A.L.) AND OTHER TIME STAMPS
DESCRIPTION:Dinner will be served at 6:30 pm in the Social Hall at the Thomson Masonic Temple. \nStated meeting immediately following.
URL:https://thomsonlodge.com/event/stated-meeting-september-2023/
LOCATION:Thomson Lodge No. 340\, 19 South Valley Road\, Paoli\, PA\, 19301\, United States
ATTACH;FMTTYPE=image/jpeg:https://thomsonlodge.com/wp-content/uploads/2022/11/Stated-Meeting.jpg
END:VEVENT
BEGIN:VEVENT
DTSTART;TZID=America/New_York:20230911T190000
DTEND;TZID=America/New_York:20230911T210000
DTSTAMP:20260425T164258
CREATED:20221216T215630Z
LAST-MODIFIED:20221231T222346Z
UID:10000125-1694458800-1694466000@thomsonlodge.com
SUMMARY:DISTRICT SCHOOL OF INSTRUCTION
DESCRIPTION:
URL:https://thomsonlodge.com/event/district-school-of-instruction-7/
LOCATION:Brandywine-Goddard Lodge No. 383\, 360 East Lincoln Highway\, Coatesville\, PA\, 19320\, United States
ATTACH;FMTTYPE=image/jpeg:https://thomsonlodge.com/wp-content/uploads/2022/11/IMG_0070.jpg
END:VEVENT
BEGIN:VEVENT
DTSTART;TZID=America/New_York:20230909T180500
DTEND;TZID=America/New_York:20230909T220000
DTSTAMP:20260425T164258
CREATED:20230814T205510Z
LAST-MODIFIED:20230814T205510Z
UID:10000416-1694282700-1694296800@thomsonlodge.com
SUMMARY:MASONIC BROTHERHOOD AND FAMILY NIGHT
DESCRIPTION:Tickets are on sale now for our event at the Phillies on Saturday\, September 9th at 6:05pm. The seats are located in the lower-level sections of 145 to 147\, which are right by the concessions in Ashburn Alley. The event is open to Masons\, Non-Masons and their family members. \nPrior to the game we will enjoy a tailgate party in the parking lot with hot dogs and other refreshments. \nEnter the code MASONS at checkout to receive our group discount. Hope to see you there! \nPurchase tickets here.
URL:https://thomsonlodge.com/event/masonic-brotherhood-and-family-night/
LOCATION:Citizens Bank Park\, 1 Citizens Bank Way\, Philadelphia\, PA\, 19148\, United States
ATTACH;FMTTYPE=image/jpeg:https://thomsonlodge.com/wp-content/uploads/2023/08/phillies.jpg
END:VEVENT
BEGIN:VEVENT
DTSTART;TZID=America/New_York:20230909T083000
DTEND;TZID=America/New_York:20230909T100000
DTSTAMP:20260425T164258
CREATED:20230119T152014Z
LAST-MODIFIED:20240115T210344Z
UID:10000166-1694248200-1694253600@thomsonlodge.com
SUMMARY:LODGE OF INSTRUCTION
DESCRIPTION:Please join us for coffee\, donuts and study. We will practice and review the Work\, including Degrees and Business of the Lodge. \nThis is open to any Brother within the district. \n 
URL:https://thomsonlodge.com/event/masonic-instruction-degrees-ceremonies-and-business/2023-09-09/
LOCATION:Thomson Lodge No. 340\, 19 South Valley Road\, Paoli\, PA\, 19301\, United States
ATTACH;FMTTYPE=image/jpeg:https://thomsonlodge.com/wp-content/uploads/2023/01/Masonic-Instruction-3.jpg
END:VEVENT
BEGIN:VEVENT
DTSTART;TZID=America/New_York:20230905T190000
DTEND;TZID=America/New_York:20230905T210000
DTSTAMP:20260425T164258
CREATED:20221201T151208Z
LAST-MODIFIED:20221231T222359Z
UID:10000090-1693940400-1693947600@thomsonlodge.com
SUMMARY:DISTRICT VISITATION: WEST CHESTER LODGE NO. 322
DESCRIPTION:
URL:https://thomsonlodge.com/event/district-visitation-west-chester-lodge-no-322/
LOCATION:West Chester Lodge No. 322\, 10 S Church St #1\, West Chester\, PA\, 19382\, United States
ATTACH;FMTTYPE=image/jpeg:https://thomsonlodge.com/wp-content/uploads/2022/12/West-Chester-Lodge.jpg
END:VEVENT
END:VCALENDAR