BEGIN:VCALENDAR
VERSION:2.0
PRODID:-//Thomson Lodge No. 340 - ECPv6.15.20//NONSGML v1.0//EN
CALSCALE:GREGORIAN
METHOD:PUBLISH
X-WR-CALNAME:Thomson Lodge No. 340
X-ORIGINAL-URL:https://thomsonlodge.com
X-WR-CALDESC:Events for Thomson Lodge No. 340
REFRESH-INTERVAL;VALUE=DURATION:PT1H
X-Robots-Tag:noindex
X-PUBLISHED-TTL:PT1H
BEGIN:VTIMEZONE
TZID:America/New_York
BEGIN:DAYLIGHT
TZOFFSETFROM:-0500
TZOFFSETTO:-0400
TZNAME:EDT
DTSTART:20240310T070000
END:DAYLIGHT
BEGIN:STANDARD
TZOFFSETFROM:-0400
TZOFFSETTO:-0500
TZNAME:EST
DTSTART:20241103T060000
END:STANDARD
BEGIN:DAYLIGHT
TZOFFSETFROM:-0500
TZOFFSETTO:-0400
TZNAME:EDT
DTSTART:20250309T070000
END:DAYLIGHT
BEGIN:STANDARD
TZOFFSETFROM:-0400
TZOFFSETTO:-0500
TZNAME:EST
DTSTART:20251102T060000
END:STANDARD
BEGIN:DAYLIGHT
TZOFFSETFROM:-0500
TZOFFSETTO:-0400
TZNAME:EDT
DTSTART:20260308T070000
END:DAYLIGHT
BEGIN:STANDARD
TZOFFSETFROM:-0400
TZOFFSETTO:-0500
TZNAME:EST
DTSTART:20261101T060000
END:STANDARD
END:VTIMEZONE
BEGIN:VEVENT
DTSTART;TZID=America/New_York:20251227T083000
DTEND;TZID=America/New_York:20251227T100000
DTSTAMP:20260423T191716
CREATED:20230119T152014Z
LAST-MODIFIED:20240115T210344Z
UID:10000286-1766824200-1766829600@thomsonlodge.com
SUMMARY:LODGE OF INSTRUCTION
DESCRIPTION:Please join us for coffee\, donuts and study. We will practice and review the Work\, including Degrees and Business of the Lodge. \nThis is open to any Brother within the district. \n 
URL:https://thomsonlodge.com/event/masonic-instruction-degrees-ceremonies-and-business/2025-12-27/
LOCATION:Thomson Lodge No. 340\, 19 South Valley Road\, Paoli\, PA\, 19301\, United States
ATTACH;FMTTYPE=image/jpeg:https://thomsonlodge.com/wp-content/uploads/2023/01/Masonic-Instruction-3.jpg
END:VEVENT
BEGIN:VEVENT
DTSTART;TZID=America/New_York:20251220T083000
DTEND;TZID=America/New_York:20251220T100000
DTSTAMP:20260423T191716
CREATED:20230119T152014Z
LAST-MODIFIED:20240115T210344Z
UID:10000285-1766219400-1766224800@thomsonlodge.com
SUMMARY:LODGE OF INSTRUCTION
DESCRIPTION:Please join us for coffee\, donuts and study. We will practice and review the Work\, including Degrees and Business of the Lodge. \nThis is open to any Brother within the district. \n 
URL:https://thomsonlodge.com/event/masonic-instruction-degrees-ceremonies-and-business/2025-12-20/
LOCATION:Thomson Lodge No. 340\, 19 South Valley Road\, Paoli\, PA\, 19301\, United States
ATTACH;FMTTYPE=image/jpeg:https://thomsonlodge.com/wp-content/uploads/2023/01/Masonic-Instruction-3.jpg
END:VEVENT
BEGIN:VEVENT
DTSTART;TZID=America/New_York:20251213T083000
DTEND;TZID=America/New_York:20251213T100000
DTSTAMP:20260423T191716
CREATED:20230119T152014Z
LAST-MODIFIED:20240115T210344Z
UID:10000284-1765614600-1765620000@thomsonlodge.com
SUMMARY:LODGE OF INSTRUCTION
DESCRIPTION:Please join us for coffee\, donuts and study. We will practice and review the Work\, including Degrees and Business of the Lodge. \nThis is open to any Brother within the district. \n 
URL:https://thomsonlodge.com/event/masonic-instruction-degrees-ceremonies-and-business/2025-12-13/
LOCATION:Thomson Lodge No. 340\, 19 South Valley Road\, Paoli\, PA\, 19301\, United States
ATTACH;FMTTYPE=image/jpeg:https://thomsonlodge.com/wp-content/uploads/2023/01/Masonic-Instruction-3.jpg
END:VEVENT
BEGIN:VEVENT
DTSTART;TZID=America/New_York:20251206T083000
DTEND;TZID=America/New_York:20251206T100000
DTSTAMP:20260423T191716
CREATED:20230119T152014Z
LAST-MODIFIED:20240115T210344Z
UID:10000283-1765009800-1765015200@thomsonlodge.com
SUMMARY:LODGE OF INSTRUCTION
DESCRIPTION:Please join us for coffee\, donuts and study. We will practice and review the Work\, including Degrees and Business of the Lodge. \nThis is open to any Brother within the district. \n 
URL:https://thomsonlodge.com/event/masonic-instruction-degrees-ceremonies-and-business/2025-12-06/
LOCATION:Thomson Lodge No. 340\, 19 South Valley Road\, Paoli\, PA\, 19301\, United States
ATTACH;FMTTYPE=image/jpeg:https://thomsonlodge.com/wp-content/uploads/2023/01/Masonic-Instruction-3.jpg
END:VEVENT
BEGIN:VEVENT
DTSTART;TZID=America/New_York:20251203T190000
DTEND;TZID=America/New_York:20251203T203000
DTSTAMP:20260423T191716
CREATED:20240209T200901Z
LAST-MODIFIED:20240209T200901Z
UID:10000604-1764788400-1764793800@thomsonlodge.com
SUMMARY:ESOTERIC KNOWLEDGE DISCUSSION
DESCRIPTION:
URL:https://thomsonlodge.com/event/esoteric-knowledge-discussion-3/2025-12-03/
LOCATION:Thomson Lodge No. 340\, 19 South Valley Road\, Paoli\, PA\, 19301\, United States
ATTACH;FMTTYPE=image/jpeg:https://thomsonlodge.com/wp-content/uploads/2023/12/Esoteric-Discussion.jpg
END:VEVENT
BEGIN:VEVENT
DTSTART;TZID=America/New_York:20251129T083000
DTEND;TZID=America/New_York:20251129T100000
DTSTAMP:20260423T191716
CREATED:20230119T152014Z
LAST-MODIFIED:20240115T210344Z
UID:10000282-1764405000-1764410400@thomsonlodge.com
SUMMARY:LODGE OF INSTRUCTION
DESCRIPTION:Please join us for coffee\, donuts and study. We will practice and review the Work\, including Degrees and Business of the Lodge. \nThis is open to any Brother within the district. \n 
URL:https://thomsonlodge.com/event/masonic-instruction-degrees-ceremonies-and-business/2025-11-29/
LOCATION:Thomson Lodge No. 340\, 19 South Valley Road\, Paoli\, PA\, 19301\, United States
ATTACH;FMTTYPE=image/jpeg:https://thomsonlodge.com/wp-content/uploads/2023/01/Masonic-Instruction-3.jpg
END:VEVENT
BEGIN:VEVENT
DTSTART;TZID=America/New_York:20251122T083000
DTEND;TZID=America/New_York:20251122T100000
DTSTAMP:20260423T191716
CREATED:20230119T152014Z
LAST-MODIFIED:20240115T210344Z
UID:10000281-1763800200-1763805600@thomsonlodge.com
SUMMARY:LODGE OF INSTRUCTION
DESCRIPTION:Please join us for coffee\, donuts and study. We will practice and review the Work\, including Degrees and Business of the Lodge. \nThis is open to any Brother within the district. \n 
URL:https://thomsonlodge.com/event/masonic-instruction-degrees-ceremonies-and-business/2025-11-22/
LOCATION:Thomson Lodge No. 340\, 19 South Valley Road\, Paoli\, PA\, 19301\, United States
ATTACH;FMTTYPE=image/jpeg:https://thomsonlodge.com/wp-content/uploads/2023/01/Masonic-Instruction-3.jpg
END:VEVENT
BEGIN:VEVENT
DTSTART;TZID=America/New_York:20251115T083000
DTEND;TZID=America/New_York:20251115T100000
DTSTAMP:20260423T191716
CREATED:20230119T152014Z
LAST-MODIFIED:20240115T210344Z
UID:10000280-1763195400-1763200800@thomsonlodge.com
SUMMARY:LODGE OF INSTRUCTION
DESCRIPTION:Please join us for coffee\, donuts and study. We will practice and review the Work\, including Degrees and Business of the Lodge. \nThis is open to any Brother within the district. \n 
URL:https://thomsonlodge.com/event/masonic-instruction-degrees-ceremonies-and-business/2025-11-15/
LOCATION:Thomson Lodge No. 340\, 19 South Valley Road\, Paoli\, PA\, 19301\, United States
ATTACH;FMTTYPE=image/jpeg:https://thomsonlodge.com/wp-content/uploads/2023/01/Masonic-Instruction-3.jpg
END:VEVENT
BEGIN:VEVENT
DTSTART;TZID=America/New_York:20251108T083000
DTEND;TZID=America/New_York:20251108T100000
DTSTAMP:20260423T191716
CREATED:20230119T152014Z
LAST-MODIFIED:20240115T210344Z
UID:10000279-1762590600-1762596000@thomsonlodge.com
SUMMARY:LODGE OF INSTRUCTION
DESCRIPTION:Please join us for coffee\, donuts and study. We will practice and review the Work\, including Degrees and Business of the Lodge. \nThis is open to any Brother within the district. \n 
URL:https://thomsonlodge.com/event/masonic-instruction-degrees-ceremonies-and-business/2025-11-08/
LOCATION:Thomson Lodge No. 340\, 19 South Valley Road\, Paoli\, PA\, 19301\, United States
ATTACH;FMTTYPE=image/jpeg:https://thomsonlodge.com/wp-content/uploads/2023/01/Masonic-Instruction-3.jpg
END:VEVENT
BEGIN:VEVENT
DTSTART;TZID=America/New_York:20251105T190000
DTEND;TZID=America/New_York:20251105T203000
DTSTAMP:20260423T191716
CREATED:20240209T200901Z
LAST-MODIFIED:20240209T200901Z
UID:10000603-1762369200-1762374600@thomsonlodge.com
SUMMARY:ESOTERIC KNOWLEDGE DISCUSSION
DESCRIPTION:
URL:https://thomsonlodge.com/event/esoteric-knowledge-discussion-3/2025-11-05/
LOCATION:Thomson Lodge No. 340\, 19 South Valley Road\, Paoli\, PA\, 19301\, United States
ATTACH;FMTTYPE=image/jpeg:https://thomsonlodge.com/wp-content/uploads/2023/12/Esoteric-Discussion.jpg
END:VEVENT
BEGIN:VEVENT
DTSTART;TZID=America/New_York:20251101T083000
DTEND;TZID=America/New_York:20251101T100000
DTSTAMP:20260423T191716
CREATED:20230119T152014Z
LAST-MODIFIED:20240115T210344Z
UID:10000278-1761985800-1761991200@thomsonlodge.com
SUMMARY:LODGE OF INSTRUCTION
DESCRIPTION:Please join us for coffee\, donuts and study. We will practice and review the Work\, including Degrees and Business of the Lodge. \nThis is open to any Brother within the district. \n 
URL:https://thomsonlodge.com/event/masonic-instruction-degrees-ceremonies-and-business/2025-11-01/
LOCATION:Thomson Lodge No. 340\, 19 South Valley Road\, Paoli\, PA\, 19301\, United States
ATTACH;FMTTYPE=image/jpeg:https://thomsonlodge.com/wp-content/uploads/2023/01/Masonic-Instruction-3.jpg
END:VEVENT
BEGIN:VEVENT
DTSTART;TZID=America/New_York:20251025T083000
DTEND;TZID=America/New_York:20251025T100000
DTSTAMP:20260423T191716
CREATED:20230119T152014Z
LAST-MODIFIED:20240115T210344Z
UID:10000277-1761381000-1761386400@thomsonlodge.com
SUMMARY:LODGE OF INSTRUCTION
DESCRIPTION:Please join us for coffee\, donuts and study. We will practice and review the Work\, including Degrees and Business of the Lodge. \nThis is open to any Brother within the district. \n 
URL:https://thomsonlodge.com/event/masonic-instruction-degrees-ceremonies-and-business/2025-10-25/
LOCATION:Thomson Lodge No. 340\, 19 South Valley Road\, Paoli\, PA\, 19301\, United States
ATTACH;FMTTYPE=image/jpeg:https://thomsonlodge.com/wp-content/uploads/2023/01/Masonic-Instruction-3.jpg
END:VEVENT
BEGIN:VEVENT
DTSTART;TZID=America/New_York:20251018T083000
DTEND;TZID=America/New_York:20251018T100000
DTSTAMP:20260423T191716
CREATED:20230119T152014Z
LAST-MODIFIED:20240115T210344Z
UID:10000276-1760776200-1760781600@thomsonlodge.com
SUMMARY:LODGE OF INSTRUCTION
DESCRIPTION:Please join us for coffee\, donuts and study. We will practice and review the Work\, including Degrees and Business of the Lodge. \nThis is open to any Brother within the district. \n 
URL:https://thomsonlodge.com/event/masonic-instruction-degrees-ceremonies-and-business/2025-10-18/
LOCATION:Thomson Lodge No. 340\, 19 South Valley Road\, Paoli\, PA\, 19301\, United States
ATTACH;FMTTYPE=image/jpeg:https://thomsonlodge.com/wp-content/uploads/2023/01/Masonic-Instruction-3.jpg
END:VEVENT
BEGIN:VEVENT
DTSTART;TZID=America/New_York:20251011T083000
DTEND;TZID=America/New_York:20251011T100000
DTSTAMP:20260423T191716
CREATED:20230119T152014Z
LAST-MODIFIED:20240115T210344Z
UID:10000275-1760171400-1760176800@thomsonlodge.com
SUMMARY:LODGE OF INSTRUCTION
DESCRIPTION:Please join us for coffee\, donuts and study. We will practice and review the Work\, including Degrees and Business of the Lodge. \nThis is open to any Brother within the district. \n 
URL:https://thomsonlodge.com/event/masonic-instruction-degrees-ceremonies-and-business/2025-10-11/
LOCATION:Thomson Lodge No. 340\, 19 South Valley Road\, Paoli\, PA\, 19301\, United States
ATTACH;FMTTYPE=image/jpeg:https://thomsonlodge.com/wp-content/uploads/2023/01/Masonic-Instruction-3.jpg
END:VEVENT
BEGIN:VEVENT
DTSTART;TZID=America/New_York:20251004T083000
DTEND;TZID=America/New_York:20251004T100000
DTSTAMP:20260423T191716
CREATED:20230119T152014Z
LAST-MODIFIED:20240115T210344Z
UID:10000274-1759566600-1759572000@thomsonlodge.com
SUMMARY:LODGE OF INSTRUCTION
DESCRIPTION:Please join us for coffee\, donuts and study. We will practice and review the Work\, including Degrees and Business of the Lodge. \nThis is open to any Brother within the district. \n 
URL:https://thomsonlodge.com/event/masonic-instruction-degrees-ceremonies-and-business/2025-10-04/
LOCATION:Thomson Lodge No. 340\, 19 South Valley Road\, Paoli\, PA\, 19301\, United States
ATTACH;FMTTYPE=image/jpeg:https://thomsonlodge.com/wp-content/uploads/2023/01/Masonic-Instruction-3.jpg
END:VEVENT
BEGIN:VEVENT
DTSTART;TZID=America/New_York:20251001T190000
DTEND;TZID=America/New_York:20251001T203000
DTSTAMP:20260423T191716
CREATED:20240209T200901Z
LAST-MODIFIED:20240209T200901Z
UID:10000602-1759345200-1759350600@thomsonlodge.com
SUMMARY:ESOTERIC KNOWLEDGE DISCUSSION
DESCRIPTION:
URL:https://thomsonlodge.com/event/esoteric-knowledge-discussion-3/2025-10-01/
LOCATION:Thomson Lodge No. 340\, 19 South Valley Road\, Paoli\, PA\, 19301\, United States
ATTACH;FMTTYPE=image/jpeg:https://thomsonlodge.com/wp-content/uploads/2023/12/Esoteric-Discussion.jpg
END:VEVENT
BEGIN:VEVENT
DTSTART;TZID=America/New_York:20250927T083000
DTEND;TZID=America/New_York:20250927T100000
DTSTAMP:20260423T191716
CREATED:20230119T152014Z
LAST-MODIFIED:20240115T210344Z
UID:10000273-1758961800-1758967200@thomsonlodge.com
SUMMARY:LODGE OF INSTRUCTION
DESCRIPTION:Please join us for coffee\, donuts and study. We will practice and review the Work\, including Degrees and Business of the Lodge. \nThis is open to any Brother within the district. \n 
URL:https://thomsonlodge.com/event/masonic-instruction-degrees-ceremonies-and-business/2025-09-27/
LOCATION:Thomson Lodge No. 340\, 19 South Valley Road\, Paoli\, PA\, 19301\, United States
ATTACH;FMTTYPE=image/jpeg:https://thomsonlodge.com/wp-content/uploads/2023/01/Masonic-Instruction-3.jpg
END:VEVENT
BEGIN:VEVENT
DTSTART;TZID=America/New_York:20250920T083000
DTEND;TZID=America/New_York:20250920T100000
DTSTAMP:20260423T191716
CREATED:20230119T152014Z
LAST-MODIFIED:20240115T210344Z
UID:10000272-1758357000-1758362400@thomsonlodge.com
SUMMARY:LODGE OF INSTRUCTION
DESCRIPTION:Please join us for coffee\, donuts and study. We will practice and review the Work\, including Degrees and Business of the Lodge. \nThis is open to any Brother within the district. \n 
URL:https://thomsonlodge.com/event/masonic-instruction-degrees-ceremonies-and-business/2025-09-20/
LOCATION:Thomson Lodge No. 340\, 19 South Valley Road\, Paoli\, PA\, 19301\, United States
ATTACH;FMTTYPE=image/jpeg:https://thomsonlodge.com/wp-content/uploads/2023/01/Masonic-Instruction-3.jpg
END:VEVENT
BEGIN:VEVENT
DTSTART;TZID=America/New_York:20250913T083000
DTEND;TZID=America/New_York:20250913T100000
DTSTAMP:20260423T191716
CREATED:20230119T152014Z
LAST-MODIFIED:20240115T210344Z
UID:10000271-1757752200-1757757600@thomsonlodge.com
SUMMARY:LODGE OF INSTRUCTION
DESCRIPTION:Please join us for coffee\, donuts and study. We will practice and review the Work\, including Degrees and Business of the Lodge. \nThis is open to any Brother within the district. \n 
URL:https://thomsonlodge.com/event/masonic-instruction-degrees-ceremonies-and-business/2025-09-13/
LOCATION:Thomson Lodge No. 340\, 19 South Valley Road\, Paoli\, PA\, 19301\, United States
ATTACH;FMTTYPE=image/jpeg:https://thomsonlodge.com/wp-content/uploads/2023/01/Masonic-Instruction-3.jpg
END:VEVENT
BEGIN:VEVENT
DTSTART;TZID=America/New_York:20250906T083000
DTEND;TZID=America/New_York:20250906T100000
DTSTAMP:20260423T191716
CREATED:20230119T152014Z
LAST-MODIFIED:20240115T210344Z
UID:10000270-1757147400-1757152800@thomsonlodge.com
SUMMARY:LODGE OF INSTRUCTION
DESCRIPTION:Please join us for coffee\, donuts and study. We will practice and review the Work\, including Degrees and Business of the Lodge. \nThis is open to any Brother within the district. \n 
URL:https://thomsonlodge.com/event/masonic-instruction-degrees-ceremonies-and-business/2025-09-06/
LOCATION:Thomson Lodge No. 340\, 19 South Valley Road\, Paoli\, PA\, 19301\, United States
ATTACH;FMTTYPE=image/jpeg:https://thomsonlodge.com/wp-content/uploads/2023/01/Masonic-Instruction-3.jpg
END:VEVENT
BEGIN:VEVENT
DTSTART;TZID=America/New_York:20250903T190000
DTEND;TZID=America/New_York:20250903T203000
DTSTAMP:20260423T191716
CREATED:20240209T200901Z
LAST-MODIFIED:20240209T200901Z
UID:10000601-1756926000-1756931400@thomsonlodge.com
SUMMARY:ESOTERIC KNOWLEDGE DISCUSSION
DESCRIPTION:
URL:https://thomsonlodge.com/event/esoteric-knowledge-discussion-3/2025-09-03/
LOCATION:Thomson Lodge No. 340\, 19 South Valley Road\, Paoli\, PA\, 19301\, United States
ATTACH;FMTTYPE=image/jpeg:https://thomsonlodge.com/wp-content/uploads/2023/12/Esoteric-Discussion.jpg
END:VEVENT
BEGIN:VEVENT
DTSTART;TZID=America/New_York:20250830T083000
DTEND;TZID=America/New_York:20250830T100000
DTSTAMP:20260423T191716
CREATED:20230119T152014Z
LAST-MODIFIED:20240115T210344Z
UID:10000269-1756542600-1756548000@thomsonlodge.com
SUMMARY:LODGE OF INSTRUCTION
DESCRIPTION:Please join us for coffee\, donuts and study. We will practice and review the Work\, including Degrees and Business of the Lodge. \nThis is open to any Brother within the district. \n 
URL:https://thomsonlodge.com/event/masonic-instruction-degrees-ceremonies-and-business/2025-08-30/
LOCATION:Thomson Lodge No. 340\, 19 South Valley Road\, Paoli\, PA\, 19301\, United States
ATTACH;FMTTYPE=image/jpeg:https://thomsonlodge.com/wp-content/uploads/2023/01/Masonic-Instruction-3.jpg
END:VEVENT
BEGIN:VEVENT
DTSTART;TZID=America/New_York:20250823T083000
DTEND;TZID=America/New_York:20250823T100000
DTSTAMP:20260423T191716
CREATED:20230119T152014Z
LAST-MODIFIED:20240115T210344Z
UID:10000268-1755937800-1755943200@thomsonlodge.com
SUMMARY:LODGE OF INSTRUCTION
DESCRIPTION:Please join us for coffee\, donuts and study. We will practice and review the Work\, including Degrees and Business of the Lodge. \nThis is open to any Brother within the district. \n 
URL:https://thomsonlodge.com/event/masonic-instruction-degrees-ceremonies-and-business/2025-08-23/
LOCATION:Thomson Lodge No. 340\, 19 South Valley Road\, Paoli\, PA\, 19301\, United States
ATTACH;FMTTYPE=image/jpeg:https://thomsonlodge.com/wp-content/uploads/2023/01/Masonic-Instruction-3.jpg
END:VEVENT
BEGIN:VEVENT
DTSTART;TZID=America/New_York:20250816T083000
DTEND;TZID=America/New_York:20250816T100000
DTSTAMP:20260423T191716
CREATED:20230119T152014Z
LAST-MODIFIED:20240115T210344Z
UID:10000267-1755333000-1755338400@thomsonlodge.com
SUMMARY:LODGE OF INSTRUCTION
DESCRIPTION:Please join us for coffee\, donuts and study. We will practice and review the Work\, including Degrees and Business of the Lodge. \nThis is open to any Brother within the district. \n 
URL:https://thomsonlodge.com/event/masonic-instruction-degrees-ceremonies-and-business/2025-08-16/
LOCATION:Thomson Lodge No. 340\, 19 South Valley Road\, Paoli\, PA\, 19301\, United States
ATTACH;FMTTYPE=image/jpeg:https://thomsonlodge.com/wp-content/uploads/2023/01/Masonic-Instruction-3.jpg
END:VEVENT
BEGIN:VEVENT
DTSTART;TZID=America/New_York:20250809T083000
DTEND;TZID=America/New_York:20250809T100000
DTSTAMP:20260423T191716
CREATED:20230119T152014Z
LAST-MODIFIED:20240115T210344Z
UID:10000266-1754728200-1754733600@thomsonlodge.com
SUMMARY:LODGE OF INSTRUCTION
DESCRIPTION:Please join us for coffee\, donuts and study. We will practice and review the Work\, including Degrees and Business of the Lodge. \nThis is open to any Brother within the district. \n 
URL:https://thomsonlodge.com/event/masonic-instruction-degrees-ceremonies-and-business/2025-08-09/
LOCATION:Thomson Lodge No. 340\, 19 South Valley Road\, Paoli\, PA\, 19301\, United States
ATTACH;FMTTYPE=image/jpeg:https://thomsonlodge.com/wp-content/uploads/2023/01/Masonic-Instruction-3.jpg
END:VEVENT
BEGIN:VEVENT
DTSTART;TZID=America/New_York:20250806T190000
DTEND;TZID=America/New_York:20250806T203000
DTSTAMP:20260423T191716
CREATED:20240209T200901Z
LAST-MODIFIED:20240209T200901Z
UID:10000600-1754506800-1754512200@thomsonlodge.com
SUMMARY:ESOTERIC KNOWLEDGE DISCUSSION
DESCRIPTION:
URL:https://thomsonlodge.com/event/esoteric-knowledge-discussion-3/2025-08-06/
LOCATION:Thomson Lodge No. 340\, 19 South Valley Road\, Paoli\, PA\, 19301\, United States
ATTACH;FMTTYPE=image/jpeg:https://thomsonlodge.com/wp-content/uploads/2023/12/Esoteric-Discussion.jpg
END:VEVENT
BEGIN:VEVENT
DTSTART;TZID=America/New_York:20250802T083000
DTEND;TZID=America/New_York:20250802T100000
DTSTAMP:20260423T191716
CREATED:20230119T152014Z
LAST-MODIFIED:20240115T210344Z
UID:10000265-1754123400-1754128800@thomsonlodge.com
SUMMARY:LODGE OF INSTRUCTION
DESCRIPTION:Please join us for coffee\, donuts and study. We will practice and review the Work\, including Degrees and Business of the Lodge. \nThis is open to any Brother within the district. \n 
URL:https://thomsonlodge.com/event/masonic-instruction-degrees-ceremonies-and-business/2025-08-02/
LOCATION:Thomson Lodge No. 340\, 19 South Valley Road\, Paoli\, PA\, 19301\, United States
ATTACH;FMTTYPE=image/jpeg:https://thomsonlodge.com/wp-content/uploads/2023/01/Masonic-Instruction-3.jpg
END:VEVENT
BEGIN:VEVENT
DTSTART;TZID=America/New_York:20250726T083000
DTEND;TZID=America/New_York:20250726T100000
DTSTAMP:20260423T191716
CREATED:20230119T152014Z
LAST-MODIFIED:20240115T210344Z
UID:10000264-1753518600-1753524000@thomsonlodge.com
SUMMARY:LODGE OF INSTRUCTION
DESCRIPTION:Please join us for coffee\, donuts and study. We will practice and review the Work\, including Degrees and Business of the Lodge. \nThis is open to any Brother within the district. \n 
URL:https://thomsonlodge.com/event/masonic-instruction-degrees-ceremonies-and-business/2025-07-26/
LOCATION:Thomson Lodge No. 340\, 19 South Valley Road\, Paoli\, PA\, 19301\, United States
ATTACH;FMTTYPE=image/jpeg:https://thomsonlodge.com/wp-content/uploads/2023/01/Masonic-Instruction-3.jpg
END:VEVENT
BEGIN:VEVENT
DTSTART;TZID=America/New_York:20250719T083000
DTEND;TZID=America/New_York:20250719T100000
DTSTAMP:20260423T191716
CREATED:20230119T152014Z
LAST-MODIFIED:20240115T210344Z
UID:10000263-1752913800-1752919200@thomsonlodge.com
SUMMARY:LODGE OF INSTRUCTION
DESCRIPTION:Please join us for coffee\, donuts and study. We will practice and review the Work\, including Degrees and Business of the Lodge. \nThis is open to any Brother within the district. \n 
URL:https://thomsonlodge.com/event/masonic-instruction-degrees-ceremonies-and-business/2025-07-19/
LOCATION:Thomson Lodge No. 340\, 19 South Valley Road\, Paoli\, PA\, 19301\, United States
ATTACH;FMTTYPE=image/jpeg:https://thomsonlodge.com/wp-content/uploads/2023/01/Masonic-Instruction-3.jpg
END:VEVENT
BEGIN:VEVENT
DTSTART;TZID=America/New_York:20250712T083000
DTEND;TZID=America/New_York:20250712T100000
DTSTAMP:20260423T191716
CREATED:20230119T152014Z
LAST-MODIFIED:20240115T210344Z
UID:10000262-1752309000-1752314400@thomsonlodge.com
SUMMARY:LODGE OF INSTRUCTION
DESCRIPTION:Please join us for coffee\, donuts and study. We will practice and review the Work\, including Degrees and Business of the Lodge. \nThis is open to any Brother within the district. \n 
URL:https://thomsonlodge.com/event/masonic-instruction-degrees-ceremonies-and-business/2025-07-12/
LOCATION:Thomson Lodge No. 340\, 19 South Valley Road\, Paoli\, PA\, 19301\, United States
ATTACH;FMTTYPE=image/jpeg:https://thomsonlodge.com/wp-content/uploads/2023/01/Masonic-Instruction-3.jpg
END:VEVENT
END:VCALENDAR