BEGIN:VCALENDAR
VERSION:2.0
PRODID:-//Thomson Lodge No. 340 - ECPv6.15.20//NONSGML v1.0//EN
CALSCALE:GREGORIAN
METHOD:PUBLISH
X-ORIGINAL-URL:https://thomsonlodge.com
X-WR-CALDESC:Events for Thomson Lodge No. 340
REFRESH-INTERVAL;VALUE=DURATION:PT1H
X-Robots-Tag:noindex
X-PUBLISHED-TTL:PT1H
BEGIN:VTIMEZONE
TZID:America/New_York
BEGIN:DAYLIGHT
TZOFFSETFROM:-0500
TZOFFSETTO:-0400
TZNAME:EDT
DTSTART:20240310T070000
END:DAYLIGHT
BEGIN:STANDARD
TZOFFSETFROM:-0400
TZOFFSETTO:-0500
TZNAME:EST
DTSTART:20241103T060000
END:STANDARD
BEGIN:DAYLIGHT
TZOFFSETFROM:-0500
TZOFFSETTO:-0400
TZNAME:EDT
DTSTART:20250309T070000
END:DAYLIGHT
BEGIN:STANDARD
TZOFFSETFROM:-0400
TZOFFSETTO:-0500
TZNAME:EST
DTSTART:20251102T060000
END:STANDARD
BEGIN:DAYLIGHT
TZOFFSETFROM:-0500
TZOFFSETTO:-0400
TZNAME:EDT
DTSTART:20260308T070000
END:DAYLIGHT
BEGIN:STANDARD
TZOFFSETFROM:-0400
TZOFFSETTO:-0500
TZNAME:EST
DTSTART:20261101T060000
END:STANDARD
END:VTIMEZONE
BEGIN:VEVENT
DTSTART;TZID=America/New_York:20250903T190000
DTEND;TZID=America/New_York:20250903T203000
DTSTAMP:20260423T230951
CREATED:20240209T200901Z
LAST-MODIFIED:20240209T200901Z
UID:10000601-1756926000-1756931400@thomsonlodge.com
SUMMARY:ESOTERIC KNOWLEDGE DISCUSSION
DESCRIPTION:
URL:https://thomsonlodge.com/event/esoteric-knowledge-discussion-3/2025-09-03/
LOCATION:Thomson Lodge No. 340\, 19 South Valley Road\, Paoli\, PA\, 19301\, United States
ATTACH;FMTTYPE=image/jpeg:https://thomsonlodge.com/wp-content/uploads/2023/12/Esoteric-Discussion.jpg
END:VEVENT
BEGIN:VEVENT
DTSTART;TZID=America/New_York:20250830T083000
DTEND;TZID=America/New_York:20250830T100000
DTSTAMP:20260423T230951
CREATED:20230119T152014Z
LAST-MODIFIED:20240115T210344Z
UID:10000269-1756542600-1756548000@thomsonlodge.com
SUMMARY:LODGE OF INSTRUCTION
DESCRIPTION:Please join us for coffee\, donuts and study. We will practice and review the Work\, including Degrees and Business of the Lodge. \nThis is open to any Brother within the district. \n 
URL:https://thomsonlodge.com/event/masonic-instruction-degrees-ceremonies-and-business/2025-08-30/
LOCATION:Thomson Lodge No. 340\, 19 South Valley Road\, Paoli\, PA\, 19301\, United States
ATTACH;FMTTYPE=image/jpeg:https://thomsonlodge.com/wp-content/uploads/2023/01/Masonic-Instruction-3.jpg
END:VEVENT
BEGIN:VEVENT
DTSTART;TZID=America/New_York:20250823T083000
DTEND;TZID=America/New_York:20250823T100000
DTSTAMP:20260423T230951
CREATED:20230119T152014Z
LAST-MODIFIED:20240115T210344Z
UID:10000268-1755937800-1755943200@thomsonlodge.com
SUMMARY:LODGE OF INSTRUCTION
DESCRIPTION:Please join us for coffee\, donuts and study. We will practice and review the Work\, including Degrees and Business of the Lodge. \nThis is open to any Brother within the district. \n 
URL:https://thomsonlodge.com/event/masonic-instruction-degrees-ceremonies-and-business/2025-08-23/
LOCATION:Thomson Lodge No. 340\, 19 South Valley Road\, Paoli\, PA\, 19301\, United States
ATTACH;FMTTYPE=image/jpeg:https://thomsonlodge.com/wp-content/uploads/2023/01/Masonic-Instruction-3.jpg
END:VEVENT
BEGIN:VEVENT
DTSTART;TZID=America/New_York:20250816T083000
DTEND;TZID=America/New_York:20250816T100000
DTSTAMP:20260423T230951
CREATED:20230119T152014Z
LAST-MODIFIED:20240115T210344Z
UID:10000267-1755333000-1755338400@thomsonlodge.com
SUMMARY:LODGE OF INSTRUCTION
DESCRIPTION:Please join us for coffee\, donuts and study. We will practice and review the Work\, including Degrees and Business of the Lodge. \nThis is open to any Brother within the district. \n 
URL:https://thomsonlodge.com/event/masonic-instruction-degrees-ceremonies-and-business/2025-08-16/
LOCATION:Thomson Lodge No. 340\, 19 South Valley Road\, Paoli\, PA\, 19301\, United States
ATTACH;FMTTYPE=image/jpeg:https://thomsonlodge.com/wp-content/uploads/2023/01/Masonic-Instruction-3.jpg
END:VEVENT
BEGIN:VEVENT
DTSTART;TZID=America/New_York:20250809T083000
DTEND;TZID=America/New_York:20250809T100000
DTSTAMP:20260423T230951
CREATED:20230119T152014Z
LAST-MODIFIED:20240115T210344Z
UID:10000266-1754728200-1754733600@thomsonlodge.com
SUMMARY:LODGE OF INSTRUCTION
DESCRIPTION:Please join us for coffee\, donuts and study. We will practice and review the Work\, including Degrees and Business of the Lodge. \nThis is open to any Brother within the district. \n 
URL:https://thomsonlodge.com/event/masonic-instruction-degrees-ceremonies-and-business/2025-08-09/
LOCATION:Thomson Lodge No. 340\, 19 South Valley Road\, Paoli\, PA\, 19301\, United States
ATTACH;FMTTYPE=image/jpeg:https://thomsonlodge.com/wp-content/uploads/2023/01/Masonic-Instruction-3.jpg
END:VEVENT
BEGIN:VEVENT
DTSTART;TZID=America/New_York:20250806T190000
DTEND;TZID=America/New_York:20250806T203000
DTSTAMP:20260423T230951
CREATED:20240209T200901Z
LAST-MODIFIED:20240209T200901Z
UID:10000600-1754506800-1754512200@thomsonlodge.com
SUMMARY:ESOTERIC KNOWLEDGE DISCUSSION
DESCRIPTION:
URL:https://thomsonlodge.com/event/esoteric-knowledge-discussion-3/2025-08-06/
LOCATION:Thomson Lodge No. 340\, 19 South Valley Road\, Paoli\, PA\, 19301\, United States
ATTACH;FMTTYPE=image/jpeg:https://thomsonlodge.com/wp-content/uploads/2023/12/Esoteric-Discussion.jpg
END:VEVENT
BEGIN:VEVENT
DTSTART;TZID=America/New_York:20250802T083000
DTEND;TZID=America/New_York:20250802T100000
DTSTAMP:20260423T230951
CREATED:20230119T152014Z
LAST-MODIFIED:20240115T210344Z
UID:10000265-1754123400-1754128800@thomsonlodge.com
SUMMARY:LODGE OF INSTRUCTION
DESCRIPTION:Please join us for coffee\, donuts and study. We will practice and review the Work\, including Degrees and Business of the Lodge. \nThis is open to any Brother within the district. \n 
URL:https://thomsonlodge.com/event/masonic-instruction-degrees-ceremonies-and-business/2025-08-02/
LOCATION:Thomson Lodge No. 340\, 19 South Valley Road\, Paoli\, PA\, 19301\, United States
ATTACH;FMTTYPE=image/jpeg:https://thomsonlodge.com/wp-content/uploads/2023/01/Masonic-Instruction-3.jpg
END:VEVENT
BEGIN:VEVENT
DTSTART;TZID=America/New_York:20250726T083000
DTEND;TZID=America/New_York:20250726T100000
DTSTAMP:20260423T230951
CREATED:20230119T152014Z
LAST-MODIFIED:20240115T210344Z
UID:10000264-1753518600-1753524000@thomsonlodge.com
SUMMARY:LODGE OF INSTRUCTION
DESCRIPTION:Please join us for coffee\, donuts and study. We will practice and review the Work\, including Degrees and Business of the Lodge. \nThis is open to any Brother within the district. \n 
URL:https://thomsonlodge.com/event/masonic-instruction-degrees-ceremonies-and-business/2025-07-26/
LOCATION:Thomson Lodge No. 340\, 19 South Valley Road\, Paoli\, PA\, 19301\, United States
ATTACH;FMTTYPE=image/jpeg:https://thomsonlodge.com/wp-content/uploads/2023/01/Masonic-Instruction-3.jpg
END:VEVENT
BEGIN:VEVENT
DTSTART;TZID=America/New_York:20250719T083000
DTEND;TZID=America/New_York:20250719T100000
DTSTAMP:20260423T230951
CREATED:20230119T152014Z
LAST-MODIFIED:20240115T210344Z
UID:10000263-1752913800-1752919200@thomsonlodge.com
SUMMARY:LODGE OF INSTRUCTION
DESCRIPTION:Please join us for coffee\, donuts and study. We will practice and review the Work\, including Degrees and Business of the Lodge. \nThis is open to any Brother within the district. \n 
URL:https://thomsonlodge.com/event/masonic-instruction-degrees-ceremonies-and-business/2025-07-19/
LOCATION:Thomson Lodge No. 340\, 19 South Valley Road\, Paoli\, PA\, 19301\, United States
ATTACH;FMTTYPE=image/jpeg:https://thomsonlodge.com/wp-content/uploads/2023/01/Masonic-Instruction-3.jpg
END:VEVENT
BEGIN:VEVENT
DTSTART;TZID=America/New_York:20250712T083000
DTEND;TZID=America/New_York:20250712T100000
DTSTAMP:20260423T230951
CREATED:20230119T152014Z
LAST-MODIFIED:20240115T210344Z
UID:10000262-1752309000-1752314400@thomsonlodge.com
SUMMARY:LODGE OF INSTRUCTION
DESCRIPTION:Please join us for coffee\, donuts and study. We will practice and review the Work\, including Degrees and Business of the Lodge. \nThis is open to any Brother within the district. \n 
URL:https://thomsonlodge.com/event/masonic-instruction-degrees-ceremonies-and-business/2025-07-12/
LOCATION:Thomson Lodge No. 340\, 19 South Valley Road\, Paoli\, PA\, 19301\, United States
ATTACH;FMTTYPE=image/jpeg:https://thomsonlodge.com/wp-content/uploads/2023/01/Masonic-Instruction-3.jpg
END:VEVENT
BEGIN:VEVENT
DTSTART;TZID=America/New_York:20250705T083000
DTEND;TZID=America/New_York:20250705T100000
DTSTAMP:20260423T230951
CREATED:20230119T152014Z
LAST-MODIFIED:20240115T210344Z
UID:10000261-1751704200-1751709600@thomsonlodge.com
SUMMARY:LODGE OF INSTRUCTION
DESCRIPTION:Please join us for coffee\, donuts and study. We will practice and review the Work\, including Degrees and Business of the Lodge. \nThis is open to any Brother within the district. \n 
URL:https://thomsonlodge.com/event/masonic-instruction-degrees-ceremonies-and-business/2025-07-05/
LOCATION:Thomson Lodge No. 340\, 19 South Valley Road\, Paoli\, PA\, 19301\, United States
ATTACH;FMTTYPE=image/jpeg:https://thomsonlodge.com/wp-content/uploads/2023/01/Masonic-Instruction-3.jpg
END:VEVENT
BEGIN:VEVENT
DTSTART;TZID=America/New_York:20250702T190000
DTEND;TZID=America/New_York:20250702T203000
DTSTAMP:20260423T230951
CREATED:20240209T200901Z
LAST-MODIFIED:20240209T200901Z
UID:10000599-1751482800-1751488200@thomsonlodge.com
SUMMARY:ESOTERIC KNOWLEDGE DISCUSSION
DESCRIPTION:
URL:https://thomsonlodge.com/event/esoteric-knowledge-discussion-3/2025-07-02/
LOCATION:Thomson Lodge No. 340\, 19 South Valley Road\, Paoli\, PA\, 19301\, United States
ATTACH;FMTTYPE=image/jpeg:https://thomsonlodge.com/wp-content/uploads/2023/12/Esoteric-Discussion.jpg
END:VEVENT
BEGIN:VEVENT
DTSTART;TZID=America/New_York:20250628T083000
DTEND;TZID=America/New_York:20250628T100000
DTSTAMP:20260423T230951
CREATED:20230119T152014Z
LAST-MODIFIED:20240115T210344Z
UID:10000260-1751099400-1751104800@thomsonlodge.com
SUMMARY:LODGE OF INSTRUCTION
DESCRIPTION:Please join us for coffee\, donuts and study. We will practice and review the Work\, including Degrees and Business of the Lodge. \nThis is open to any Brother within the district. \n 
URL:https://thomsonlodge.com/event/masonic-instruction-degrees-ceremonies-and-business/2025-06-28/
LOCATION:Thomson Lodge No. 340\, 19 South Valley Road\, Paoli\, PA\, 19301\, United States
ATTACH;FMTTYPE=image/jpeg:https://thomsonlodge.com/wp-content/uploads/2023/01/Masonic-Instruction-3.jpg
END:VEVENT
BEGIN:VEVENT
DTSTART;TZID=America/New_York:20250621T083000
DTEND;TZID=America/New_York:20250621T100000
DTSTAMP:20260423T230951
CREATED:20230119T152014Z
LAST-MODIFIED:20240115T210344Z
UID:10000259-1750494600-1750500000@thomsonlodge.com
SUMMARY:LODGE OF INSTRUCTION
DESCRIPTION:Please join us for coffee\, donuts and study. We will practice and review the Work\, including Degrees and Business of the Lodge. \nThis is open to any Brother within the district. \n 
URL:https://thomsonlodge.com/event/masonic-instruction-degrees-ceremonies-and-business/2025-06-21/
LOCATION:Thomson Lodge No. 340\, 19 South Valley Road\, Paoli\, PA\, 19301\, United States
ATTACH;FMTTYPE=image/jpeg:https://thomsonlodge.com/wp-content/uploads/2023/01/Masonic-Instruction-3.jpg
END:VEVENT
BEGIN:VEVENT
DTSTART;TZID=America/New_York:20250614T083000
DTEND;TZID=America/New_York:20250614T100000
DTSTAMP:20260423T230951
CREATED:20230119T152014Z
LAST-MODIFIED:20240115T210344Z
UID:10000258-1749889800-1749895200@thomsonlodge.com
SUMMARY:LODGE OF INSTRUCTION
DESCRIPTION:Please join us for coffee\, donuts and study. We will practice and review the Work\, including Degrees and Business of the Lodge. \nThis is open to any Brother within the district. \n 
URL:https://thomsonlodge.com/event/masonic-instruction-degrees-ceremonies-and-business/2025-06-14/
LOCATION:Thomson Lodge No. 340\, 19 South Valley Road\, Paoli\, PA\, 19301\, United States
ATTACH;FMTTYPE=image/jpeg:https://thomsonlodge.com/wp-content/uploads/2023/01/Masonic-Instruction-3.jpg
END:VEVENT
BEGIN:VEVENT
DTSTART;TZID=America/New_York:20250607T083000
DTEND;TZID=America/New_York:20250607T100000
DTSTAMP:20260423T230951
CREATED:20230119T152014Z
LAST-MODIFIED:20240115T210344Z
UID:10000257-1749285000-1749290400@thomsonlodge.com
SUMMARY:LODGE OF INSTRUCTION
DESCRIPTION:Please join us for coffee\, donuts and study. We will practice and review the Work\, including Degrees and Business of the Lodge. \nThis is open to any Brother within the district. \n 
URL:https://thomsonlodge.com/event/masonic-instruction-degrees-ceremonies-and-business/2025-06-07/
LOCATION:Thomson Lodge No. 340\, 19 South Valley Road\, Paoli\, PA\, 19301\, United States
ATTACH;FMTTYPE=image/jpeg:https://thomsonlodge.com/wp-content/uploads/2023/01/Masonic-Instruction-3.jpg
END:VEVENT
BEGIN:VEVENT
DTSTART;TZID=America/New_York:20250604T190000
DTEND;TZID=America/New_York:20250604T203000
DTSTAMP:20260423T230951
CREATED:20240209T200901Z
LAST-MODIFIED:20240209T200901Z
UID:10000598-1749063600-1749069000@thomsonlodge.com
SUMMARY:ESOTERIC KNOWLEDGE DISCUSSION
DESCRIPTION:
URL:https://thomsonlodge.com/event/esoteric-knowledge-discussion-3/2025-06-04/
LOCATION:Thomson Lodge No. 340\, 19 South Valley Road\, Paoli\, PA\, 19301\, United States
ATTACH;FMTTYPE=image/jpeg:https://thomsonlodge.com/wp-content/uploads/2023/12/Esoteric-Discussion.jpg
END:VEVENT
BEGIN:VEVENT
DTSTART;TZID=America/New_York:20250531T083000
DTEND;TZID=America/New_York:20250531T100000
DTSTAMP:20260423T230951
CREATED:20230119T152014Z
LAST-MODIFIED:20240115T210344Z
UID:10000256-1748680200-1748685600@thomsonlodge.com
SUMMARY:LODGE OF INSTRUCTION
DESCRIPTION:Please join us for coffee\, donuts and study. We will practice and review the Work\, including Degrees and Business of the Lodge. \nThis is open to any Brother within the district. \n 
URL:https://thomsonlodge.com/event/masonic-instruction-degrees-ceremonies-and-business/2025-05-31/
LOCATION:Thomson Lodge No. 340\, 19 South Valley Road\, Paoli\, PA\, 19301\, United States
ATTACH;FMTTYPE=image/jpeg:https://thomsonlodge.com/wp-content/uploads/2023/01/Masonic-Instruction-3.jpg
END:VEVENT
BEGIN:VEVENT
DTSTART;TZID=America/New_York:20250524T083000
DTEND;TZID=America/New_York:20250524T100000
DTSTAMP:20260423T230951
CREATED:20230119T152014Z
LAST-MODIFIED:20240115T210344Z
UID:10000255-1748075400-1748080800@thomsonlodge.com
SUMMARY:LODGE OF INSTRUCTION
DESCRIPTION:Please join us for coffee\, donuts and study. We will practice and review the Work\, including Degrees and Business of the Lodge. \nThis is open to any Brother within the district. \n 
URL:https://thomsonlodge.com/event/masonic-instruction-degrees-ceremonies-and-business/2025-05-24/
LOCATION:Thomson Lodge No. 340\, 19 South Valley Road\, Paoli\, PA\, 19301\, United States
ATTACH;FMTTYPE=image/jpeg:https://thomsonlodge.com/wp-content/uploads/2023/01/Masonic-Instruction-3.jpg
END:VEVENT
BEGIN:VEVENT
DTSTART;TZID=America/New_York:20250517T083000
DTEND;TZID=America/New_York:20250517T100000
DTSTAMP:20260423T230951
CREATED:20230119T152014Z
LAST-MODIFIED:20240115T210344Z
UID:10000254-1747470600-1747476000@thomsonlodge.com
SUMMARY:LODGE OF INSTRUCTION
DESCRIPTION:Please join us for coffee\, donuts and study. We will practice and review the Work\, including Degrees and Business of the Lodge. \nThis is open to any Brother within the district. \n 
URL:https://thomsonlodge.com/event/masonic-instruction-degrees-ceremonies-and-business/2025-05-17/
LOCATION:Thomson Lodge No. 340\, 19 South Valley Road\, Paoli\, PA\, 19301\, United States
ATTACH;FMTTYPE=image/jpeg:https://thomsonlodge.com/wp-content/uploads/2023/01/Masonic-Instruction-3.jpg
END:VEVENT
BEGIN:VEVENT
DTSTART;TZID=America/New_York:20250510T083000
DTEND;TZID=America/New_York:20250510T100000
DTSTAMP:20260423T230951
CREATED:20230119T152014Z
LAST-MODIFIED:20240115T210344Z
UID:10000253-1746865800-1746871200@thomsonlodge.com
SUMMARY:LODGE OF INSTRUCTION
DESCRIPTION:Please join us for coffee\, donuts and study. We will practice and review the Work\, including Degrees and Business of the Lodge. \nThis is open to any Brother within the district. \n 
URL:https://thomsonlodge.com/event/masonic-instruction-degrees-ceremonies-and-business/2025-05-10/
LOCATION:Thomson Lodge No. 340\, 19 South Valley Road\, Paoli\, PA\, 19301\, United States
ATTACH;FMTTYPE=image/jpeg:https://thomsonlodge.com/wp-content/uploads/2023/01/Masonic-Instruction-3.jpg
END:VEVENT
BEGIN:VEVENT
DTSTART;TZID=America/New_York:20250507T190000
DTEND;TZID=America/New_York:20250507T203000
DTSTAMP:20260423T230951
CREATED:20240209T200901Z
LAST-MODIFIED:20240209T200901Z
UID:10000597-1746644400-1746649800@thomsonlodge.com
SUMMARY:ESOTERIC KNOWLEDGE DISCUSSION
DESCRIPTION:
URL:https://thomsonlodge.com/event/esoteric-knowledge-discussion-3/2025-05-07/
LOCATION:Thomson Lodge No. 340\, 19 South Valley Road\, Paoli\, PA\, 19301\, United States
ATTACH;FMTTYPE=image/jpeg:https://thomsonlodge.com/wp-content/uploads/2023/12/Esoteric-Discussion.jpg
END:VEVENT
BEGIN:VEVENT
DTSTART;TZID=America/New_York:20250503T083000
DTEND;TZID=America/New_York:20250503T100000
DTSTAMP:20260423T230951
CREATED:20230119T152014Z
LAST-MODIFIED:20240115T210344Z
UID:10000252-1746261000-1746266400@thomsonlodge.com
SUMMARY:LODGE OF INSTRUCTION
DESCRIPTION:Please join us for coffee\, donuts and study. We will practice and review the Work\, including Degrees and Business of the Lodge. \nThis is open to any Brother within the district. \n 
URL:https://thomsonlodge.com/event/masonic-instruction-degrees-ceremonies-and-business/2025-05-03/
LOCATION:Thomson Lodge No. 340\, 19 South Valley Road\, Paoli\, PA\, 19301\, United States
ATTACH;FMTTYPE=image/jpeg:https://thomsonlodge.com/wp-content/uploads/2023/01/Masonic-Instruction-3.jpg
END:VEVENT
BEGIN:VEVENT
DTSTART;TZID=America/New_York:20250426T083000
DTEND;TZID=America/New_York:20250426T100000
DTSTAMP:20260423T230951
CREATED:20230119T152014Z
LAST-MODIFIED:20240115T210344Z
UID:10000251-1745656200-1745661600@thomsonlodge.com
SUMMARY:LODGE OF INSTRUCTION
DESCRIPTION:Please join us for coffee\, donuts and study. We will practice and review the Work\, including Degrees and Business of the Lodge. \nThis is open to any Brother within the district. \n 
URL:https://thomsonlodge.com/event/masonic-instruction-degrees-ceremonies-and-business/2025-04-26/
LOCATION:Thomson Lodge No. 340\, 19 South Valley Road\, Paoli\, PA\, 19301\, United States
ATTACH;FMTTYPE=image/jpeg:https://thomsonlodge.com/wp-content/uploads/2023/01/Masonic-Instruction-3.jpg
END:VEVENT
BEGIN:VEVENT
DTSTART;TZID=America/New_York:20250419T083000
DTEND;TZID=America/New_York:20250419T100000
DTSTAMP:20260423T230951
CREATED:20230119T152014Z
LAST-MODIFIED:20240115T210344Z
UID:10000250-1745051400-1745056800@thomsonlodge.com
SUMMARY:LODGE OF INSTRUCTION
DESCRIPTION:Please join us for coffee\, donuts and study. We will practice and review the Work\, including Degrees and Business of the Lodge. \nThis is open to any Brother within the district. \n 
URL:https://thomsonlodge.com/event/masonic-instruction-degrees-ceremonies-and-business/2025-04-19/
LOCATION:Thomson Lodge No. 340\, 19 South Valley Road\, Paoli\, PA\, 19301\, United States
ATTACH;FMTTYPE=image/jpeg:https://thomsonlodge.com/wp-content/uploads/2023/01/Masonic-Instruction-3.jpg
END:VEVENT
BEGIN:VEVENT
DTSTART;TZID=America/New_York:20250412T083000
DTEND;TZID=America/New_York:20250412T100000
DTSTAMP:20260423T230951
CREATED:20230119T152014Z
LAST-MODIFIED:20240115T210344Z
UID:10000249-1744446600-1744452000@thomsonlodge.com
SUMMARY:LODGE OF INSTRUCTION
DESCRIPTION:Please join us for coffee\, donuts and study. We will practice and review the Work\, including Degrees and Business of the Lodge. \nThis is open to any Brother within the district. \n 
URL:https://thomsonlodge.com/event/masonic-instruction-degrees-ceremonies-and-business/2025-04-12/
LOCATION:Thomson Lodge No. 340\, 19 South Valley Road\, Paoli\, PA\, 19301\, United States
ATTACH;FMTTYPE=image/jpeg:https://thomsonlodge.com/wp-content/uploads/2023/01/Masonic-Instruction-3.jpg
END:VEVENT
BEGIN:VEVENT
DTSTART;TZID=America/New_York:20250405T083000
DTEND;TZID=America/New_York:20250405T100000
DTSTAMP:20260423T230951
CREATED:20230119T152014Z
LAST-MODIFIED:20240115T210344Z
UID:10000248-1743841800-1743847200@thomsonlodge.com
SUMMARY:LODGE OF INSTRUCTION
DESCRIPTION:Please join us for coffee\, donuts and study. We will practice and review the Work\, including Degrees and Business of the Lodge. \nThis is open to any Brother within the district. \n 
URL:https://thomsonlodge.com/event/masonic-instruction-degrees-ceremonies-and-business/2025-04-05/
LOCATION:Thomson Lodge No. 340\, 19 South Valley Road\, Paoli\, PA\, 19301\, United States
ATTACH;FMTTYPE=image/jpeg:https://thomsonlodge.com/wp-content/uploads/2023/01/Masonic-Instruction-3.jpg
END:VEVENT
BEGIN:VEVENT
DTSTART;TZID=America/New_York:20250402T190000
DTEND;TZID=America/New_York:20250402T203000
DTSTAMP:20260423T230951
CREATED:20240209T200901Z
LAST-MODIFIED:20240209T200901Z
UID:10000596-1743620400-1743625800@thomsonlodge.com
SUMMARY:ESOTERIC KNOWLEDGE DISCUSSION
DESCRIPTION:
URL:https://thomsonlodge.com/event/esoteric-knowledge-discussion-3/2025-04-02/
LOCATION:Thomson Lodge No. 340\, 19 South Valley Road\, Paoli\, PA\, 19301\, United States
ATTACH;FMTTYPE=image/jpeg:https://thomsonlodge.com/wp-content/uploads/2023/12/Esoteric-Discussion.jpg
END:VEVENT
BEGIN:VEVENT
DTSTART;TZID=America/New_York:20250329T083000
DTEND;TZID=America/New_York:20250329T100000
DTSTAMP:20260423T230951
CREATED:20230119T152014Z
LAST-MODIFIED:20240115T210344Z
UID:10000247-1743237000-1743242400@thomsonlodge.com
SUMMARY:LODGE OF INSTRUCTION
DESCRIPTION:Please join us for coffee\, donuts and study. We will practice and review the Work\, including Degrees and Business of the Lodge. \nThis is open to any Brother within the district. \n 
URL:https://thomsonlodge.com/event/masonic-instruction-degrees-ceremonies-and-business/2025-03-29/
LOCATION:Thomson Lodge No. 340\, 19 South Valley Road\, Paoli\, PA\, 19301\, United States
ATTACH;FMTTYPE=image/jpeg:https://thomsonlodge.com/wp-content/uploads/2023/01/Masonic-Instruction-3.jpg
END:VEVENT
BEGIN:VEVENT
DTSTART;TZID=America/New_York:20250322T083000
DTEND;TZID=America/New_York:20250322T100000
DTSTAMP:20260423T230951
CREATED:20230119T152014Z
LAST-MODIFIED:20240115T210344Z
UID:10000246-1742632200-1742637600@thomsonlodge.com
SUMMARY:LODGE OF INSTRUCTION
DESCRIPTION:Please join us for coffee\, donuts and study. We will practice and review the Work\, including Degrees and Business of the Lodge. \nThis is open to any Brother within the district. \n 
URL:https://thomsonlodge.com/event/masonic-instruction-degrees-ceremonies-and-business/2025-03-22/
LOCATION:Thomson Lodge No. 340\, 19 South Valley Road\, Paoli\, PA\, 19301\, United States
ATTACH;FMTTYPE=image/jpeg:https://thomsonlodge.com/wp-content/uploads/2023/01/Masonic-Instruction-3.jpg
END:VEVENT
END:VCALENDAR